BEGIN:VCALENDAR
VERSION:2.0
PRODID:-//spbstu.ru//ical//RU
NAME:Расписание группы 3331504/50002
X-WR-CALNAME:Расписание группы 3331504/50002
TIMEZONE-ID:Europe/Moscow
X-WR-TIMEZONE:Europe/Moscow
BEGIN:VEVENT
UID:rim5@192.168.245.71:3006
SEQUENCE:0
DTSTAMP:20260422T225114Z
DTSTART:20251103T050000Z
DTEND:20251103T064000Z
SUMMARY:Элективная физическая культура и спорт
LOCATION:СК Секции
END:VEVENT
BEGIN:VEVENT
UID:9vge@192.168.245.71:3006
SEQUENCE:0
DTSTAMP:20260422T225114Z
DTSTART:20251103T070000Z
DTEND:20251103T084000Z
SUMMARY:Основы цифровых технологий
LOCATION:1 к. 425
END:VEVENT
BEGIN:VEVENT
UID:sjsr@192.168.245.71:3006
SEQUENCE:0
DTSTAMP:20260422T225114Z
DTSTART:20251103T090000Z
DTEND:20251103T104000Z
SUMMARY:Высшая математика
LOCATION:ГЗ 232
END:VEVENT
BEGIN:VEVENT
UID:dzka@192.168.245.71:3006
SEQUENCE:0
DTSTAMP:20260422T225114Z
DTSTART:20251103T110000Z
DTEND:20251103T124000Z
SUMMARY:Основы российской государственности
LOCATION:ГЗ 224
END:VEVENT
BEGIN:VEVENT
UID:6wge@192.168.245.71:3006
SEQUENCE:0
DTSTAMP:20260422T225114Z
DTSTART:20251103T130000Z
DTEND:20251103T144000Z
SUMMARY:Иностранный язык: Русский язык как иностранный
LOCATION:1 к. 436
END:VEVENT
BEGIN:VEVENT
UID:z08m@192.168.245.71:3006
SEQUENCE:0
DTSTAMP:20260422T225114Z
DTSTART:20251103T150000Z
DTEND:20251103T171500Z
SUMMARY:Русский язык как иностранный
LOCATION:15 к. 330
END:VEVENT
BEGIN:VEVENT
UID:nsrz@192.168.245.71:3006
SEQUENCE:0
DTSTAMP:20260422T225114Z
DTSTART:20251105T090000Z
DTEND:20251105T104000Z
SUMMARY:Иностранный язык: Базовый курс
LOCATION:1 к. 413
END:VEVENT
BEGIN:VEVENT
UID:bbmt@192.168.245.71:3006
SEQUENCE:0
DTSTAMP:20260422T225114Z
DTSTART:20251105T150000Z
DTEND:20251105T164000Z
SUMMARY:Факультатив по физике повышенной сложности
LOCATION:ГЗ 232
END:VEVENT
BEGIN:VEVENT
UID:kw75@192.168.245.71:3006
SEQUENCE:0
DTSTAMP:20260422T225114Z
DTSTART:20251106T050000Z
DTEND:20251106T064000Z
SUMMARY:Инженерная графика
LOCATION:ГЗ 225
END:VEVENT
BEGIN:VEVENT
UID:pkx2@192.168.245.71:3006
SEQUENCE:0
DTSTAMP:20260422T225114Z
DTSTART:20251106T070000Z
DTEND:20251106T084000Z
SUMMARY:Элективная физическая культура и спорт
LOCATION:СК Секции
END:VEVENT
BEGIN:VEVENT
UID:fik3@192.168.245.71:3006
SEQUENCE:0
DTSTAMP:20260422T225114Z
DTSTART:20251106T090000Z
DTEND:20251106T104000Z
SUMMARY:Химия
LOCATION:Хим. к. 52
END:VEVENT
BEGIN:VEVENT
UID:ksvz@192.168.245.71:3006
SEQUENCE:0
DTSTAMP:20260422T225114Z
DTSTART:20251106T110000Z
DTEND:20251106T124000Z
SUMMARY:Высшая математика
LOCATION:1 к. 436
END:VEVENT
BEGIN:VEVENT
UID:wf84@192.168.245.71:3006
SEQUENCE:0
DTSTAMP:20260422T225114Z
DTSTART:20251106T150000Z
DTEND:20251106T170000Z
SUMMARY:Дополнительные занятия по физике
LOCATION:ГЗ 232
END:VEVENT
BEGIN:VEVENT
UID:gke9@192.168.245.71:3006
SEQUENCE:0
DTSTAMP:20260422T225114Z
DTSTART:20251107T070000Z
DTEND:20251107T084000Z
SUMMARY:Введение в профессиональную деятельность
LOCATION:1 к. 413
END:VEVENT
BEGIN:VEVENT
UID:0r17@192.168.245.71:3006
SEQUENCE:0
DTSTAMP:20260422T225114Z
DTSTART:20251107T090000Z
DTEND:20251107T104000Z
SUMMARY:Высшая математика
LOCATION:1 к. 435
END:VEVENT
BEGIN:VEVENT
UID:a3kc@192.168.245.71:3006
SEQUENCE:0
DTSTAMP:20260422T225114Z
DTSTART:20251107T110000Z
DTEND:20251107T124000Z
SUMMARY:Введение в профессиональную деятельность
LOCATION:ГЗ 232
END:VEVENT
BEGIN:VEVENT
UID:wiyo@192.168.245.71:3006
SEQUENCE:0
DTSTAMP:20260422T225114Z
DTSTART:20251107T130000Z
DTEND:20251107T144000Z
SUMMARY:Высшая математика повышенной сложности
LOCATION:ГЗ 221
END:VEVENT
BEGIN:VEVENT
UID:2p6c@192.168.245.71:3006
SEQUENCE:0
DTSTAMP:20260422T225114Z
DTSTART:20251107T150000Z
DTEND:20251107T164000Z
SUMMARY:Высшая математика повышенной сложности
LOCATION:ГЗ 221
END:VEVENT
BEGIN:VEVENT
UID:e4h6@192.168.245.71:3006
SEQUENCE:0
DTSTAMP:20260422T225114Z
DTSTART:20251108T110000Z
DTEND:20251108T124000Z
SUMMARY:Иностранный язык: Русский язык как иностранный
LOCATION:1 к. 436
END:VEVENT
END:VCALENDAR