BEGIN:VCALENDAR
VERSION:2.0
PRODID:-//spbstu.ru//ical//RU
NAME:Расписание группы 3331505/50002
X-WR-CALNAME:Расписание группы 3331505/50002
TIMEZONE-ID:Europe/Moscow
X-WR-TIMEZONE:Europe/Moscow
BEGIN:VEVENT
UID:2dh9@192.168.245.71:3006
SEQUENCE:0
DTSTAMP:20260423T155025Z
DTSTART:20251110T050000Z
DTEND:20251110T064000Z
SUMMARY:Элективная физическая культура и спорт
LOCATION:СК Секции
END:VEVENT
BEGIN:VEVENT
UID:brdi@192.168.245.71:3006
SEQUENCE:0
DTSTAMP:20260423T155025Z
DTSTART:20251110T070000Z
DTEND:20251110T084000Z
SUMMARY:Иностранный язык: Базовый курс
LOCATION:1 к. 417
END:VEVENT
BEGIN:VEVENT
UID:cwam@192.168.245.71:3006
SEQUENCE:0
DTSTAMP:20260423T155025Z
DTSTART:20251110T090000Z
DTEND:20251110T104000Z
SUMMARY:Основы российской государственности
LOCATION:ГЗ 284
END:VEVENT
BEGIN:VEVENT
UID:bfhb@192.168.245.71:3006
SEQUENCE:0
DTSTAMP:20260423T155025Z
DTSTART:20251111T060000Z
DTEND:20251111T065000Z
SUMMARY:Химия
LOCATION:Хим. к. 58
END:VEVENT
BEGIN:VEVENT
UID:l5rt@192.168.245.71:3006
SEQUENCE:0
DTSTAMP:20260423T155025Z
DTSTART:20251111T060000Z
DTEND:20251111T065000Z
SUMMARY:Химия
LOCATION:Хим. к. 58
END:VEVENT
BEGIN:VEVENT
UID:nu5f@192.168.245.71:3006
SEQUENCE:0
DTSTAMP:20260423T155025Z
DTSTART:20251111T070000Z
DTEND:20251111T084000Z
SUMMARY:Химия
LOCATION:Хим. к. 58
END:VEVENT
BEGIN:VEVENT
UID:g27c@192.168.245.71:3006
SEQUENCE:0
DTSTAMP:20260423T155025Z
DTSTART:20251111T090000Z
DTEND:20251111T104000Z
SUMMARY:Высшая математика
LOCATION:ГЗ 232
END:VEVENT
BEGIN:VEVENT
UID:fplj@192.168.245.71:3006
SEQUENCE:0
DTSTAMP:20260423T155025Z
DTSTART:20251111T110000Z
DTEND:20251111T124000Z
SUMMARY:Высшая математика
LOCATION:1 к. 436
END:VEVENT
BEGIN:VEVENT
UID:rjyc@192.168.245.71:3006
SEQUENCE:0
DTSTAMP:20260423T155025Z
DTSTART:20251112T070000Z
DTEND:20251112T084000Z
SUMMARY:Введение в профессиональную деятельность
LOCATION:ГЗ 232
END:VEVENT
BEGIN:VEVENT
UID:7dm5@192.168.245.71:3006
SEQUENCE:0
DTSTAMP:20260423T155025Z
DTSTART:20251112T090000Z
DTEND:20251112T104000Z
SUMMARY:Высшая математика
LOCATION:ГЗ 152
END:VEVENT
BEGIN:VEVENT
UID:3h64@192.168.245.71:3006
SEQUENCE:0
DTSTAMP:20260423T155025Z
DTSTART:20251112T150000Z
DTEND:20251112T164000Z
SUMMARY:Факультатив по физике повышенной сложности
LOCATION:ГЗ 232
END:VEVENT
BEGIN:VEVENT
UID:qedg@192.168.245.71:3006
SEQUENCE:0
DTSTAMP:20260423T155025Z
DTSTART:20251113T050000Z
DTEND:20251113T064000Z
SUMMARY:Инженерная графика
LOCATION:ГЗ 218
END:VEVENT
BEGIN:VEVENT
UID:qrqm@192.168.245.71:3006
SEQUENCE:0
DTSTAMP:20260423T155025Z
DTSTART:20251113T070000Z
DTEND:20251113T084000Z
SUMMARY:Элективная физическая культура и спорт
LOCATION:СК Секции
END:VEVENT
BEGIN:VEVENT
UID:eman@192.168.245.71:3006
SEQUENCE:0
DTSTAMP:20260423T155025Z
DTSTART:20251113T090000Z
DTEND:20251113T104000Z
SUMMARY:История России
LOCATION:1 к. 41
END:VEVENT
BEGIN:VEVENT
UID:joat@192.168.245.71:3006
SEQUENCE:0
DTSTAMP:20260423T155025Z
DTSTART:20251113T150000Z
DTEND:20251113T170000Z
SUMMARY:Дополнительные занятия по физике
LOCATION:ГЗ 232
END:VEVENT
BEGIN:VEVENT
UID:qwbj@192.168.245.71:3006
SEQUENCE:0
DTSTAMP:20260423T155025Z
DTSTART:20251114T070000Z
DTEND:20251114T084000Z
SUMMARY:Основы цифровых технологий
LOCATION:1 к. 437
END:VEVENT
BEGIN:VEVENT
UID:rfyj@192.168.245.71:3006
SEQUENCE:0
DTSTAMP:20260423T155025Z
DTSTART:20251114T130000Z
DTEND:20251114T144000Z
SUMMARY:Высшая математика повышенной сложности
LOCATION:ГЗ 221
END:VEVENT
BEGIN:VEVENT
UID:yw1e@192.168.245.71:3006
SEQUENCE:0
DTSTAMP:20260423T155025Z
DTSTART:20251115T070000Z
DTEND:20251115T084000Z
SUMMARY:История России
LOCATION:ГЗ 232
END:VEVENT
BEGIN:VEVENT
UID:pjkj@192.168.245.71:3006
SEQUENCE:0
DTSTAMP:20260423T155025Z
DTSTART:20251115T090000Z
DTEND:20251115T104000Z
SUMMARY:Химия
LOCATION:Хим. к. 52
END:VEVENT
END:VCALENDAR