BEGIN:VCALENDAR
VERSION:2.0
PRODID:-//spbstu.ru//ical//RU
NAME:Расписание группы 3331505/50002
X-WR-CALNAME:Расписание группы 3331505/50002
TIMEZONE-ID:Europe/Moscow
X-WR-TIMEZONE:Europe/Moscow
BEGIN:VEVENT
UID:24zi@192.168.245.71:3006
SEQUENCE:0
DTSTAMP:20260423T061043Z
DTSTART:20251117T050000Z
DTEND:20251117T064000Z
SUMMARY:Элективная физическая культура и спорт
LOCATION:СК Секции
END:VEVENT
BEGIN:VEVENT
UID:iemd@192.168.245.71:3006
SEQUENCE:0
DTSTAMP:20260423T061043Z
DTSTART:20251117T070000Z
DTEND:20251117T084000Z
SUMMARY:Иностранный язык: Базовый курс
LOCATION:1 к. 417
END:VEVENT
BEGIN:VEVENT
UID:kfby@192.168.245.71:3006
SEQUENCE:0
DTSTAMP:20260423T061043Z
DTSTART:20251117T090000Z
DTEND:20251117T104000Z
SUMMARY:Основы российской государственности
LOCATION:ГЗ 284
END:VEVENT
BEGIN:VEVENT
UID:xfl7@192.168.245.71:3006
SEQUENCE:0
DTSTAMP:20260423T061043Z
DTSTART:20251117T110000Z
DTEND:20251117T124000Z
SUMMARY:Введение в профессиональную деятельность
LOCATION:1 к. 412
END:VEVENT
BEGIN:VEVENT
UID:xofg@192.168.245.71:3006
SEQUENCE:0
DTSTAMP:20260423T061043Z
DTSTART:20251118T060000Z
DTEND:20251118T065000Z
SUMMARY:Химия
LOCATION:Хим. к. 58
END:VEVENT
BEGIN:VEVENT
UID:o4zm@192.168.245.71:3006
SEQUENCE:0
DTSTAMP:20260423T061043Z
DTSTART:20251118T060000Z
DTEND:20251118T065000Z
SUMMARY:Химия
LOCATION:Хим. к. 58
END:VEVENT
BEGIN:VEVENT
UID:c6s5@192.168.245.71:3006
SEQUENCE:0
DTSTAMP:20260423T061043Z
DTSTART:20251118T070000Z
DTEND:20251118T084000Z
SUMMARY:Химия
LOCATION:Хим. к. 58
END:VEVENT
BEGIN:VEVENT
UID:qaul@192.168.245.71:3006
SEQUENCE:0
DTSTAMP:20260423T061043Z
DTSTART:20251118T090000Z
DTEND:20251118T104000Z
SUMMARY:Высшая математика
LOCATION:ГЗ 232
END:VEVENT
BEGIN:VEVENT
UID:6hvl@192.168.245.71:3006
SEQUENCE:0
DTSTAMP:20260423T061043Z
DTSTART:20251118T130000Z
DTEND:20251118T144000Z
SUMMARY:Творческие семестры
LOCATION:ГЗ Белый зал
END:VEVENT
BEGIN:VEVENT
UID:kooi@192.168.245.71:3006
SEQUENCE:0
DTSTAMP:20260423T061043Z
DTSTART:20251119T070000Z
DTEND:20251119T084000Z
SUMMARY:Введение в профессиональную деятельность
LOCATION:ГЗ 232
END:VEVENT
BEGIN:VEVENT
UID:fvxh@192.168.245.71:3006
SEQUENCE:0
DTSTAMP:20260423T061043Z
DTSTART:20251119T090000Z
DTEND:20251119T104000Z
SUMMARY:Высшая математика
LOCATION:ГЗ 152
END:VEVENT
BEGIN:VEVENT
UID:0w7p@192.168.245.71:3006
SEQUENCE:0
DTSTAMP:20260423T061043Z
DTSTART:20251119T150000Z
DTEND:20251119T164000Z
SUMMARY:Факультатив по физике повышенной сложности
LOCATION:ГЗ 232
END:VEVENT
BEGIN:VEVENT
UID:1ql6@192.168.245.71:3006
SEQUENCE:0
DTSTAMP:20260423T061043Z
DTSTART:20251120T050000Z
DTEND:20251120T064000Z
SUMMARY:Инженерная графика
LOCATION:ГЗ 218
END:VEVENT
BEGIN:VEVENT
UID:7egv@192.168.245.71:3006
SEQUENCE:0
DTSTAMP:20260423T061043Z
DTSTART:20251120T070000Z
DTEND:20251120T084000Z
SUMMARY:Элективная физическая культура и спорт
LOCATION:СК Секции
END:VEVENT
BEGIN:VEVENT
UID:vwbw@192.168.245.71:3006
SEQUENCE:0
DTSTAMP:20260423T061043Z
DTSTART:20251120T090000Z
DTEND:20251120T104000Z
SUMMARY:История России
LOCATION:1 к. 41
END:VEVENT
BEGIN:VEVENT
UID:sttn@192.168.245.71:3006
SEQUENCE:0
DTSTAMP:20260423T061043Z
DTSTART:20251120T110000Z
DTEND:20251120T124000Z
SUMMARY:Высшая математика
LOCATION:ГЗ 232
END:VEVENT
BEGIN:VEVENT
UID:x7zb@192.168.245.71:3006
SEQUENCE:0
DTSTAMP:20260423T061043Z
DTSTART:20251120T150000Z
DTEND:20251120T170000Z
SUMMARY:Дополнительные занятия по физике
LOCATION:ГЗ 232
END:VEVENT
BEGIN:VEVENT
UID:xk5s@192.168.245.71:3006
SEQUENCE:0
DTSTAMP:20260423T061043Z
DTSTART:20251121T070000Z
DTEND:20251121T084000Z
SUMMARY:Основы цифровых технологий
LOCATION:1 к. 437
END:VEVENT
BEGIN:VEVENT
UID:pze0@192.168.245.71:3006
SEQUENCE:0
DTSTAMP:20260423T061043Z
DTSTART:20251121T130000Z
DTEND:20251121T144000Z
SUMMARY:Высшая математика повышенной сложности
LOCATION:ГЗ 221
END:VEVENT
BEGIN:VEVENT
UID:mm2z@192.168.245.71:3006
SEQUENCE:0
DTSTAMP:20260423T061043Z
DTSTART:20251121T150000Z
DTEND:20251121T164000Z
SUMMARY:Высшая математика повышенной сложности
LOCATION:ГЗ 221
END:VEVENT
BEGIN:VEVENT
UID:9i33@192.168.245.71:3006
SEQUENCE:0
DTSTAMP:20260423T061043Z
DTSTART:20251122T070000Z
DTEND:20251122T084000Z
SUMMARY:Основы российской государственности
LOCATION:1 к. 41
END:VEVENT
BEGIN:VEVENT
UID:9q3q@192.168.245.71:3006
SEQUENCE:0
DTSTAMP:20260423T061043Z
DTSTART:20251122T090000Z
DTEND:20251122T104000Z
SUMMARY:Химия
LOCATION:Хим. к. 52
END:VEVENT
END:VCALENDAR