BEGIN:VCALENDAR
VERSION:2.0
PRODID:-//spbstu.ru//ical//RU
NAME:Расписание группы 3331505/50002
X-WR-CALNAME:Расписание группы 3331505/50002
TIMEZONE-ID:Europe/Moscow
X-WR-TIMEZONE:Europe/Moscow
BEGIN:VEVENT
UID:x65t@192.168.245.71:3006
SEQUENCE:0
DTSTAMP:20260422T032538Z
DTSTART:20260119T110000Z
DTEND:20260119T114500Z
SUMMARY:Введение в профессиональную деятельность
LOCATION:1 к. 41
END:VEVENT
BEGIN:VEVENT
UID:3br0@192.168.245.71:3006
SEQUENCE:0
DTSTAMP:20260422T032538Z
DTSTART:20260120T070000Z
DTEND:20260120T110000Z
SUMMARY:Введение в профессиональную деятельность
LOCATION:1 к. 41
END:VEVENT
BEGIN:VEVENT
UID:j9tg@192.168.245.71:3006
SEQUENCE:0
DTSTAMP:20260422T032538Z
DTSTART:20260120T130000Z
DTEND:20260120T150000Z
SUMMARY:Творческие семестры
LOCATION:DL Дистанционно
END:VEVENT
BEGIN:VEVENT
UID:a57q@192.168.245.71:3006
SEQUENCE:0
DTSTAMP:20260422T032538Z
DTSTART:20260122T110000Z
DTEND:20260122T120000Z
SUMMARY:Химия
LOCATION:Хим. к. 52
END:VEVENT
BEGIN:VEVENT
UID:gur7@192.168.245.71:3006
SEQUENCE:0
DTSTAMP:20260422T032538Z
DTSTART:20260124T100000Z
DTEND:20260124T120000Z
SUMMARY:Химия
LOCATION:Хим. к. 52
END:VEVENT
END:VCALENDAR