BEGIN:VCALENDAR
VERSION:2.0
PRODID:-//spbstu.ru//ical//RU
NAME:Расписание группы 3331505/50002
X-WR-CALNAME:Расписание группы 3331505/50002
TIMEZONE-ID:Europe/Moscow
X-WR-TIMEZONE:Europe/Moscow
BEGIN:VEVENT
UID:66nj@192.168.245.71:3006
SEQUENCE:0
DTSTAMP:20260420T153911Z
DTSTART:20260420T050000Z
DTEND:20260420T064000Z
SUMMARY:Элективная физическая культура и спорт
LOCATION:СК Секции
END:VEVENT
BEGIN:VEVENT
UID:bi0u@192.168.245.71:3006
SEQUENCE:0
DTSTAMP:20260420T153911Z
DTSTART:20260420T070000Z
DTEND:20260420T084000Z
SUMMARY:Информатика
LOCATION:ГЗ 232
END:VEVENT
BEGIN:VEVENT
UID:i5ag@192.168.245.71:3006
SEQUENCE:0
DTSTAMP:20260420T153911Z
DTSTART:20260420T090000Z
DTEND:20260420T104000Z
SUMMARY:Теоретическая механика
LOCATION:ГЗ 232
END:VEVENT
BEGIN:VEVENT
UID:19ep@192.168.245.71:3006
SEQUENCE:0
DTSTAMP:20260420T153911Z
DTSTART:20260420T110000Z
DTEND:20260420T124000Z
SUMMARY:История России
LOCATION:ГЗ 284
END:VEVENT
BEGIN:VEVENT
UID:bivt@192.168.245.71:3006
SEQUENCE:0
DTSTAMP:20260420T153911Z
DTSTART:20260421T070000Z
DTEND:20260421T084000Z
SUMMARY:Физика (доп.)
LOCATION:1 к. 425
END:VEVENT
BEGIN:VEVENT
UID:ge5x@192.168.245.71:3006
SEQUENCE:0
DTSTAMP:20260420T153911Z
DTSTART:20260421T070000Z
DTEND:20260421T084000Z
SUMMARY:Информатика
LOCATION:1 к. 438
END:VEVENT
BEGIN:VEVENT
UID:127s@192.168.245.71:3006
SEQUENCE:0
DTSTAMP:20260420T153911Z
DTSTART:20260421T090000Z
DTEND:20260421T104000Z
SUMMARY:Высшая математика
LOCATION:ГЗ 232
END:VEVENT
BEGIN:VEVENT
UID:tbsy@192.168.245.71:3006
SEQUENCE:0
DTSTAMP:20260420T153911Z
DTSTART:20260421T110000Z
DTEND:20260421T124000Z
SUMMARY:Физика
LOCATION:ГЗ 155
END:VEVENT
BEGIN:VEVENT
UID:4ut2@192.168.245.71:3006
SEQUENCE:0
DTSTAMP:20260420T153911Z
DTSTART:20260421T110000Z
DTEND:20260421T124000Z
SUMMARY:Физика
LOCATION:ГЗ 155
END:VEVENT
BEGIN:VEVENT
UID:r1jd@192.168.245.71:3006
SEQUENCE:0
DTSTAMP:20260420T153911Z
DTSTART:20260422T070000Z
DTEND:20260422T084000Z
SUMMARY:Введение в механику машин
LOCATION:ГЗ 232
END:VEVENT
BEGIN:VEVENT
UID:994k@192.168.245.71:3006
SEQUENCE:0
DTSTAMP:20260420T153911Z
DTSTART:20260422T090000Z
DTEND:20260422T104000Z
SUMMARY:Теоретическая механика
LOCATION:1 к. 420
END:VEVENT
BEGIN:VEVENT
UID:zwfh@192.168.245.71:3006
SEQUENCE:0
DTSTAMP:20260420T153911Z
DTSTART:20260422T110000Z
DTEND:20260422T133000Z
SUMMARY:Физика (доп.)
LOCATION:1 к. 413
END:VEVENT
BEGIN:VEVENT
UID:lrhj@192.168.245.71:3006
SEQUENCE:0
DTSTAMP:20260420T153911Z
DTSTART:20260422T110000Z
DTEND:20260422T124000Z
SUMMARY:Введение в механику машин
LOCATION:Мех. к. каф.Т ММ
END:VEVENT
BEGIN:VEVENT
UID:00cm@192.168.245.71:3006
SEQUENCE:0
DTSTAMP:20260420T153911Z
DTSTART:20260422T133000Z
DTEND:20260422T151000Z
SUMMARY:Физика (доп.)
LOCATION:1 к. 413
END:VEVENT
BEGIN:VEVENT
UID:wpiw@192.168.245.71:3006
SEQUENCE:0
DTSTAMP:20260420T153911Z
DTSTART:20260423T050000Z
DTEND:20260423T064000Z
SUMMARY:Высшая математика повышенной сложности
LOCATION:1 к. 41
END:VEVENT
BEGIN:VEVENT
UID:acnu@192.168.245.71:3006
SEQUENCE:0
DTSTAMP:20260420T153911Z
DTSTART:20260423T070000Z
DTEND:20260423T084000Z
SUMMARY:Элективная физическая культура и спорт
LOCATION:СК Секции
END:VEVENT
BEGIN:VEVENT
UID:erdh@192.168.245.71:3006
SEQUENCE:0
DTSTAMP:20260420T153911Z
DTSTART:20260423T090000Z
DTEND:20260423T104000Z
SUMMARY:Физика
LOCATION:ГЗ 215
END:VEVENT
BEGIN:VEVENT
UID:2rx4@192.168.245.71:3006
SEQUENCE:0
DTSTAMP:20260420T153911Z
DTSTART:20260424T070000Z
DTEND:20260424T084000Z
SUMMARY:Физика
LOCATION:1 к. 41
END:VEVENT
BEGIN:VEVENT
UID:qd81@192.168.245.71:3006
SEQUENCE:0
DTSTAMP:20260420T153911Z
DTSTART:20260424T090000Z
DTEND:20260424T104000Z
SUMMARY:Инженерная графика
LOCATION:ГЗ 303 (6)
END:VEVENT
BEGIN:VEVENT
UID:ke2u@192.168.245.71:3006
SEQUENCE:0
DTSTAMP:20260420T153911Z
DTSTART:20260424T110000Z
DTEND:20260424T124000Z
SUMMARY:Высшая математика
LOCATION:1 к. 420
END:VEVENT
BEGIN:VEVENT
UID:58q3@192.168.245.71:3006
SEQUENCE:0
DTSTAMP:20260420T153911Z
DTSTART:20260424T130000Z
DTEND:20260424T144000Z
SUMMARY:Информатика
LOCATION:ГЗ 328
END:VEVENT
BEGIN:VEVENT
UID:z29c@192.168.245.71:3006
SEQUENCE:0
DTSTAMP:20260420T153911Z
DTSTART:20260424T150000Z
DTEND:20260424T164000Z
SUMMARY:Высшая математика повышенной сложности
LOCATION:1 к. 41
END:VEVENT
BEGIN:VEVENT
UID:36en@192.168.245.71:3006
SEQUENCE:0
DTSTAMP:20260420T153911Z
DTSTART:20260425T070000Z
DTEND:20260425T084000Z
SUMMARY:Экономическая культура
LOCATION:1 к. 425
END:VEVENT
BEGIN:VEVENT
UID:9mqt@192.168.245.71:3006
SEQUENCE:0
DTSTAMP:20260420T153911Z
DTSTART:20260425T090000Z
DTEND:20260425T104000Z
SUMMARY:Иностранный язык: Базовый курс
LOCATION:1 к. 417
END:VEVENT
BEGIN:VEVENT
UID:x6yu@192.168.245.71:3006
SEQUENCE:0
DTSTAMP:20260420T153911Z
DTSTART:20260425T110000Z
DTEND:20260425T124000Z
SUMMARY:Физика
LOCATION:1 к. 420
END:VEVENT
END:VCALENDAR