BEGIN:VCALENDAR
VERSION:2.0
PRODID:-//spbstu.ru//ical//RU
NAME:Расписание группы 3331505/50002
X-WR-CALNAME:Расписание группы 3331505/50002
TIMEZONE-ID:Europe/Moscow
X-WR-TIMEZONE:Europe/Moscow
BEGIN:VEVENT
UID:iiy4@192.168.245.71:3006
SEQUENCE:0
DTSTAMP:20260420T204032Z
DTSTART:20260406T050000Z
DTEND:20260406T064000Z
SUMMARY:Элективная физическая культура и спорт
LOCATION:СК Секции
END:VEVENT
BEGIN:VEVENT
UID:r91y@192.168.245.71:3006
SEQUENCE:0
DTSTAMP:20260420T204032Z
DTSTART:20260406T070000Z
DTEND:20260406T084000Z
SUMMARY:Информатика
LOCATION:ГЗ 232
END:VEVENT
BEGIN:VEVENT
UID:bdiq@192.168.245.71:3006
SEQUENCE:0
DTSTAMP:20260420T204032Z
DTSTART:20260406T090000Z
DTEND:20260406T104000Z
SUMMARY:Теоретическая механика
LOCATION:ГЗ 232
END:VEVENT
BEGIN:VEVENT
UID:3fnl@192.168.245.71:3006
SEQUENCE:0
DTSTAMP:20260420T204032Z
DTSTART:20260406T110000Z
DTEND:20260406T124000Z
SUMMARY:История России
LOCATION:ГЗ 284
END:VEVENT
BEGIN:VEVENT
UID:am47@192.168.245.71:3006
SEQUENCE:0
DTSTAMP:20260420T204032Z
DTSTART:20260407T070000Z
DTEND:20260407T084000Z
SUMMARY:Информатика
LOCATION:1 к. 438
END:VEVENT
BEGIN:VEVENT
UID:glkb@192.168.245.71:3006
SEQUENCE:0
DTSTAMP:20260420T204032Z
DTSTART:20260407T070000Z
DTEND:20260407T084000Z
SUMMARY:Физика (доп.)
LOCATION:1 к. 425
END:VEVENT
BEGIN:VEVENT
UID:aw40@192.168.245.71:3006
SEQUENCE:0
DTSTAMP:20260420T204032Z
DTSTART:20260407T090000Z
DTEND:20260407T104000Z
SUMMARY:Высшая математика
LOCATION:ГЗ 232
END:VEVENT
BEGIN:VEVENT
UID:nbos@192.168.245.71:3006
SEQUENCE:0
DTSTAMP:20260420T204032Z
DTSTART:20260407T100000Z
DTEND:20260407T110000Z
SUMMARY:Введение в профессиональную деятельность
LOCATION:1 к. 412
END:VEVENT
BEGIN:VEVENT
UID:828s@192.168.245.71:3006
SEQUENCE:0
DTSTAMP:20260420T204032Z
DTSTART:20260407T110000Z
DTEND:20260407T124000Z
SUMMARY:Физика
LOCATION:ГЗ 155
END:VEVENT
BEGIN:VEVENT
UID:h7xa@192.168.245.71:3006
SEQUENCE:0
DTSTAMP:20260420T204032Z
DTSTART:20260407T110000Z
DTEND:20260407T124000Z
SUMMARY:Физика
LOCATION:ГЗ 155
END:VEVENT
BEGIN:VEVENT
UID:mrtq@192.168.245.71:3006
SEQUENCE:0
DTSTAMP:20260420T204032Z
DTSTART:20260407T140000Z
DTEND:20260407T160000Z
SUMMARY:Высшая математика
LOCATION:1 к. 41
END:VEVENT
BEGIN:VEVENT
UID:1za3@192.168.245.71:3006
SEQUENCE:0
DTSTAMP:20260420T204032Z
DTSTART:20260408T070000Z
DTEND:20260408T084000Z
SUMMARY:Введение в механику машин
LOCATION:ГЗ 232
END:VEVENT
BEGIN:VEVENT
UID:22ko@192.168.245.71:3006
SEQUENCE:0
DTSTAMP:20260420T204032Z
DTSTART:20260408T090000Z
DTEND:20260408T104000Z
SUMMARY:Теоретическая механика
LOCATION:1 к. 420
END:VEVENT
BEGIN:VEVENT
UID:gk9n@192.168.245.71:3006
SEQUENCE:0
DTSTAMP:20260420T204032Z
DTSTART:20260408T110000Z
DTEND:20260408T133000Z
SUMMARY:Физика (доп.)
LOCATION:1 к. 413
END:VEVENT
BEGIN:VEVENT
UID:4291@192.168.245.71:3006
SEQUENCE:0
DTSTAMP:20260420T204032Z
DTSTART:20260408T110000Z
DTEND:20260408T124000Z
SUMMARY:Введение в механику машин
LOCATION:Мех. к. каф.Т ММ
END:VEVENT
BEGIN:VEVENT
UID:13rj@192.168.245.71:3006
SEQUENCE:0
DTSTAMP:20260420T204032Z
DTSTART:20260408T130000Z
DTEND:20260408T150000Z
SUMMARY:Основы цифровых технологий
LOCATION:1 к. 437
END:VEVENT
BEGIN:VEVENT
UID:gtrj@192.168.245.71:3006
SEQUENCE:0
DTSTAMP:20260420T204032Z
DTSTART:20260408T133000Z
DTEND:20260408T151000Z
SUMMARY:Физика (доп.)
LOCATION:1 к. 413
END:VEVENT
BEGIN:VEVENT
UID:xva4@192.168.245.71:3006
SEQUENCE:0
DTSTAMP:20260420T204032Z
DTSTART:20260408T153000Z
DTEND:20260408T170000Z
SUMMARY:Факультатив по основам методологии научных исследований
LOCATION:1 к. 413
END:VEVENT
BEGIN:VEVENT
UID:akpv@192.168.245.71:3006
SEQUENCE:0
DTSTAMP:20260420T204032Z
DTSTART:20260409T050000Z
DTEND:20260409T064000Z
SUMMARY:Высшая математика повышенной сложности
LOCATION:1 к. 41
END:VEVENT
BEGIN:VEVENT
UID:6g5n@192.168.245.71:3006
SEQUENCE:0
DTSTAMP:20260420T204032Z
DTSTART:20260409T070000Z
DTEND:20260409T090000Z
SUMMARY:Элективная физическая культура и спорт
LOCATION:СК Секции
END:VEVENT
BEGIN:VEVENT
UID:70vd@192.168.245.71:3006
SEQUENCE:0
DTSTAMP:20260420T204032Z
DTSTART:20260409T070000Z
DTEND:20260409T084000Z
SUMMARY:Элективная физическая культура и спорт
LOCATION:СК Секции
END:VEVENT
BEGIN:VEVENT
UID:dc8p@192.168.245.71:3006
SEQUENCE:0
DTSTAMP:20260420T204032Z
DTSTART:20260409T090000Z
DTEND:20260409T104000Z
SUMMARY:Физика
LOCATION:ГЗ 215
END:VEVENT
BEGIN:VEVENT
UID:0gmz@192.168.245.71:3006
SEQUENCE:0
DTSTAMP:20260420T204032Z
DTSTART:20260409T110000Z
DTEND:20260409T124000Z
SUMMARY:Философия
LOCATION:1 к. 418
END:VEVENT
BEGIN:VEVENT
UID:le28@192.168.245.71:3006
SEQUENCE:0
DTSTAMP:20260420T204032Z
DTSTART:20260410T070000Z
DTEND:20260410T084000Z
SUMMARY:Физика
LOCATION:1 к. 41
END:VEVENT
BEGIN:VEVENT
UID:ek3i@192.168.245.71:3006
SEQUENCE:0
DTSTAMP:20260420T204032Z
DTSTART:20260410T090000Z
DTEND:20260410T104000Z
SUMMARY:Инженерная графика
LOCATION:ГЗ 303 (6)
END:VEVENT
BEGIN:VEVENT
UID:jztm@192.168.245.71:3006
SEQUENCE:0
DTSTAMP:20260420T204032Z
DTSTART:20260410T110000Z
DTEND:20260410T124000Z
SUMMARY:Высшая математика
LOCATION:1 к. 420
END:VEVENT
BEGIN:VEVENT
UID:0sqd@192.168.245.71:3006
SEQUENCE:0
DTSTAMP:20260420T204032Z
DTSTART:20260410T130000Z
DTEND:20260410T144000Z
SUMMARY:Информатика
LOCATION:ГЗ 328
END:VEVENT
BEGIN:VEVENT
UID:097a@192.168.245.71:3006
SEQUENCE:0
DTSTAMP:20260420T204032Z
DTSTART:20260410T150000Z
DTEND:20260410T164000Z
SUMMARY:Высшая математика повышенной сложности
LOCATION:1 к. 41
END:VEVENT
BEGIN:VEVENT
UID:nqfk@192.168.245.71:3006
SEQUENCE:0
DTSTAMP:20260420T204032Z
DTSTART:20260411T070000Z
DTEND:20260411T084000Z
SUMMARY:Экономическая культура
LOCATION:1 к. 425
END:VEVENT
BEGIN:VEVENT
UID:v5ht@192.168.245.71:3006
SEQUENCE:0
DTSTAMP:20260420T204032Z
DTSTART:20260411T090000Z
DTEND:20260411T104000Z
SUMMARY:Иностранный язык: Базовый курс
LOCATION:1 к. 417
END:VEVENT
BEGIN:VEVENT
UID:ka1z@192.168.245.71:3006
SEQUENCE:0
DTSTAMP:20260420T204032Z
DTSTART:20260411T110000Z
DTEND:20260411T124000Z
SUMMARY:Физика
LOCATION:1 к. 420
END:VEVENT
END:VCALENDAR