BEGIN:VCALENDAR
VERSION:2.0
PRODID:-//spbstu.ru//ical//RU
NAME:Расписание группы 3331505/50002
X-WR-CALNAME:Расписание группы 3331505/50002
TIMEZONE-ID:Europe/Moscow
X-WR-TIMEZONE:Europe/Moscow
BEGIN:VEVENT
UID:3nyi@192.168.245.71:3006
SEQUENCE:0
DTSTAMP:20260421T053747Z
DTSTART:20260609T150000Z
DTEND:20260609T154500Z
SUMMARY:Высшая математика повышенной сложности
LOCATION:1 к. 413
END:VEVENT
BEGIN:VEVENT
UID:kw2m@192.168.245.71:3006
SEQUENCE:0
DTSTAMP:20260421T053747Z
DTSTART:20260610T070000Z
DTEND:20260610T110000Z
SUMMARY:Высшая математика повышенной сложности
LOCATION:1 к. 413
END:VEVENT
END:VCALENDAR