BEGIN:VCALENDAR
VERSION:2.0
PRODID:-//spbstu.ru//ical//RU
NAME:Расписание группы 3331505/50003
X-WR-CALNAME:Расписание группы 3331505/50003
TIMEZONE-ID:Europe/Moscow
X-WR-TIMEZONE:Europe/Moscow
BEGIN:VEVENT
UID:ivdg@192.168.245.71:3006
SEQUENCE:0
DTSTAMP:20260424T235102Z
DTSTART:20251006T050000Z
DTEND:20251006T064000Z
SUMMARY:Элективная физическая культура и спорт
LOCATION:СК Секции
END:VEVENT
BEGIN:VEVENT
UID:px59@192.168.245.71:3006
SEQUENCE:0
DTSTAMP:20260424T235102Z
DTSTART:20251006T090000Z
DTEND:20251006T104000Z
SUMMARY:Основы российской государственности
LOCATION:ГЗ 284
END:VEVENT
BEGIN:VEVENT
UID:09fl@192.168.245.71:3006
SEQUENCE:0
DTSTAMP:20260424T235102Z
DTSTART:20251006T110000Z
DTEND:20251006T124000Z
SUMMARY:История России
LOCATION:ГЗ 107
END:VEVENT
BEGIN:VEVENT
UID:76v6@192.168.245.71:3006
SEQUENCE:0
DTSTAMP:20260424T235102Z
DTSTART:20251006T130000Z
DTEND:20251006T144000Z
SUMMARY:Иностранный язык: Русский язык как иностранный
LOCATION:1 к. 436
END:VEVENT
BEGIN:VEVENT
UID:t0x5@192.168.245.71:3006
SEQUENCE:0
DTSTAMP:20260424T235102Z
DTSTART:20251007T070000Z
DTEND:20251007T084000Z
SUMMARY:Высшая математика
LOCATION:1 к. 440
END:VEVENT
BEGIN:VEVENT
UID:tuoe@192.168.245.71:3006
SEQUENCE:0
DTSTAMP:20260424T235102Z
DTSTART:20251007T090000Z
DTEND:20251007T104000Z
SUMMARY:Высшая математика
LOCATION:ГЗ 232
END:VEVENT
BEGIN:VEVENT
UID:mm7i@192.168.245.71:3006
SEQUENCE:0
DTSTAMP:20260424T235102Z
DTSTART:20251007T110000Z
DTEND:20251007T124000Z
SUMMARY:Инженерная графика
LOCATION:1 к. 440
END:VEVENT
BEGIN:VEVENT
UID:yt24@192.168.245.71:3006
SEQUENCE:0
DTSTAMP:20260424T235102Z
DTSTART:20251007T130000Z
DTEND:20251007T144000Z
SUMMARY:Творческие семестры
LOCATION:ГЗ Белый зал
END:VEVENT
BEGIN:VEVENT
UID:kiee@192.168.245.71:3006
SEQUENCE:0
DTSTAMP:20260424T235102Z
DTSTART:20251008T070000Z
DTEND:20251008T084000Z
SUMMARY:Введение в профессиональную деятельность
LOCATION:ГЗ 232
END:VEVENT
BEGIN:VEVENT
UID:9ucg@192.168.245.71:3006
SEQUENCE:0
DTSTAMP:20260424T235102Z
DTSTART:20251008T090000Z
DTEND:20251008T104000Z
SUMMARY:Основы цифровых технологий
LOCATION:1 к. 437
END:VEVENT
BEGIN:VEVENT
UID:4hk8@192.168.245.71:3006
SEQUENCE:0
DTSTAMP:20260424T235102Z
DTSTART:20251008T110000Z
DTEND:20251008T124000Z
SUMMARY:Высшая математика
LOCATION:ГЗ 152
END:VEVENT
BEGIN:VEVENT
UID:sdmi@192.168.245.71:3006
SEQUENCE:0
DTSTAMP:20260424T235102Z
DTSTART:20251009T070000Z
DTEND:20251009T084000Z
SUMMARY:Элективная физическая культура и спорт
LOCATION:СК Секции
END:VEVENT
BEGIN:VEVENT
UID:cqj3@192.168.245.71:3006
SEQUENCE:0
DTSTAMP:20260424T235102Z
DTSTART:20251009T090000Z
DTEND:20251009T104000Z
SUMMARY:Иностранный язык: Базовый курс
LOCATION:1 к. 417
END:VEVENT
BEGIN:VEVENT
UID:12ek@192.168.245.71:3006
SEQUENCE:0
DTSTAMP:20260424T235102Z
DTSTART:20251009T110000Z
DTEND:20251009T124000Z
SUMMARY:Высшая математика
LOCATION:ГЗ 232
END:VEVENT
BEGIN:VEVENT
UID:kono@192.168.245.71:3006
SEQUENCE:0
DTSTAMP:20260424T235102Z
DTSTART:20251010T060000Z
DTEND:20251010T065000Z
SUMMARY:Химия
LOCATION:Хим. к. 58
END:VEVENT
BEGIN:VEVENT
UID:4c2p@192.168.245.71:3006
SEQUENCE:0
DTSTAMP:20260424T235102Z
DTSTART:20251010T060000Z
DTEND:20251010T065000Z
SUMMARY:Химия
LOCATION:Хим. к. 58
END:VEVENT
BEGIN:VEVENT
UID:myxd@192.168.245.71:3006
SEQUENCE:0
DTSTAMP:20260424T235102Z
DTSTART:20251010T070000Z
DTEND:20251010T084000Z
SUMMARY:Химия
LOCATION:Хим. к. 58
END:VEVENT
BEGIN:VEVENT
UID:1wnn@192.168.245.71:3006
SEQUENCE:0
DTSTAMP:20260424T235102Z
DTSTART:20251010T090000Z
DTEND:20251010T104000Z
SUMMARY:Основы цифровых технологий
LOCATION:ГЗ 232
END:VEVENT
BEGIN:VEVENT
UID:z49b@192.168.245.71:3006
SEQUENCE:0
DTSTAMP:20260424T235102Z
DTSTART:20251011T070000Z
DTEND:20251011T084000Z
SUMMARY:Основы российской государственности
LOCATION:ГЗ 232
END:VEVENT
BEGIN:VEVENT
UID:81up@192.168.245.71:3006
SEQUENCE:0
DTSTAMP:20260424T235102Z
DTSTART:20251011T090000Z
DTEND:20251011T104000Z
SUMMARY:Химия
LOCATION:Хим. к. 52
END:VEVENT
BEGIN:VEVENT
UID:zr76@192.168.245.71:3006
SEQUENCE:0
DTSTAMP:20260424T235102Z
DTSTART:20251011T110000Z
DTEND:20251011T124000Z
SUMMARY:Иностранный язык: Русский язык как иностранный
LOCATION:1 к. 436
END:VEVENT
END:VCALENDAR