BEGIN:VCALENDAR
VERSION:2.0
PRODID:-//spbstu.ru//ical//RU
NAME:Расписание группы 3331505/50003
X-WR-CALNAME:Расписание группы 3331505/50003
TIMEZONE-ID:Europe/Moscow
X-WR-TIMEZONE:Europe/Moscow
BEGIN:VEVENT
UID:b6jp@192.168.245.71:3006
SEQUENCE:0
DTSTAMP:20260421T120932Z
DTSTART:20260216T050000Z
DTEND:20260216T064000Z
SUMMARY:Элективная физическая культура и спорт
LOCATION:СК Секции
END:VEVENT
BEGIN:VEVENT
UID:ldm0@192.168.245.71:3006
SEQUENCE:0
DTSTAMP:20260421T120932Z
DTSTART:20260216T060000Z
DTEND:20260216T064500Z
SUMMARY:Элективная физическая культура и спорт
LOCATION:СК Секции
END:VEVENT
BEGIN:VEVENT
UID:2oih@192.168.245.71:3006
SEQUENCE:0
DTSTAMP:20260421T120932Z
DTSTART:20260216T070000Z
DTEND:20260216T084000Z
SUMMARY:Информатика
LOCATION:ГЗ 232
END:VEVENT
BEGIN:VEVENT
UID:tqh1@192.168.245.71:3006
SEQUENCE:0
DTSTAMP:20260421T120932Z
DTSTART:20260216T090000Z
DTEND:20260216T104000Z
SUMMARY:Теоретическая механика
LOCATION:ГЗ 232
END:VEVENT
BEGIN:VEVENT
UID:190b@192.168.245.71:3006
SEQUENCE:0
DTSTAMP:20260421T120932Z
DTSTART:20260216T130000Z
DTEND:20260216T144000Z
SUMMARY:Иностранный язык: Русский язык как иностранный
LOCATION:1 к. 420
END:VEVENT
BEGIN:VEVENT
UID:jyq7@192.168.245.71:3006
SEQUENCE:0
DTSTAMP:20260421T120932Z
DTSTART:20260217T070000Z
DTEND:20260217T084000Z
SUMMARY:Иностранный язык: Базовый курс
LOCATION:1 к. 417
END:VEVENT
BEGIN:VEVENT
UID:l0kk@192.168.245.71:3006
SEQUENCE:0
DTSTAMP:20260421T120932Z
DTSTART:20260217T090000Z
DTEND:20260217T104000Z
SUMMARY:Высшая математика
LOCATION:ГЗ 232
END:VEVENT
BEGIN:VEVENT
UID:eb97@192.168.245.71:3006
SEQUENCE:0
DTSTAMP:20260421T120932Z
DTSTART:20260217T110000Z
DTEND:20260217T124000Z
SUMMARY:История России
LOCATION:ГЗ 153
END:VEVENT
BEGIN:VEVENT
UID:x222@192.168.245.71:3006
SEQUENCE:0
DTSTAMP:20260421T120932Z
DTSTART:20260217T130000Z
DTEND:20260217T144000Z
SUMMARY:Высшая математика
LOCATION:1 к. 420
END:VEVENT
BEGIN:VEVENT
UID:67qp@192.168.245.71:3006
SEQUENCE:0
DTSTAMP:20260421T120932Z
DTSTART:20260217T130000Z
DTEND:20260217T150000Z
SUMMARY:Инженерная графика
LOCATION:ГЗ 304
END:VEVENT
BEGIN:VEVENT
UID:vacw@192.168.245.71:3006
SEQUENCE:0
DTSTAMP:20260421T120932Z
DTSTART:20260217T130000Z
DTEND:20260217T150000Z
SUMMARY:Творческие семестры
LOCATION:ГЗ Белый зал
END:VEVENT
BEGIN:VEVENT
UID:0npy@192.168.245.71:3006
SEQUENCE:0
DTSTAMP:20260421T120932Z
DTSTART:20260217T130000Z
DTEND:20260217T150000Z
SUMMARY:Основы российской государственности
LOCATION:1 к. 41
END:VEVENT
BEGIN:VEVENT
UID:jvk1@192.168.245.71:3006
SEQUENCE:0
DTSTAMP:20260421T120932Z
DTSTART:20260218T070000Z
DTEND:20260218T084000Z
SUMMARY:Введение в механику машин
LOCATION:ГЗ 232
END:VEVENT
BEGIN:VEVENT
UID:ytq8@192.168.245.71:3006
SEQUENCE:0
DTSTAMP:20260421T120932Z
DTSTART:20260218T090000Z
DTEND:20260218T104000Z
SUMMARY:Введение в механику машин
LOCATION:Мех. к. каф.Т ММ
END:VEVENT
BEGIN:VEVENT
UID:10zi@192.168.245.71:3006
SEQUENCE:0
DTSTAMP:20260421T120932Z
DTSTART:20260218T110000Z
DTEND:20260218T124000Z
SUMMARY:Теоретическая механика
LOCATION:1 к. 420
END:VEVENT
BEGIN:VEVENT
UID:o4ri@192.168.245.71:3006
SEQUENCE:0
DTSTAMP:20260421T120932Z
DTSTART:20260218T130000Z
DTEND:20260218T144000Z
SUMMARY:Физика
LOCATION:1 к. 436
END:VEVENT
BEGIN:VEVENT
UID:0o50@192.168.245.71:3006
SEQUENCE:0
DTSTAMP:20260421T120932Z
DTSTART:20260218T150000Z
DTEND:20260218T170000Z
SUMMARY:История России
LOCATION:1 к. 421
END:VEVENT
BEGIN:VEVENT
UID:co7m@192.168.245.71:3006
SEQUENCE:0
DTSTAMP:20260421T120932Z
DTSTART:20260219T070000Z
DTEND:20260219T084000Z
SUMMARY:Элективная физическая культура и спорт
LOCATION:СК Секции
END:VEVENT
BEGIN:VEVENT
UID:6xoa@192.168.245.71:3006
SEQUENCE:0
DTSTAMP:20260421T120932Z
DTSTART:20260219T090000Z
DTEND:20260219T104000Z
SUMMARY:Философия
LOCATION:ГЗ 215
END:VEVENT
BEGIN:VEVENT
UID:8z2n@192.168.245.71:3006
SEQUENCE:0
DTSTAMP:20260421T120932Z
DTSTART:20260219T110000Z
DTEND:20260219T124000Z
SUMMARY:Физика
LOCATION:ГЗ 155
END:VEVENT
BEGIN:VEVENT
UID:75wn@192.168.245.71:3006
SEQUENCE:0
DTSTAMP:20260421T120932Z
DTSTART:20260219T110000Z
DTEND:20260219T124000Z
SUMMARY:Физика
LOCATION:ГЗ 155
END:VEVENT
BEGIN:VEVENT
UID:7ly2@192.168.245.71:3006
SEQUENCE:0
DTSTAMP:20260421T120932Z
DTSTART:20260219T150000Z
DTEND:20260219T170000Z
SUMMARY:Высшая математика
LOCATION:ГЗ 232
END:VEVENT
BEGIN:VEVENT
UID:bn8y@192.168.245.71:3006
SEQUENCE:0
DTSTAMP:20260421T120932Z
DTSTART:20260220T070000Z
DTEND:20260220T084000Z
SUMMARY:Физика
LOCATION:ГЗ 305
END:VEVENT
BEGIN:VEVENT
UID:4hhz@192.168.245.71:3006
SEQUENCE:0
DTSTAMP:20260421T120932Z
DTSTART:20260220T090000Z
DTEND:20260220T104000Z
SUMMARY:Информатика
LOCATION:1 к. 438
END:VEVENT
BEGIN:VEVENT
UID:yrng@192.168.245.71:3006
SEQUENCE:0
DTSTAMP:20260421T120932Z
DTSTART:20260220T090000Z
DTEND:20260220T104000Z
SUMMARY:Информатика
LOCATION:1 к. 437
END:VEVENT
BEGIN:VEVENT
UID:ms59@192.168.245.71:3006
SEQUENCE:0
DTSTAMP:20260421T120932Z
DTSTART:20260220T110000Z
DTEND:20260220T124000Z
SUMMARY:Инженерная графика
LOCATION:ГЗ 303 (6)
END:VEVENT
BEGIN:VEVENT
UID:xign@192.168.245.71:3006
SEQUENCE:0
DTSTAMP:20260421T120932Z
DTSTART:20260220T130000Z
DTEND:20260220T150000Z
SUMMARY:Химия
LOCATION:Хим. к. 10
END:VEVENT
BEGIN:VEVENT
UID:nu05@192.168.245.71:3006
SEQUENCE:0
DTSTAMP:20260421T120932Z
DTSTART:20260220T150000Z
DTEND:20260220T160000Z
SUMMARY:Иностранный язык: Русский язык как иностранный
LOCATION:1 к. 420
END:VEVENT
BEGIN:VEVENT
UID:l8po@192.168.245.71:3006
SEQUENCE:0
DTSTAMP:20260421T120932Z
DTSTART:20260221T070000Z
DTEND:20260221T084000Z
SUMMARY:История России
LOCATION:ГЗ 232
END:VEVENT
BEGIN:VEVENT
UID:0vad@192.168.245.71:3006
SEQUENCE:0
DTSTAMP:20260421T120932Z
DTSTART:20260221T150000Z
DTEND:20260221T164000Z
SUMMARY:Иностранный язык: Русский язык как иностранный
LOCATION:1 к. 420
END:VEVENT
END:VCALENDAR