BEGIN:VCALENDAR
VERSION:2.0
PRODID:-//spbstu.ru//ical//RU
NAME:Расписание группы 3331505/50003
X-WR-CALNAME:Расписание группы 3331505/50003
TIMEZONE-ID:Europe/Moscow
X-WR-TIMEZONE:Europe/Moscow
BEGIN:VEVENT
UID:31b9@192.168.245.71:3006
SEQUENCE:0
DTSTAMP:20260420T222151Z
DTSTART:20260511T050000Z
DTEND:20260511T064000Z
SUMMARY:Элективная физическая культура и спорт
LOCATION:СК Секции
END:VEVENT
BEGIN:VEVENT
UID:bttj@192.168.245.71:3006
SEQUENCE:0
DTSTAMP:20260420T222151Z
DTSTART:20260511T070000Z
DTEND:20260511T084000Z
SUMMARY:Информатика
LOCATION:ГЗ 232
END:VEVENT
BEGIN:VEVENT
UID:npp5@192.168.245.71:3006
SEQUENCE:0
DTSTAMP:20260420T222151Z
DTSTART:20260511T090000Z
DTEND:20260511T104000Z
SUMMARY:Теоретическая механика
LOCATION:ГЗ 232
END:VEVENT
BEGIN:VEVENT
UID:mzhl@192.168.245.71:3006
SEQUENCE:0
DTSTAMP:20260420T222151Z
DTSTART:20260511T130000Z
DTEND:20260511T144000Z
SUMMARY:Иностранный язык: Русский язык как иностранный
LOCATION:1 к. 420
END:VEVENT
BEGIN:VEVENT
UID:aeh4@192.168.245.71:3006
SEQUENCE:0
DTSTAMP:20260420T222151Z
DTSTART:20260512T070000Z
DTEND:20260512T084000Z
SUMMARY:Иностранный язык: Базовый курс
LOCATION:1 к. 417
END:VEVENT
BEGIN:VEVENT
UID:zii2@192.168.245.71:3006
SEQUENCE:0
DTSTAMP:20260420T222151Z
DTSTART:20260512T090000Z
DTEND:20260512T104000Z
SUMMARY:Высшая математика
LOCATION:ГЗ 232
END:VEVENT
BEGIN:VEVENT
UID:bklk@192.168.245.71:3006
SEQUENCE:0
DTSTAMP:20260420T222151Z
DTSTART:20260512T130000Z
DTEND:20260512T144000Z
SUMMARY:Высшая математика
LOCATION:1 к. 420
END:VEVENT
BEGIN:VEVENT
UID:z7xf@192.168.245.71:3006
SEQUENCE:0
DTSTAMP:20260420T222151Z
DTSTART:20260513T070000Z
DTEND:20260513T084000Z
SUMMARY:Введение в механику машин
LOCATION:ГЗ 232
END:VEVENT
BEGIN:VEVENT
UID:5r1p@192.168.245.71:3006
SEQUENCE:0
DTSTAMP:20260420T222151Z
DTSTART:20260513T090000Z
DTEND:20260513T104000Z
SUMMARY:Введение в механику машин
LOCATION:Мех. к. каф.Т ММ
END:VEVENT
BEGIN:VEVENT
UID:a2hl@192.168.245.71:3006
SEQUENCE:0
DTSTAMP:20260420T222151Z
DTSTART:20260513T110000Z
DTEND:20260513T124000Z
SUMMARY:Теоретическая механика
LOCATION:1 к. 420
END:VEVENT
BEGIN:VEVENT
UID:vvyd@192.168.245.71:3006
SEQUENCE:0
DTSTAMP:20260420T222151Z
DTSTART:20260513T130000Z
DTEND:20260513T144000Z
SUMMARY:Физика
LOCATION:1 к. 436
END:VEVENT
BEGIN:VEVENT
UID:iuu9@192.168.245.71:3006
SEQUENCE:0
DTSTAMP:20260420T222151Z
DTSTART:20260514T070000Z
DTEND:20260514T084000Z
SUMMARY:Элективная физическая культура и спорт
LOCATION:СК Секции
END:VEVENT
BEGIN:VEVENT
UID:flmm@192.168.245.71:3006
SEQUENCE:0
DTSTAMP:20260420T222151Z
DTSTART:20260515T070000Z
DTEND:20260515T084000Z
SUMMARY:Физика
LOCATION:1 к. 41
END:VEVENT
BEGIN:VEVENT
UID:qrin@192.168.245.71:3006
SEQUENCE:0
DTSTAMP:20260420T222151Z
DTSTART:20260515T090000Z
DTEND:20260515T104000Z
SUMMARY:Информатика
LOCATION:1 к. 438
END:VEVENT
BEGIN:VEVENT
UID:96zu@192.168.245.71:3006
SEQUENCE:0
DTSTAMP:20260420T222151Z
DTSTART:20260515T090000Z
DTEND:20260515T104000Z
SUMMARY:Информатика
LOCATION:1 к. 437
END:VEVENT
BEGIN:VEVENT
UID:vr7v@192.168.245.71:3006
SEQUENCE:0
DTSTAMP:20260420T222151Z
DTSTART:20260515T110000Z
DTEND:20260515T124000Z
SUMMARY:Инженерная графика
LOCATION:ГЗ 303 (6)
END:VEVENT
BEGIN:VEVENT
UID:vm1u@192.168.245.71:3006
SEQUENCE:0
DTSTAMP:20260420T222151Z
DTSTART:20260516T070000Z
DTEND:20260516T084000Z
SUMMARY:История России
LOCATION:1 к. 41
END:VEVENT
BEGIN:VEVENT
UID:01b7@192.168.245.71:3006
SEQUENCE:0
DTSTAMP:20260420T222151Z
DTSTART:20260516T150000Z
DTEND:20260516T164000Z
SUMMARY:Иностранный язык: Русский язык как иностранный
LOCATION:1 к. 420
END:VEVENT
END:VCALENDAR