BEGIN:VCALENDAR
VERSION:2.0
PRODID:-//spbstu.ru//ical//RU
NAME:Расписание группы 3331506/50003
X-WR-CALNAME:Расписание группы 3331506/50003
TIMEZONE-ID:Europe/Moscow
X-WR-TIMEZONE:Europe/Moscow
BEGIN:VEVENT
UID:9gzd@192.168.245.71:3006
SEQUENCE:0
DTSTAMP:20260423T225128Z
DTSTART:20251020T050000Z
DTEND:20251020T064000Z
SUMMARY:Элективная физическая культура и спорт
LOCATION:СК Секции
END:VEVENT
BEGIN:VEVENT
UID:mukx@192.168.245.71:3006
SEQUENCE:0
DTSTAMP:20260423T225128Z
DTSTART:20251020T090000Z
DTEND:20251020T104000Z
SUMMARY:Высшая математика
LOCATION:ГЗ 232
END:VEVENT
BEGIN:VEVENT
UID:13aw@192.168.245.71:3006
SEQUENCE:0
DTSTAMP:20260423T225128Z
DTSTART:20251020T110000Z
DTEND:20251020T124000Z
SUMMARY:Высшая математика
LOCATION:ГЗ 280
END:VEVENT
BEGIN:VEVENT
UID:775m@192.168.245.71:3006
SEQUENCE:0
DTSTAMP:20260423T225128Z
DTSTART:20251021T090000Z
DTEND:20251021T104000Z
SUMMARY:Основы цифровых технологий
LOCATION:1 к. 437
END:VEVENT
BEGIN:VEVENT
UID:ztl0@192.168.245.71:3006
SEQUENCE:0
DTSTAMP:20260423T225128Z
DTSTART:20251021T110000Z
DTEND:20251021T124000Z
SUMMARY:Инженерная графика
LOCATION:1 к. 439
END:VEVENT
BEGIN:VEVENT
UID:frn8@192.168.245.71:3006
SEQUENCE:0
DTSTAMP:20260423T225128Z
DTSTART:20251021T130000Z
DTEND:20251021T144000Z
SUMMARY:Творческие семестры
LOCATION:ГЗ Белый зал
END:VEVENT
BEGIN:VEVENT
UID:mxya@192.168.245.71:3006
SEQUENCE:0
DTSTAMP:20260423T225128Z
DTSTART:20251022T110000Z
DTEND:20251022T124000Z
SUMMARY:История России
LOCATION:ГЗ 153
END:VEVENT
BEGIN:VEVENT
UID:h8yz@192.168.245.71:3006
SEQUENCE:0
DTSTAMP:20260423T225128Z
DTSTART:20251022T130000Z
DTEND:20251022T144000Z
SUMMARY:Введение в профессиональную деятельность
LOCATION:1 к. 412
END:VEVENT
BEGIN:VEVENT
UID:ix15@192.168.245.71:3006
SEQUENCE:0
DTSTAMP:20260423T225128Z
DTSTART:20251023T070000Z
DTEND:20251023T084000Z
SUMMARY:Элективная физическая культура и спорт
LOCATION:СК Секции
END:VEVENT
BEGIN:VEVENT
UID:9p6v@192.168.245.71:3006
SEQUENCE:0
DTSTAMP:20260423T225128Z
DTSTART:20251023T090000Z
DTEND:20251023T104000Z
SUMMARY:Химия
LOCATION:ГЗ 257
END:VEVENT
BEGIN:VEVENT
UID:c7ps@192.168.245.71:3006
SEQUENCE:0
DTSTAMP:20260423T225128Z
DTSTART:20251023T130000Z
DTEND:20251023T144000Z
SUMMARY:Химия
LOCATION:Хим. к. 58
END:VEVENT
BEGIN:VEVENT
UID:q1mp@192.168.245.71:3006
SEQUENCE:0
DTSTAMP:20260423T225128Z
DTSTART:20251023T150000Z
DTEND:20251023T155000Z
SUMMARY:Химия
LOCATION:Хим. к. 58
END:VEVENT
BEGIN:VEVENT
UID:8ydf@192.168.245.71:3006
SEQUENCE:0
DTSTAMP:20260423T225128Z
DTSTART:20251023T150000Z
DTEND:20251023T155000Z
SUMMARY:Химия
LOCATION:Хим. к. 58
END:VEVENT
BEGIN:VEVENT
UID:b4x2@192.168.245.71:3006
SEQUENCE:0
DTSTAMP:20260423T225128Z
DTSTART:20251023T150000Z
DTEND:20251023T155000Z
SUMMARY:Химия
LOCATION:Хим. к. 58
END:VEVENT
BEGIN:VEVENT
UID:ny9b@192.168.245.71:3006
SEQUENCE:0
DTSTAMP:20260423T225128Z
DTSTART:20251024T070000Z
DTEND:20251024T084000Z
SUMMARY:Основы российской государственности
LOCATION:ГЗ 153
END:VEVENT
BEGIN:VEVENT
UID:d3kj@192.168.245.71:3006
SEQUENCE:0
DTSTAMP:20260423T225128Z
DTSTART:20251024T090000Z
DTEND:20251024T104000Z
SUMMARY:Иностранный язык: Базовый курс
LOCATION:1 к. 439
END:VEVENT
BEGIN:VEVENT
UID:0or8@192.168.245.71:3006
SEQUENCE:0
DTSTAMP:20260423T225128Z
DTSTART:20251024T110000Z
DTEND:20251024T124000Z
SUMMARY:Введение в профессиональную деятельность
LOCATION:ГЗ 232
END:VEVENT
END:VCALENDAR