BEGIN:VCALENDAR
VERSION:2.0
PRODID:-//spbstu.ru//ical//RU
NAME:Расписание группы 3331506/50003
X-WR-CALNAME:Расписание группы 3331506/50003
TIMEZONE-ID:Europe/Moscow
X-WR-TIMEZONE:Europe/Moscow
BEGIN:VEVENT
UID:xdo7@192.168.245.71:3006
SEQUENCE:0
DTSTAMP:20260422T081937Z
DTSTART:20251215T090000Z
DTEND:20251215T104000Z
SUMMARY:Высшая математика
LOCATION:ГЗ 232
END:VEVENT
BEGIN:VEVENT
UID:36h5@192.168.245.71:3006
SEQUENCE:0
DTSTAMP:20260422T081937Z
DTSTART:20251215T110000Z
DTEND:20251215T124000Z
SUMMARY:Высшая математика
LOCATION:ГЗ 280
END:VEVENT
BEGIN:VEVENT
UID:39x9@192.168.245.71:3006
SEQUENCE:0
DTSTAMP:20260422T081937Z
DTSTART:20251215T130000Z
DTEND:20251215T144000Z
SUMMARY:Высшая математика
LOCATION:ГЗ 257
END:VEVENT
BEGIN:VEVENT
UID:ng1n@192.168.245.71:3006
SEQUENCE:0
DTSTAMP:20260422T081937Z
DTSTART:20251215T150000Z
DTEND:20251215T164000Z
SUMMARY:Высшая математика
LOCATION:ГЗ 232
END:VEVENT
BEGIN:VEVENT
UID:i822@192.168.245.71:3006
SEQUENCE:0
DTSTAMP:20260422T081937Z
DTSTART:20251216T090000Z
DTEND:20251216T104000Z
SUMMARY:Основы цифровых технологий
LOCATION:1 к. 437
END:VEVENT
BEGIN:VEVENT
UID:5v3z@192.168.245.71:3006
SEQUENCE:0
DTSTAMP:20260422T081937Z
DTSTART:20251216T110000Z
DTEND:20251216T124000Z
SUMMARY:Инженерная графика
LOCATION:1 к. 439
END:VEVENT
BEGIN:VEVENT
UID:l35r@192.168.245.71:3006
SEQUENCE:0
DTSTAMP:20260422T081937Z
DTSTART:20251216T130000Z
DTEND:20251216T144000Z
SUMMARY:Творческие семестры
LOCATION:ГЗ Белый зал
END:VEVENT
BEGIN:VEVENT
UID:tbbs@192.168.245.71:3006
SEQUENCE:0
DTSTAMP:20260422T081937Z
DTSTART:20251217T083000Z
DTEND:20251217T100000Z
SUMMARY:Физическая культура
LOCATION:1 к. 41
END:VEVENT
BEGIN:VEVENT
UID:ljae@192.168.245.71:3006
SEQUENCE:0
DTSTAMP:20260422T081937Z
DTSTART:20251217T110000Z
DTEND:20251217T140000Z
SUMMARY:Основы цифровых технологий
LOCATION:1 к. 437
END:VEVENT
BEGIN:VEVENT
UID:8jm0@192.168.245.71:3006
SEQUENCE:0
DTSTAMP:20260422T081937Z
DTSTART:20251217T130000Z
DTEND:20251217T150000Z
SUMMARY:Факультатив по физике повышенной сложности
LOCATION:1 к. 425
END:VEVENT
BEGIN:VEVENT
UID:9saa@192.168.245.71:3006
SEQUENCE:0
DTSTAMP:20260422T081937Z
DTSTART:20251217T130000Z
DTEND:20251217T150000Z
SUMMARY:Факультатив по физике
LOCATION:1 к. 425
END:VEVENT
BEGIN:VEVENT
UID:18fo@192.168.245.71:3006
SEQUENCE:0
DTSTAMP:20260422T081937Z
DTSTART:20251219T150000Z
DTEND:20251219T154500Z
SUMMARY:Основы российской государственности
LOCATION:1 к. 413
END:VEVENT
BEGIN:VEVENT
UID:lcif@192.168.245.71:3006
SEQUENCE:0
DTSTAMP:20260422T081937Z
DTSTART:20251220T070000Z
DTEND:20251220T090000Z
SUMMARY:Основы российской государственности
LOCATION:1 к. 413
END:VEVENT
END:VCALENDAR