BEGIN:VCALENDAR
VERSION:2.0
PRODID:-//spbstu.ru//ical//RU
NAME:Расписание группы 3332702/50001
X-WR-CALNAME:Расписание группы 3332702/50001
TIMEZONE-ID:Europe/Moscow
X-WR-TIMEZONE:Europe/Moscow
BEGIN:VEVENT
UID:2nuq@192.168.245.71:3006
SEQUENCE:0
DTSTAMP:20260425T105258Z
DTSTART:20251110T050000Z
DTEND:20251110T064000Z
SUMMARY:Элективная физическая культура и спорт
LOCATION:СК Секции
END:VEVENT
BEGIN:VEVENT
UID:lo9t@192.168.245.71:3006
SEQUENCE:0
DTSTAMP:20260425T105258Z
DTSTART:20251110T070000Z
DTEND:20251110T084000Z
SUMMARY:Основы цифровых технологий
LOCATION:11 к. 345
END:VEVENT
BEGIN:VEVENT
UID:alqc@192.168.245.71:3006
SEQUENCE:0
DTSTAMP:20260425T105258Z
DTSTART:20251110T090000Z
DTEND:20251110T104000Z
SUMMARY:Иностранный язык: Базовый курс
LOCATION:1 к. 417
END:VEVENT
BEGIN:VEVENT
UID:ayvi@192.168.245.71:3006
SEQUENCE:0
DTSTAMP:20260425T105258Z
DTSTART:20251110T110000Z
DTEND:20251110T124000Z
SUMMARY:Введение в профессиональную деятельность
LOCATION:11 к. 345
END:VEVENT
BEGIN:VEVENT
UID:mxbm@192.168.245.71:3006
SEQUENCE:0
DTSTAMP:20260425T105258Z
DTSTART:20251110T130000Z
DTEND:20251110T144000Z
SUMMARY:Иностранный язык: Русский язык как иностранный
LOCATION:1 к. 436
END:VEVENT
BEGIN:VEVENT
UID:ipfh@192.168.245.71:3006
SEQUENCE:0
DTSTAMP:20260425T105258Z
DTSTART:20251110T150000Z
DTEND:20251110T171500Z
SUMMARY:Русский язык как иностранный
LOCATION:15 к. 330
END:VEVENT
BEGIN:VEVENT
UID:ys7t@192.168.245.71:3006
SEQUENCE:0
DTSTAMP:20260425T105258Z
DTSTART:20251111T070000Z
DTEND:20251111T084000Z
SUMMARY:Введение в профессиональную деятельность
LOCATION:11 к. 350
END:VEVENT
BEGIN:VEVENT
UID:jsv2@192.168.245.71:3006
SEQUENCE:0
DTSTAMP:20260425T105258Z
DTSTART:20251111T130000Z
DTEND:20251111T144000Z
SUMMARY:Инженерная графика
LOCATION:1 к. 435
END:VEVENT
BEGIN:VEVENT
UID:16j3@192.168.245.71:3006
SEQUENCE:0
DTSTAMP:20260425T105258Z
DTSTART:20251112T050000Z
DTEND:20251112T064000Z
SUMMARY:Основы российской государственности
LOCATION:1 к. 413
END:VEVENT
BEGIN:VEVENT
UID:mhjt@192.168.245.71:3006
SEQUENCE:0
DTSTAMP:20260425T105258Z
DTSTART:20251112T090000Z
DTEND:20251112T104000Z
SUMMARY:Высшая математика
LOCATION:11 к. 350
END:VEVENT
BEGIN:VEVENT
UID:7yo8@192.168.245.71:3006
SEQUENCE:0
DTSTAMP:20260425T105258Z
DTSTART:20251112T110000Z
DTEND:20251112T124000Z
SUMMARY:История России
LOCATION:11 к. 350
END:VEVENT
BEGIN:VEVENT
UID:0659@192.168.245.71:3006
SEQUENCE:0
DTSTAMP:20260425T105258Z
DTSTART:20251113T070000Z
DTEND:20251113T084000Z
SUMMARY:Элективная физическая культура и спорт
LOCATION:СК Секции
END:VEVENT
BEGIN:VEVENT
UID:hw7r@192.168.245.71:3006
SEQUENCE:0
DTSTAMP:20260425T105258Z
DTSTART:20251113T110000Z
DTEND:20251113T134000Z
SUMMARY:Высшая математика
LOCATION:1 к. 41
END:VEVENT
BEGIN:VEVENT
UID:ytf4@192.168.245.71:3006
SEQUENCE:0
DTSTAMP:20260425T105258Z
DTSTART:20251113T150000Z
DTEND:20251113T170000Z
SUMMARY:Дополнительные занятия по физике
LOCATION:ГЗ 232
END:VEVENT
BEGIN:VEVENT
UID:jveb@192.168.245.71:3006
SEQUENCE:0
DTSTAMP:20260425T105258Z
DTSTART:20251114T090000Z
DTEND:20251114T104000Z
SUMMARY:Химия
LOCATION:Хим. к. 58
END:VEVENT
BEGIN:VEVENT
UID:01qv@192.168.245.71:3006
SEQUENCE:0
DTSTAMP:20260425T105258Z
DTSTART:20251114T104000Z
DTEND:20251114T114000Z
SUMMARY:Химия
LOCATION:Хим. к. 58
END:VEVENT
BEGIN:VEVENT
UID:ousl@192.168.245.71:3006
SEQUENCE:0
DTSTAMP:20260425T105258Z
DTSTART:20251115T050000Z
DTEND:20251115T064000Z
SUMMARY:Основы российской государственности
LOCATION:ГЗ 257
END:VEVENT
BEGIN:VEVENT
UID:xyfn@192.168.245.71:3006
SEQUENCE:0
DTSTAMP:20260425T105258Z
DTSTART:20251115T070000Z
DTEND:20251115T084000Z
SUMMARY:Химия
LOCATION:Хим. к. 52
END:VEVENT
BEGIN:VEVENT
UID:osv5@192.168.245.71:3006
SEQUENCE:0
DTSTAMP:20260425T105258Z
DTSTART:20251115T110000Z
DTEND:20251115T124000Z
SUMMARY:Высшая математика
LOCATION:1 к. 421
END:VEVENT
BEGIN:VEVENT
UID:5ra1@192.168.245.71:3006
SEQUENCE:0
DTSTAMP:20260425T105258Z
DTSTART:20251115T110000Z
DTEND:20251115T124000Z
SUMMARY:Иностранный язык: Русский язык как иностранный
LOCATION:1 к. 436
END:VEVENT
END:VCALENDAR