BEGIN:VCALENDAR
VERSION:2.0
PRODID:-//spbstu.ru//ical//RU
NAME:Расписание группы 3332702/50001
X-WR-CALNAME:Расписание группы 3332702/50001
TIMEZONE-ID:Europe/Moscow
X-WR-TIMEZONE:Europe/Moscow
BEGIN:VEVENT
UID:burm@192.168.245.71:3006
SEQUENCE:0
DTSTAMP:20260421T053713Z
DTSTART:20260302T050000Z
DTEND:20260302T064000Z
SUMMARY:Элективная физическая культура и спорт
LOCATION:СК Секции
END:VEVENT
BEGIN:VEVENT
UID:0pw6@192.168.245.71:3006
SEQUENCE:0
DTSTAMP:20260421T053713Z
DTSTART:20260302T090000Z
DTEND:20260302T104000Z
SUMMARY:Физика
LOCATION:1 к. 422
END:VEVENT
BEGIN:VEVENT
UID:2lmu@192.168.245.71:3006
SEQUENCE:0
DTSTAMP:20260421T053713Z
DTSTART:20260302T110000Z
DTEND:20260302T124000Z
SUMMARY:Инженерная графика
LOCATION:ГЗ 232
END:VEVENT
BEGIN:VEVENT
UID:yh63@192.168.245.71:3006
SEQUENCE:0
DTSTAMP:20260421T053713Z
DTSTART:20260302T130000Z
DTEND:20260302T144000Z
SUMMARY:Иностранный язык: Русский язык как иностранный
LOCATION:1 к. 420
END:VEVENT
BEGIN:VEVENT
UID:uapg@192.168.245.71:3006
SEQUENCE:0
DTSTAMP:20260421T053713Z
DTSTART:20260303T090000Z
DTEND:20260303T104000Z
SUMMARY:Теория и технологии программирования
LOCATION:ГЗ 153
END:VEVENT
BEGIN:VEVENT
UID:in1u@192.168.245.71:3006
SEQUENCE:0
DTSTAMP:20260421T053713Z
DTSTART:20260303T110000Z
DTEND:20260303T124000Z
SUMMARY:Технологии современных материалов
LOCATION:11 к. 345
END:VEVENT
BEGIN:VEVENT
UID:kbiq@192.168.245.71:3006
SEQUENCE:0
DTSTAMP:20260421T053713Z
DTSTART:20260304T070000Z
DTEND:20260304T084000Z
SUMMARY:Инженерная графика
LOCATION:ГЗ 303 (6)
END:VEVENT
BEGIN:VEVENT
UID:48af@192.168.245.71:3006
SEQUENCE:0
DTSTAMP:20260421T053713Z
DTSTART:20260304T090000Z
DTEND:20260304T104000Z
SUMMARY:Высшая математика
LOCATION:1 к. 435
END:VEVENT
BEGIN:VEVENT
UID:3myx@192.168.245.71:3006
SEQUENCE:0
DTSTAMP:20260421T053713Z
DTSTART:20260304T110000Z
DTEND:20260304T124000Z
SUMMARY:Информатика
LOCATION:11 к. 344
END:VEVENT
BEGIN:VEVENT
UID:ek07@192.168.245.71:3006
SEQUENCE:0
DTSTAMP:20260421T053713Z
DTSTART:20260305T070000Z
DTEND:20260305T084000Z
SUMMARY:Элективная физическая культура и спорт
LOCATION:СК Секции
END:VEVENT
BEGIN:VEVENT
UID:0uu7@192.168.245.71:3006
SEQUENCE:0
DTSTAMP:20260421T053713Z
DTSTART:20260305T090000Z
DTEND:20260305T104000Z
SUMMARY:Физика
LOCATION:1 к. 41
END:VEVENT
BEGIN:VEVENT
UID:sro7@192.168.245.71:3006
SEQUENCE:0
DTSTAMP:20260421T053713Z
DTSTART:20260305T110000Z
DTEND:20260305T124000Z
SUMMARY:Информатика
LOCATION:1 к. 41
END:VEVENT
BEGIN:VEVENT
UID:agmf@192.168.245.71:3006
SEQUENCE:0
DTSTAMP:20260421T053713Z
DTSTART:20260305T130000Z
DTEND:20260305T144000Z
SUMMARY:Физика
LOCATION:ГЗ 155
END:VEVENT
BEGIN:VEVENT
UID:f8bv@192.168.245.71:3006
SEQUENCE:0
DTSTAMP:20260421T053713Z
DTSTART:20260305T130000Z
DTEND:20260305T144000Z
SUMMARY:Физика
LOCATION:ГЗ 155
END:VEVENT
BEGIN:VEVENT
UID:12v8@192.168.245.71:3006
SEQUENCE:0
DTSTAMP:20260421T053713Z
DTSTART:20260306T070000Z
DTEND:20260306T084000Z
SUMMARY:Иностранный язык: Базовый курс
LOCATION:1 к. 414
END:VEVENT
BEGIN:VEVENT
UID:08v3@192.168.245.71:3006
SEQUENCE:0
DTSTAMP:20260421T053713Z
DTSTART:20260306T090000Z
DTEND:20260306T104000Z
SUMMARY:Теория и технологии программирования
LOCATION:11 к. 345
END:VEVENT
BEGIN:VEVENT
UID:x67d@192.168.245.71:3006
SEQUENCE:0
DTSTAMP:20260421T053713Z
DTSTART:20260306T110000Z
DTEND:20260306T124000Z
SUMMARY:Высшая математика
LOCATION:1 к. 41
END:VEVENT
BEGIN:VEVENT
UID:m78v@192.168.245.71:3006
SEQUENCE:0
DTSTAMP:20260421T053713Z
DTSTART:20260306T130000Z
DTEND:20260306T144000Z
SUMMARY:Информатика
LOCATION:11 к. 344-1
END:VEVENT
BEGIN:VEVENT
UID:79gu@192.168.245.71:3006
SEQUENCE:0
DTSTAMP:20260421T053713Z
DTSTART:20260307T150000Z
DTEND:20260307T164000Z
SUMMARY:Иностранный язык: Русский язык как иностранный
LOCATION:1 к. 420
END:VEVENT
END:VCALENDAR