BEGIN:VCALENDAR
VERSION:2.0
PRODID:-//spbstu.ru//ical//RU
NAME:Расписание группы 3332801/50001
X-WR-CALNAME:Расписание группы 3332801/50001
TIMEZONE-ID:Europe/Moscow
X-WR-TIMEZONE:Europe/Moscow
BEGIN:VEVENT
UID:dhj0@192.168.245.71:3006
SEQUENCE:0
DTSTAMP:20260424T210001Z
DTSTART:20251006T050000Z
DTEND:20251006T064000Z
SUMMARY:Элективная физическая культура и спорт
LOCATION:СК Секции
END:VEVENT
BEGIN:VEVENT
UID:ub01@192.168.245.71:3006
SEQUENCE:0
DTSTAMP:20260424T210001Z
DTSTART:20251006T070000Z
DTEND:20251006T084000Z
SUMMARY:Химия
LOCATION:Хим. к. 52
END:VEVENT
BEGIN:VEVENT
UID:jcpe@192.168.245.71:3006
SEQUENCE:0
DTSTAMP:20260424T210001Z
DTSTART:20251006T090000Z
DTEND:20251006T104000Z
SUMMARY:Химия
LOCATION:Хим. к. 51
END:VEVENT
BEGIN:VEVENT
UID:75yf@192.168.245.71:3006
SEQUENCE:0
DTSTAMP:20260424T210001Z
DTSTART:20251006T110000Z
DTEND:20251006T124000Z
SUMMARY:Химия
LOCATION:Хим. к. 48
END:VEVENT
BEGIN:VEVENT
UID:4m6n@192.168.245.71:3006
SEQUENCE:0
DTSTAMP:20260424T210001Z
DTSTART:20251007T070000Z
DTEND:20251007T084000Z
SUMMARY:Основы российской государственности
LOCATION:Хим. к. 51
END:VEVENT
BEGIN:VEVENT
UID:0fzw@192.168.245.71:3006
SEQUENCE:0
DTSTAMP:20260424T210001Z
DTSTART:20251007T090000Z
DTEND:20251007T104000Z
SUMMARY:Введение в профессиональную деятельность
LOCATION:ЛабК 65
END:VEVENT
BEGIN:VEVENT
UID:bprl@192.168.245.71:3006
SEQUENCE:0
DTSTAMP:20260424T210001Z
DTSTART:20251007T110000Z
DTEND:20251007T124000Z
SUMMARY:Основы российской государственности
LOCATION:Хим. к. 52
END:VEVENT
BEGIN:VEVENT
UID:h9r8@192.168.245.71:3006
SEQUENCE:0
DTSTAMP:20260424T210001Z
DTSTART:20251007T130000Z
DTEND:20251007T144000Z
SUMMARY:Творческие семестры
LOCATION:ГЗ Белый зал
END:VEVENT
BEGIN:VEVENT
UID:b97g@192.168.245.71:3006
SEQUENCE:0
DTSTAMP:20260424T210001Z
DTSTART:20251008T060000Z
DTEND:20251008T083000Z
SUMMARY:Высшая математика
LOCATION:Хим. к. 52
END:VEVENT
BEGIN:VEVENT
UID:8fxd@192.168.245.71:3006
SEQUENCE:0
DTSTAMP:20260424T210001Z
DTSTART:20251008T090000Z
DTEND:20251008T104000Z
SUMMARY:Высшая математика
LOCATION:ЛабК 203
END:VEVENT
BEGIN:VEVENT
UID:1vkz@192.168.245.71:3006
SEQUENCE:0
DTSTAMP:20260424T210001Z
DTSTART:20251008T110000Z
DTEND:20251008T124000Z
SUMMARY:Инженерная графика
LOCATION:Хим. к. 48
END:VEVENT
BEGIN:VEVENT
UID:t17k@192.168.245.71:3006
SEQUENCE:0
DTSTAMP:20260424T210001Z
DTSTART:20251008T130000Z
DTEND:20251008T144000Z
SUMMARY:Основы цифровых технологий
LOCATION:Хим. к. 56
END:VEVENT
BEGIN:VEVENT
UID:yxov@192.168.245.71:3006
SEQUENCE:0
DTSTAMP:20260424T210001Z
DTSTART:20251009T070000Z
DTEND:20251009T084000Z
SUMMARY:Элективная физическая культура и спорт
LOCATION:СК Секции
END:VEVENT
BEGIN:VEVENT
UID:v41j@192.168.245.71:3006
SEQUENCE:0
DTSTAMP:20260424T210001Z
DTSTART:20251009T090000Z
DTEND:20251009T104000Z
SUMMARY:Иностранный язык: Базовый курс
LOCATION:1 к. 414
END:VEVENT
BEGIN:VEVENT
UID:aniy@192.168.245.71:3006
SEQUENCE:0
DTSTAMP:20260424T210001Z
DTSTART:20251009T110000Z
DTEND:20251009T124000Z
SUMMARY:Высшая математика
LOCATION:ЛабК 203
END:VEVENT
BEGIN:VEVENT
UID:r0zz@192.168.245.71:3006
SEQUENCE:0
DTSTAMP:20260424T210001Z
DTSTART:20251010T070000Z
DTEND:20251010T084000Z
SUMMARY:История России
LOCATION:Хим. к. 51
END:VEVENT
END:VCALENDAR