BEGIN:VCALENDAR
VERSION:2.0
PRODID:-//spbstu.ru//ical//RU
NAME:Расписание группы 3332801/50001
X-WR-CALNAME:Расписание группы 3332801/50001
TIMEZONE-ID:Europe/Moscow
X-WR-TIMEZONE:Europe/Moscow
BEGIN:VEVENT
UID:4ovu@192.168.245.71:3006
SEQUENCE:0
DTSTAMP:20260421T000311Z
DTSTART:20260323T050000Z
DTEND:20260323T064000Z
SUMMARY:Элективная физическая культура и спорт
LOCATION:СК Секции
END:VEVENT
BEGIN:VEVENT
UID:arm5@192.168.245.71:3006
SEQUENCE:0
DTSTAMP:20260421T000311Z
DTSTART:20260323T070000Z
DTEND:20260323T084000Z
SUMMARY:Высшая математика
LOCATION:Хим. к. 52
END:VEVENT
BEGIN:VEVENT
UID:zf2d@192.168.245.71:3006
SEQUENCE:0
DTSTAMP:20260421T000311Z
DTSTART:20260323T090000Z
DTEND:20260323T104000Z
SUMMARY:Химическая физика
LOCATION:Хим. к. 51
END:VEVENT
BEGIN:VEVENT
UID:t4cw@192.168.245.71:3006
SEQUENCE:0
DTSTAMP:20260421T000311Z
DTSTART:20260323T110000Z
DTEND:20260323T124000Z
SUMMARY:Химическая физика
LOCATION:Хим. к. 51
END:VEVENT
BEGIN:VEVENT
UID:k9x3@192.168.245.71:3006
SEQUENCE:0
DTSTAMP:20260421T000311Z
DTSTART:20260324T060000Z
DTEND:20260324T084000Z
SUMMARY:Информатика
LOCATION:Хим. к. 56
END:VEVENT
BEGIN:VEVENT
UID:m3o8@192.168.245.71:3006
SEQUENCE:0
DTSTAMP:20260421T000311Z
DTSTART:20260324T070000Z
DTEND:20260324T084000Z
SUMMARY:Физика (доп.)
LOCATION:1 к. 425
END:VEVENT
BEGIN:VEVENT
UID:mumd@192.168.245.71:3006
SEQUENCE:0
DTSTAMP:20260421T000311Z
DTSTART:20260324T110000Z
DTEND:20260324T124000Z
SUMMARY:Информатика
LOCATION:Хим. к. 52
END:VEVENT
BEGIN:VEVENT
UID:oose@192.168.245.71:3006
SEQUENCE:0
DTSTAMP:20260421T000311Z
DTSTART:20260324T130000Z
DTEND:20260324T144000Z
SUMMARY:Инженерная графика
LOCATION:Хим. к. 52
END:VEVENT
BEGIN:VEVENT
UID:mwj7@192.168.245.71:3006
SEQUENCE:0
DTSTAMP:20260421T000311Z
DTSTART:20260325T050000Z
DTEND:20260325T064000Z
SUMMARY:История России
LOCATION:Хим. к. 52
END:VEVENT
BEGIN:VEVENT
UID:h0wk@192.168.245.71:3006
SEQUENCE:0
DTSTAMP:20260421T000311Z
DTSTART:20260325T070000Z
DTEND:20260325T084000Z
SUMMARY:Физика
LOCATION:1 к. 436
END:VEVENT
BEGIN:VEVENT
UID:rjhz@192.168.245.71:3006
SEQUENCE:0
DTSTAMP:20260421T000311Z
DTSTART:20260325T090000Z
DTEND:20260325T104000Z
SUMMARY:Иностранный язык: Базовый курс
LOCATION:Хим. к. 51
END:VEVENT
BEGIN:VEVENT
UID:svm2@192.168.245.71:3006
SEQUENCE:0
DTSTAMP:20260421T000311Z
DTSTART:20260325T110000Z
DTEND:20260325T124000Z
SUMMARY:Информатика
LOCATION:ГЗ 328
END:VEVENT
BEGIN:VEVENT
UID:9fmq@192.168.245.71:3006
SEQUENCE:0
DTSTAMP:20260421T000311Z
DTSTART:20260325T110000Z
DTEND:20260325T133000Z
SUMMARY:Физика (доп.)
LOCATION:1 к. 413
END:VEVENT
BEGIN:VEVENT
UID:qswc@192.168.245.71:3006
SEQUENCE:0
DTSTAMP:20260421T000311Z
DTSTART:20260325T133000Z
DTEND:20260325T151000Z
SUMMARY:Физика (доп.)
LOCATION:1 к. 413
END:VEVENT
BEGIN:VEVENT
UID:g2n8@192.168.245.71:3006
SEQUENCE:0
DTSTAMP:20260421T000311Z
DTSTART:20260325T153000Z
DTEND:20260325T170000Z
SUMMARY:Факультатив по основам методологии научных исследований
LOCATION:1 к. 413
END:VEVENT
BEGIN:VEVENT
UID:ld6n@192.168.245.71:3006
SEQUENCE:0
DTSTAMP:20260421T000311Z
DTSTART:20260326T050000Z
DTEND:20260326T064000Z
SUMMARY:Высшая математика повышенной сложности
LOCATION:1 к. 41
END:VEVENT
BEGIN:VEVENT
UID:9951@192.168.245.71:3006
SEQUENCE:0
DTSTAMP:20260421T000311Z
DTSTART:20260326T050000Z
DTEND:20260326T064000Z
SUMMARY:Высшая математика
LOCATION:ЛабК 203
END:VEVENT
BEGIN:VEVENT
UID:8ct0@192.168.245.71:3006
SEQUENCE:0
DTSTAMP:20260421T000311Z
DTSTART:20260326T070000Z
DTEND:20260326T084000Z
SUMMARY:Элективная физическая культура и спорт
LOCATION:СК Секции
END:VEVENT
BEGIN:VEVENT
UID:9emt@192.168.245.71:3006
SEQUENCE:0
DTSTAMP:20260421T000311Z
DTSTART:20260326T090000Z
DTEND:20260326T104000Z
SUMMARY:Инженерная графика
LOCATION:ГЗ 304
END:VEVENT
BEGIN:VEVENT
UID:n73t@192.168.245.71:3006
SEQUENCE:0
DTSTAMP:20260421T000311Z
DTSTART:20260326T110000Z
DTEND:20260326T124000Z
SUMMARY:Информатика
LOCATION:ГЗ 328
END:VEVENT
BEGIN:VEVENT
UID:iwtj@192.168.245.71:3006
SEQUENCE:0
DTSTAMP:20260421T000311Z
DTSTART:20260326T110000Z
DTEND:20260326T130000Z
SUMMARY:Основы российской государственности
LOCATION:1 к. 425
END:VEVENT
BEGIN:VEVENT
UID:8xzb@192.168.245.71:3006
SEQUENCE:0
DTSTAMP:20260421T000311Z
DTSTART:20260327T060000Z
DTEND:20260327T083000Z
SUMMARY:Физика
LOCATION:Хим. к. 52
END:VEVENT
BEGIN:VEVENT
UID:oe6s@192.168.245.71:3006
SEQUENCE:0
DTSTAMP:20260421T000311Z
DTSTART:20260327T090000Z
DTEND:20260327T104000Z
SUMMARY:Экономическая культура
LOCATION:Хим. к. 47
END:VEVENT
BEGIN:VEVENT
UID:2u9r@192.168.245.71:3006
SEQUENCE:0
DTSTAMP:20260421T000311Z
DTSTART:20260327T110000Z
DTEND:20260327T124000Z
SUMMARY:История России
LOCATION:Хим. к. 52
END:VEVENT
BEGIN:VEVENT
UID:zj97@192.168.245.71:3006
SEQUENCE:0
DTSTAMP:20260421T000311Z
DTSTART:20260327T150000Z
DTEND:20260327T164000Z
SUMMARY:Высшая математика повышенной сложности
LOCATION:1 к. 41
END:VEVENT
BEGIN:VEVENT
UID:uw7x@192.168.245.71:3006
SEQUENCE:0
DTSTAMP:20260421T000311Z
DTSTART:20260328T070000Z
DTEND:20260328T084000Z
SUMMARY:Кристаллография и кристаллохимия
LOCATION:Хим. к. 47
END:VEVENT
BEGIN:VEVENT
UID:vwo9@192.168.245.71:3006
SEQUENCE:0
DTSTAMP:20260421T000311Z
DTSTART:20260328T090000Z
DTEND:20260328T104000Z
SUMMARY:Кристаллография и кристаллохимия
LOCATION:Хим. к. 47
END:VEVENT
BEGIN:VEVENT
UID:021h@192.168.245.71:3006
SEQUENCE:0
DTSTAMP:20260421T000311Z
DTSTART:20260328T110000Z
DTEND:20260328T124000Z
SUMMARY:Кристаллография и кристаллохимия
LOCATION:Хим. к. 47
END:VEVENT
BEGIN:VEVENT
UID:yrx9@192.168.245.71:3006
SEQUENCE:0
DTSTAMP:20260421T000311Z
DTSTART:20260328T130000Z
DTEND:20260328T144000Z
SUMMARY:Кристаллография и кристаллохимия
LOCATION:Хим. к. 47
END:VEVENT
END:VCALENDAR