BEGIN:VCALENDAR
VERSION:2.0
PRODID:-//spbstu.ru//ical//RU
NAME:Расписание группы 3332801/50001
X-WR-CALNAME:Расписание группы 3332801/50001
TIMEZONE-ID:Europe/Moscow
X-WR-TIMEZONE:Europe/Moscow
BEGIN:VEVENT
UID:nheo@192.168.245.71:3006
SEQUENCE:0
DTSTAMP:20260420T172916Z
DTSTART:20260413T050000Z
DTEND:20260413T064000Z
SUMMARY:Элективная физическая культура и спорт
LOCATION:СК Секции
END:VEVENT
BEGIN:VEVENT
UID:tvg2@192.168.245.71:3006
SEQUENCE:0
DTSTAMP:20260420T172916Z
DTSTART:20260413T070000Z
DTEND:20260413T084000Z
SUMMARY:Высшая математика
LOCATION:Хим. к. 52
END:VEVENT
BEGIN:VEVENT
UID:gjgf@192.168.245.71:3006
SEQUENCE:0
DTSTAMP:20260420T172916Z
DTSTART:20260413T090000Z
DTEND:20260413T104000Z
SUMMARY:Химическая физика
LOCATION:Хим. к. 52
END:VEVENT
BEGIN:VEVENT
UID:m8db@192.168.245.71:3006
SEQUENCE:0
DTSTAMP:20260420T172916Z
DTSTART:20260413T110000Z
DTEND:20260413T124000Z
SUMMARY:Химическая физика
LOCATION:Хим. к. 58
END:VEVENT
BEGIN:VEVENT
UID:yrsf@192.168.245.71:3006
SEQUENCE:0
DTSTAMP:20260420T172916Z
DTSTART:20260414T060000Z
DTEND:20260414T084000Z
SUMMARY:Информатика
LOCATION:Хим. к. 56
END:VEVENT
BEGIN:VEVENT
UID:pzsh@192.168.245.71:3006
SEQUENCE:0
DTSTAMP:20260420T172916Z
DTSTART:20260414T070000Z
DTEND:20260414T084000Z
SUMMARY:Физика (доп.)
LOCATION:1 к. 425
END:VEVENT
BEGIN:VEVENT
UID:7pcr@192.168.245.71:3006
SEQUENCE:0
DTSTAMP:20260420T172916Z
DTSTART:20260414T090000Z
DTEND:20260414T104000Z
SUMMARY:Высшая математика
LOCATION:ЛабК 203
END:VEVENT
BEGIN:VEVENT
UID:pet2@192.168.245.71:3006
SEQUENCE:0
DTSTAMP:20260420T172916Z
DTSTART:20260414T110000Z
DTEND:20260414T124000Z
SUMMARY:Информатика
LOCATION:Хим. к. 52
END:VEVENT
BEGIN:VEVENT
UID:679d@192.168.245.71:3006
SEQUENCE:0
DTSTAMP:20260420T172916Z
DTSTART:20260414T130000Z
DTEND:20260414T150000Z
SUMMARY:Инженерная графика
LOCATION:ГЗ 304
END:VEVENT
BEGIN:VEVENT
UID:u7pn@192.168.245.71:3006
SEQUENCE:0
DTSTAMP:20260420T172916Z
DTSTART:20260415T070000Z
DTEND:20260415T084000Z
SUMMARY:Физика
LOCATION:1 к. 436
END:VEVENT
BEGIN:VEVENT
UID:72iw@192.168.245.71:3006
SEQUENCE:0
DTSTAMP:20260420T172916Z
DTSTART:20260415T090000Z
DTEND:20260415T104000Z
SUMMARY:Иностранный язык: Базовый курс
LOCATION:Хим. к. 51
END:VEVENT
BEGIN:VEVENT
UID:p3b5@192.168.245.71:3006
SEQUENCE:0
DTSTAMP:20260420T172916Z
DTSTART:20260415T110000Z
DTEND:20260415T124000Z
SUMMARY:Информатика
LOCATION:ГЗ 328
END:VEVENT
BEGIN:VEVENT
UID:657j@192.168.245.71:3006
SEQUENCE:0
DTSTAMP:20260420T172916Z
DTSTART:20260415T110000Z
DTEND:20260415T133000Z
SUMMARY:Физика (доп.)
LOCATION:1 к. 413
END:VEVENT
BEGIN:VEVENT
UID:48vk@192.168.245.71:3006
SEQUENCE:0
DTSTAMP:20260420T172916Z
DTSTART:20260415T133000Z
DTEND:20260415T151000Z
SUMMARY:Физика (доп.)
LOCATION:1 к. 413
END:VEVENT
BEGIN:VEVENT
UID:ctcx@192.168.245.71:3006
SEQUENCE:0
DTSTAMP:20260420T172916Z
DTSTART:20260415T150000Z
DTEND:20260415T170000Z
SUMMARY:Иностранный язык: Базовый курс
LOCATION:1 к. 417
END:VEVENT
BEGIN:VEVENT
UID:pq1t@192.168.245.71:3006
SEQUENCE:0
DTSTAMP:20260420T172916Z
DTSTART:20260416T050000Z
DTEND:20260416T064000Z
SUMMARY:Высшая математика повышенной сложности
LOCATION:1 к. 41
END:VEVENT
BEGIN:VEVENT
UID:v1ym@192.168.245.71:3006
SEQUENCE:0
DTSTAMP:20260420T172916Z
DTSTART:20260416T070000Z
DTEND:20260416T084000Z
SUMMARY:Элективная физическая культура и спорт
LOCATION:СК Секции
END:VEVENT
BEGIN:VEVENT
UID:o3cp@192.168.245.71:3006
SEQUENCE:0
DTSTAMP:20260420T172916Z
DTSTART:20260416T090000Z
DTEND:20260416T104000Z
SUMMARY:Инженерная графика
LOCATION:ГЗ 304
END:VEVENT
BEGIN:VEVENT
UID:gd9t@192.168.245.71:3006
SEQUENCE:0
DTSTAMP:20260420T172916Z
DTSTART:20260417T060000Z
DTEND:20260417T083000Z
SUMMARY:Физика
LOCATION:Хим. к. 52
END:VEVENT
BEGIN:VEVENT
UID:kvd6@192.168.245.71:3006
SEQUENCE:0
DTSTAMP:20260420T172916Z
DTSTART:20260417T090000Z
DTEND:20260417T104000Z
SUMMARY:Физика
LOCATION:ГЗ 155
END:VEVENT
BEGIN:VEVENT
UID:1em0@192.168.245.71:3006
SEQUENCE:0
DTSTAMP:20260420T172916Z
DTSTART:20260417T090000Z
DTEND:20260417T104000Z
SUMMARY:Физика
LOCATION:ГЗ 155
END:VEVENT
BEGIN:VEVENT
UID:o6s0@192.168.245.71:3006
SEQUENCE:0
DTSTAMP:20260420T172916Z
DTSTART:20260417T090000Z
DTEND:20260417T104000Z
SUMMARY:Физика
LOCATION:ГЗ 155
END:VEVENT
BEGIN:VEVENT
UID:gm7v@192.168.245.71:3006
SEQUENCE:0
DTSTAMP:20260420T172916Z
DTSTART:20260417T110000Z
DTEND:20260417T124000Z
SUMMARY:История России
LOCATION:Хим. к. 52
END:VEVENT
BEGIN:VEVENT
UID:lx40@192.168.245.71:3006
SEQUENCE:0
DTSTAMP:20260420T172916Z
DTSTART:20260417T150000Z
DTEND:20260417T164000Z
SUMMARY:Высшая математика повышенной сложности
LOCATION:1 к. 41
END:VEVENT
BEGIN:VEVENT
UID:1btd@192.168.245.71:3006
SEQUENCE:0
DTSTAMP:20260420T172916Z
DTSTART:20260418T070000Z
DTEND:20260418T084000Z
SUMMARY:Кристаллография и кристаллохимия
LOCATION:Хим. к. 47
END:VEVENT
BEGIN:VEVENT
UID:34sk@192.168.245.71:3006
SEQUENCE:0
DTSTAMP:20260420T172916Z
DTSTART:20260418T090000Z
DTEND:20260418T104000Z
SUMMARY:Кристаллография и кристаллохимия
LOCATION:Хим. к. 47
END:VEVENT
BEGIN:VEVENT
UID:54z0@192.168.245.71:3006
SEQUENCE:0
DTSTAMP:20260420T172916Z
DTSTART:20260418T110000Z
DTEND:20260418T124000Z
SUMMARY:Кристаллография и кристаллохимия
LOCATION:Хим. к. 47
END:VEVENT
BEGIN:VEVENT
UID:v3fs@192.168.245.71:3006
SEQUENCE:0
DTSTAMP:20260420T172916Z
DTSTART:20260418T130000Z
DTEND:20260418T144000Z
SUMMARY:Кристаллография и кристаллохимия
LOCATION:Хим. к. 47
END:VEVENT
END:VCALENDAR