BEGIN:VCALENDAR
VERSION:2.0
PRODID:-//spbstu.ru//ical//RU
NAME:Расписание группы 3341501/50101
X-WR-CALNAME:Расписание группы 3341501/50101
TIMEZONE-ID:Europe/Moscow
X-WR-TIMEZONE:Europe/Moscow
BEGIN:VEVENT
UID:slnp@192.168.245.71:3006
SEQUENCE:0
DTSTAMP:20260424T235020Z
DTSTART:20251013T090000Z
DTEND:20251013T104000Z
SUMMARY:Современные конструкционные материалы
LOCATION:ГЗ 57
END:VEVENT
BEGIN:VEVENT
UID:spk0@192.168.245.71:3006
SEQUENCE:0
DTSTAMP:20260424T235020Z
DTSTART:20251013T110000Z
DTEND:20251013T124000Z
SUMMARY:Современные конструкционные материалы
LOCATION:ГЗ 57
END:VEVENT
BEGIN:VEVENT
UID:o627@192.168.245.71:3006
SEQUENCE:0
DTSTAMP:20260424T235020Z
DTSTART:20251013T130000Z
DTEND:20251013T144000Z
SUMMARY:Управление научным проектом
LOCATION:ЛабК кафедра МиТОД
END:VEVENT
BEGIN:VEVENT
UID:mvh4@192.168.245.71:3006
SEQUENCE:0
DTSTAMP:20260424T235020Z
DTSTART:20251015T070000Z
DTEND:20251015T084000Z
SUMMARY:Автоматизированное проектирование технологий обработки давлением
LOCATION:ЛабК кафедра МиТОД
END:VEVENT
BEGIN:VEVENT
UID:ovtt@192.168.245.71:3006
SEQUENCE:0
DTSTAMP:20260424T235020Z
DTSTART:20251015T090000Z
DTEND:20251015T104000Z
SUMMARY:Автоматизированное проектирование технологий обработки давлением
LOCATION:ЛабК кафедра МиТОД
END:VEVENT
BEGIN:VEVENT
UID:wbe0@192.168.245.71:3006
SEQUENCE:0
DTSTAMP:20260424T235020Z
DTSTART:20251015T110000Z
DTEND:20251015T124000Z
SUMMARY:Иностранный язык в профессиональной коммуникации\, Английский
LOCATION:ЛабК кафедра МиТОД
END:VEVENT
BEGIN:VEVENT
UID:eecv@192.168.245.71:3006
SEQUENCE:0
DTSTAMP:20260424T235020Z
DTSTART:20251018T070000Z
DTEND:20251018T084000Z
SUMMARY:Автоматизация кузнечно-штамповочного производства
LOCATION:ЛабК кафедра МиТОД
END:VEVENT
BEGIN:VEVENT
UID:s4bq@192.168.245.71:3006
SEQUENCE:0
DTSTAMP:20260424T235020Z
DTSTART:20251018T090000Z
DTEND:20251018T104000Z
SUMMARY:Автоматизация кузнечно-штамповочного производства
LOCATION:ЛабК кафедра МиТОД
END:VEVENT
END:VCALENDAR