BEGIN:VCALENDAR
VERSION:2.0
PRODID:-//spbstu.ru//ical//RU
NAME:Расписание группы 3341501/50101
X-WR-CALNAME:Расписание группы 3341501/50101
TIMEZONE-ID:Europe/Moscow
X-WR-TIMEZONE:Europe/Moscow
BEGIN:VEVENT
UID:c8xa@192.168.245.71:3006
SEQUENCE:0
DTSTAMP:20260423T141308Z
DTSTART:20251223T110000Z
DTEND:20251223T140000Z
SUMMARY:Управление научным проектом
LOCATION:ЛабК кафедра МиТОД
END:VEVENT
BEGIN:VEVENT
UID:w23e@192.168.245.71:3006
SEQUENCE:0
DTSTAMP:20260423T141308Z
DTSTART:20251224T110000Z
DTEND:20251224T140000Z
SUMMARY:Современные конструкционные материалы
LOCATION:ГЗ 57
END:VEVENT
BEGIN:VEVENT
UID:96c8@192.168.245.71:3006
SEQUENCE:0
DTSTAMP:20260423T141308Z
DTSTART:20251225T110000Z
DTEND:20251225T140000Z
SUMMARY:Математические методы в инженерии
LOCATION:ЛабК кафедра МиТОД
END:VEVENT
BEGIN:VEVENT
UID:pzmd@192.168.245.71:3006
SEQUENCE:0
DTSTAMP:20260423T141308Z
DTSTART:20251226T070000Z
DTEND:20251226T074500Z
SUMMARY:Иностранный язык в профессиональной коммуникации\, Английский
LOCATION:ЛабК кафедра МиТОД
END:VEVENT
BEGIN:VEVENT
UID:s9lc@192.168.245.71:3006
SEQUENCE:0
DTSTAMP:20260423T141308Z
DTSTART:20251226T080000Z
DTEND:20251226T110000Z
SUMMARY:Иностранный язык в профессиональной коммуникации\, Английский
LOCATION:ЛабК кафедра МиТОД
END:VEVENT
END:VCALENDAR