BEGIN:VCALENDAR
VERSION:2.0
PRODID:-//spbstu.ru//ical//RU
NAME:Расписание группы 3341501/50101
X-WR-CALNAME:Расписание группы 3341501/50101
TIMEZONE-ID:Europe/Moscow
X-WR-TIMEZONE:Europe/Moscow
BEGIN:VEVENT
UID:lj7q@192.168.245.71:3006
SEQUENCE:0
DTSTAMP:20260422T071207Z
DTSTART:20260311T070000Z
DTEND:20260311T084000Z
SUMMARY:Компьютерное проектирование технологий холодной листовой и объемно
 й штамповки
LOCATION:ЛабК кафедра МиТОД
END:VEVENT
BEGIN:VEVENT
UID:1lqs@192.168.245.71:3006
SEQUENCE:0
DTSTAMP:20260422T071207Z
DTSTART:20260311T090000Z
DTEND:20260311T104000Z
SUMMARY:Компьютерное проектирование технологий холодной листовой и объемно
 й штамповки
LOCATION:ЛабК кафедра МиТОД
END:VEVENT
BEGIN:VEVENT
UID:byu2@192.168.245.71:3006
SEQUENCE:0
DTSTAMP:20260422T071207Z
DTSTART:20260311T110000Z
DTEND:20260311T124000Z
SUMMARY:Специальное кузнечное оборудование
LOCATION:ЛабК кафедра МиТОД
END:VEVENT
BEGIN:VEVENT
UID:gvo9@192.168.245.71:3006
SEQUENCE:0
DTSTAMP:20260422T071207Z
DTSTART:20260311T130000Z
DTEND:20260311T144000Z
SUMMARY:Основы научных исследований\, организация и планирование экспериме
 нта
LOCATION:ЛабК кафедра МиТОД
END:VEVENT
BEGIN:VEVENT
UID:sih0@192.168.245.71:3006
SEQUENCE:0
DTSTAMP:20260422T071207Z
DTSTART:20260314T070000Z
DTEND:20260314T084000Z
SUMMARY:Наукоемкие технологии обработки давлением
LOCATION:ЛабК кафедра МиТОД
END:VEVENT
BEGIN:VEVENT
UID:rf1v@192.168.245.71:3006
SEQUENCE:0
DTSTAMP:20260422T071207Z
DTSTART:20260314T090000Z
DTEND:20260314T104000Z
SUMMARY:Технологии многооперационных процессов штамповки
LOCATION:ЛабК кафедра МиТОД
END:VEVENT
BEGIN:VEVENT
UID:5lwc@192.168.245.71:3006
SEQUENCE:0
DTSTAMP:20260422T071207Z
DTSTART:20260314T110000Z
DTEND:20260314T124000Z
SUMMARY:Технологии многооперационных процессов штамповки
LOCATION:ЛабК кафедра МиТОД
END:VEVENT
END:VCALENDAR