BEGIN:VCALENDAR
VERSION:2.0
PRODID:-//spbstu.ru//ical//RU
NAME:Расписание группы 3341501/51501
X-WR-CALNAME:Расписание группы 3341501/51501
TIMEZONE-ID:Europe/Moscow
X-WR-TIMEZONE:Europe/Moscow
BEGIN:VEVENT
UID:rdyn@192.168.245.71:3006
SEQUENCE:0
DTSTAMP:20260421T141743Z
DTSTART:20260429T090000Z
DTEND:20260429T104000Z
SUMMARY:Математические методы в инженерии
LOCATION:ГЗ 327-3
END:VEVENT
BEGIN:VEVENT
UID:m3tb@192.168.245.71:3006
SEQUENCE:0
DTSTAMP:20260421T141743Z
DTSTART:20260429T110000Z
DTEND:20260429T124000Z
SUMMARY:Композиты и разрушение
LOCATION:Хим. к. Прокатка2
END:VEVENT
BEGIN:VEVENT
UID:n3hz@192.168.245.71:3006
SEQUENCE:0
DTSTAMP:20260421T141743Z
DTSTART:20260429T130000Z
DTEND:20260429T144000Z
SUMMARY:Основы научных исследований\, организация и планирование экспериме
 нта
LOCATION:ЛабК кафедра МиТОД
END:VEVENT
BEGIN:VEVENT
UID:vljw@192.168.245.71:3006
SEQUENCE:0
DTSTAMP:20260421T141743Z
DTSTART:20260430T070000Z
DTEND:20260430T084000Z
SUMMARY:Современные технологии программирования
LOCATION:ГЗ 346
END:VEVENT
BEGIN:VEVENT
UID:yoil@192.168.245.71:3006
SEQUENCE:0
DTSTAMP:20260421T141743Z
DTSTART:20260430T090000Z
DTEND:20260430T104000Z
SUMMARY:Вычислительная механика и компьютерный инжиниринг
LOCATION:ГЗ 346-5
END:VEVENT
BEGIN:VEVENT
UID:icr3@192.168.245.71:3006
SEQUENCE:0
DTSTAMP:20260421T141743Z
DTSTART:20260430T110000Z
DTEND:20260430T124000Z
SUMMARY:Вычислительная механика и компьютерный инжиниринг
LOCATION:ГЗ 346-5
END:VEVENT
BEGIN:VEVENT
UID:bx6x@192.168.245.71:3006
SEQUENCE:0
DTSTAMP:20260421T141743Z
DTSTART:20260430T130000Z
DTEND:20260430T144000Z
SUMMARY:Применение интегрированных CAD/CAM систем
LOCATION:ГЗ 346-5
END:VEVENT
BEGIN:VEVENT
UID:gf9p@192.168.245.71:3006
SEQUENCE:0
DTSTAMP:20260421T141743Z
DTSTART:20260502T070000Z
DTEND:20260502T084000Z
SUMMARY:Научный дискурс
LOCATION:ЛабК кафедра МиТОД
END:VEVENT
BEGIN:VEVENT
UID:na4u@192.168.245.71:3006
SEQUENCE:0
DTSTAMP:20260421T141743Z
DTSTART:20260502T090000Z
DTEND:20260502T104000Z
SUMMARY:Научный дискурс
LOCATION:ЛабК кафедра МиТОД
END:VEVENT
END:VCALENDAR