BEGIN:VCALENDAR
VERSION:2.0
PRODID:-//spbstu.ru//ical//RU
NAME:Расписание группы 3341505/50101
X-WR-CALNAME:Расписание группы 3341505/50101
TIMEZONE-ID:Europe/Moscow
X-WR-TIMEZONE:Europe/Moscow
BEGIN:VEVENT
UID:cuwz@192.168.245.71:3006
SEQUENCE:0
DTSTAMP:20260421T134926Z
DTSTART:20260422T110000Z
DTEND:20260422T124000Z
SUMMARY:Проектирование машиностроительных производств
LOCATION:Мех. к. каф.Т М
END:VEVENT
BEGIN:VEVENT
UID:razi@192.168.245.71:3006
SEQUENCE:0
DTSTAMP:20260421T134926Z
DTSTART:20260422T130000Z
DTEND:20260422T153000Z
SUMMARY:Научные исследования в технологии машиностроения
LOCATION:Мех. к. каф.Т М
END:VEVENT
BEGIN:VEVENT
UID:lhh3@192.168.245.71:3006
SEQUENCE:0
DTSTAMP:20260421T134926Z
DTSTART:20260425T070000Z
DTEND:20260425T084000Z
SUMMARY:Технология машиностроения
LOCATION:Мех. к. каф.Т М
END:VEVENT
BEGIN:VEVENT
UID:uk2f@192.168.245.71:3006
SEQUENCE:0
DTSTAMP:20260421T134926Z
DTSTART:20260425T090000Z
DTEND:20260425T104000Z
SUMMARY:Технология машиностроения
LOCATION:Мех. к. каф.Т М
END:VEVENT
BEGIN:VEVENT
UID:kv98@192.168.245.71:3006
SEQUENCE:0
DTSTAMP:20260421T134926Z
DTSTART:20260425T110000Z
DTEND:20260425T124000Z
SUMMARY:Автоматизированное проектирование технологических процессов
LOCATION:Мех. к. каф.Т М
END:VEVENT
END:VCALENDAR