BEGIN:VCALENDAR
VERSION:2.0
PRODID:-//spbstu.ru//ical//RU
NAME:Расписание группы 3341505/50301
X-WR-CALNAME:Расписание группы 3341505/50301
TIMEZONE-ID:Europe/Moscow
X-WR-TIMEZONE:Europe/Moscow
BEGIN:VEVENT
UID:2fjz@192.168.245.71:3006
SEQUENCE:0
DTSTAMP:20260424T145521Z
DTSTART:20251124T090000Z
DTEND:20251124T104000Z
SUMMARY:Математические методы в инженерии
LOCATION:Мех. к. каф.Т М
END:VEVENT
BEGIN:VEVENT
UID:dt4p@192.168.245.71:3006
SEQUENCE:0
DTSTAMP:20260424T145521Z
DTSTART:20251124T110000Z
DTEND:20251124T124000Z
SUMMARY:Технология автомобилестроения
LOCATION:Мех. к. каф.Т М
END:VEVENT
BEGIN:VEVENT
UID:3cbh@192.168.245.71:3006
SEQUENCE:0
DTSTAMP:20260424T145521Z
DTSTART:20251124T130000Z
DTEND:20251124T144000Z
SUMMARY:Технология автомобилестроения
LOCATION:Мех. к. каф.Т М
END:VEVENT
BEGIN:VEVENT
UID:gyri@192.168.245.71:3006
SEQUENCE:0
DTSTAMP:20260424T145521Z
DTSTART:20251124T150000Z
DTEND:20251124T164000Z
SUMMARY:Основы научных исследований\, организация и планирование экспериме
 нта
LOCATION:ЛабК кафедра МиТОД
END:VEVENT
BEGIN:VEVENT
UID:i0qo@192.168.245.71:3006
SEQUENCE:0
DTSTAMP:20260424T145521Z
DTSTART:20251127T090000Z
DTEND:20251127T104000Z
SUMMARY:Иностранный язык в профессиональной коммуникации\, Английский
LOCATION:Мех. к. каф.Т М
END:VEVENT
BEGIN:VEVENT
UID:y4gm@192.168.245.71:3006
SEQUENCE:0
DTSTAMP:20260424T145521Z
DTSTART:20251127T110000Z
DTEND:20251127T124000Z
SUMMARY:Математические методы в инженерии
LOCATION:Мех. к. каф.Т М
END:VEVENT
BEGIN:VEVENT
UID:odr9@192.168.245.71:3006
SEQUENCE:0
DTSTAMP:20260424T145521Z
DTSTART:20251129T110000Z
DTEND:20251129T124000Z
SUMMARY:История и методология науки
LOCATION:Мех. к. каф.Т М
END:VEVENT
BEGIN:VEVENT
UID:516r@192.168.245.71:3006
SEQUENCE:0
DTSTAMP:20260424T145521Z
DTSTART:20251129T130000Z
DTEND:20251129T144000Z
SUMMARY:Технология автомобилестроения
LOCATION:Мех. к. каф.Т М
END:VEVENT
END:VCALENDAR