BEGIN:VCALENDAR
VERSION:2.0
PRODID:-//spbstu.ru//ical//RU
NAME:Расписание группы 3341505/50301
X-WR-CALNAME:Расписание группы 3341505/50301
TIMEZONE-ID:Europe/Moscow
X-WR-TIMEZONE:Europe/Moscow
BEGIN:VEVENT
UID:jnsv@192.168.245.71:3006
SEQUENCE:0
DTSTAMP:20260421T084934Z
DTSTART:20260429T100000Z
DTEND:20260429T123000Z
SUMMARY:Научные исследования в технологии машиностроения
LOCATION:Мех. к. каф.Т М
END:VEVENT
BEGIN:VEVENT
UID:t2fu@192.168.245.71:3006
SEQUENCE:0
DTSTAMP:20260421T084934Z
DTSTART:20260429T130000Z
DTEND:20260429T144000Z
SUMMARY:Автоматизированное проектирование технологических процессов
LOCATION:Мех. к. каф.Т М
END:VEVENT
BEGIN:VEVENT
UID:e89e@192.168.245.71:3006
SEQUENCE:0
DTSTAMP:20260421T084934Z
DTSTART:20260502T050000Z
DTEND:20260502T064000Z
SUMMARY:Технология автомобилестроения
LOCATION:Мех. к. каф.Т М
END:VEVENT
BEGIN:VEVENT
UID:lktb@192.168.245.71:3006
SEQUENCE:0
DTSTAMP:20260421T084934Z
DTSTART:20260502T070000Z
DTEND:20260502T084000Z
SUMMARY:Технология автомобилестроения
LOCATION:Мех. к. каф.Т М
END:VEVENT
END:VCALENDAR