BEGIN:VCALENDAR
VERSION:2.0
PRODID:-//spbstu.ru//ical//RU
NAME:Расписание группы 3341506/50101
X-WR-CALNAME:Расписание группы 3341506/50101
TIMEZONE-ID:Europe/Moscow
X-WR-TIMEZONE:Europe/Moscow
BEGIN:VEVENT
UID:5mxh@192.168.245.71:3006
SEQUENCE:0
DTSTAMP:20260421T085008Z
DTSTART:20260420T070000Z
DTEND:20260420T084000Z
SUMMARY:Основы научных исследований\, организация и планирование экспериме
 нта
LOCATION:1 к. 413
END:VEVENT
BEGIN:VEVENT
UID:4ehz@192.168.245.71:3006
SEQUENCE:0
DTSTAMP:20260421T085008Z
DTSTART:20260420T090000Z
DTEND:20260420T104000Z
SUMMARY:Основы научных исследований\, организация и планирование экспериме
 нта
LOCATION:1 к. кафедра Автоматы
END:VEVENT
BEGIN:VEVENT
UID:temw@192.168.245.71:3006
SEQUENCE:0
DTSTAMP:20260421T085008Z
DTSTART:20260420T110000Z
DTEND:20260420T124000Z
SUMMARY:Иностранный язык в профессиональной коммуникации\, Английский
LOCATION:1 к. 417
END:VEVENT
BEGIN:VEVENT
UID:167o@192.168.245.71:3006
SEQUENCE:0
DTSTAMP:20260421T085008Z
DTSTART:20260421T060000Z
DTEND:20260421T065000Z
SUMMARY:Моделирование технологических машин и оборудования
LOCATION:1 к. кафедра Автоматы
END:VEVENT
BEGIN:VEVENT
UID:8k9u@192.168.245.71:3006
SEQUENCE:0
DTSTAMP:20260421T085008Z
DTSTART:20260421T070000Z
DTEND:20260421T084000Z
SUMMARY:Моделирование технологических машин и оборудования
LOCATION:1 к. кафедра Автоматы
END:VEVENT
BEGIN:VEVENT
UID:bcmu@192.168.245.71:3006
SEQUENCE:0
DTSTAMP:20260421T085008Z
DTSTART:20260421T090000Z
DTEND:20260421T104000Z
SUMMARY:Конструирование мехатронных модулей
LOCATION:1 к. кафедра Автоматы
END:VEVENT
BEGIN:VEVENT
UID:ej1g@192.168.245.71:3006
SEQUENCE:0
DTSTAMP:20260421T085008Z
DTSTART:20260422T070000Z
DTEND:20260422T084000Z
SUMMARY:Методы и теория оптимизации
LOCATION:ГЗ 265
END:VEVENT
BEGIN:VEVENT
UID:p76u@192.168.245.71:3006
SEQUENCE:0
DTSTAMP:20260421T085008Z
DTSTART:20260422T090000Z
DTEND:20260422T104000Z
SUMMARY:Приводы автоматических машин
LOCATION:1 к. 425
END:VEVENT
BEGIN:VEVENT
UID:vlt2@192.168.245.71:3006
SEQUENCE:0
DTSTAMP:20260421T085008Z
DTSTART:20260422T110000Z
DTEND:20260422T124000Z
SUMMARY:Приводы автоматических машин
LOCATION:1 к. кафедра Автоматы
END:VEVENT
BEGIN:VEVENT
UID:lr8a@192.168.245.71:3006
SEQUENCE:0
DTSTAMP:20260421T085008Z
DTSTART:20260422T130000Z
DTEND:20260422T144000Z
SUMMARY:Конструирование мехатронных модулей
LOCATION:1 к. кафедра Автоматы
END:VEVENT
END:VCALENDAR