BEGIN:VCALENDAR
VERSION:2.0
PRODID:-//spbstu.ru//ical//RU
NAME:Расписание группы 3342705/51101
X-WR-CALNAME:Расписание группы 3342705/51101
TIMEZONE-ID:Europe/Moscow
X-WR-TIMEZONE:Europe/Moscow
BEGIN:VEVENT
UID:r2gl@192.168.245.71:3006
SEQUENCE:0
DTSTAMP:20260422T123219Z
DTSTART:20260518T130000Z
DTEND:20260518T144000Z
SUMMARY:Управление инновационными процессами: управление инновационными пр
 ограммами\, методы и инструменты управления\, управление продуктами
LOCATION:11 к. 344
END:VEVENT
BEGIN:VEVENT
UID:fs9o@192.168.245.71:3006
SEQUENCE:0
DTSTAMP:20260422T123219Z
DTSTART:20260520T150000Z
DTEND:20260520T164000Z
SUMMARY:Теоретические основы инновационной деятельности
LOCATION:11 к. 345
END:VEVENT
BEGIN:VEVENT
UID:hpgq@192.168.245.71:3006
SEQUENCE:0
DTSTAMP:20260422T123219Z
DTSTART:20260522T130000Z
DTEND:20260522T144000Z
SUMMARY:Математические модели технических объектов управления
LOCATION:11 к. 345
END:VEVENT
BEGIN:VEVENT
UID:0bus@192.168.245.71:3006
SEQUENCE:0
DTSTAMP:20260422T123219Z
DTSTART:20260522T150000Z
DTEND:20260522T164000Z
SUMMARY:Основы управления проектными командами
LOCATION:11 к. 350
END:VEVENT
BEGIN:VEVENT
UID:5htd@192.168.245.71:3006
SEQUENCE:0
DTSTAMP:20260422T123219Z
DTSTART:20260523T090000Z
DTEND:20260523T104000Z
SUMMARY:Дизайн-мышление
LOCATION:11 к. 345
END:VEVENT
BEGIN:VEVENT
UID:2si8@192.168.245.71:3006
SEQUENCE:0
DTSTAMP:20260422T123219Z
DTSTART:20260523T110000Z
DTEND:20260523T124000Z
SUMMARY:Архитектура\, процессы и стратегия управления организацией
LOCATION:11 к. 345
END:VEVENT
END:VCALENDAR