BEGIN:VCALENDAR
VERSION:2.0
PRODID:-//spbstu.ru//ical//RU
NAME:Расписание группы 3342904/50101
X-WR-CALNAME:Расписание группы 3342904/50101
TIMEZONE-ID:Europe/Moscow
X-WR-TIMEZONE:Europe/Moscow
BEGIN:VEVENT
UID:4tld@192.168.245.71:3006
SEQUENCE:0
DTSTAMP:20260425T192007Z
DTSTART:20250930T150000Z
DTEND:20250930T164000Z
SUMMARY:Традиционные и инновационные технологии в искусстве художественных
  эмалей
LOCATION:Хим. к. 69
END:VEVENT
BEGIN:VEVENT
UID:rflz@192.168.245.71:3006
SEQUENCE:0
DTSTAMP:20260425T192007Z
DTSTART:20251002T110000Z
DTEND:20251002T124000Z
SUMMARY:История и методология науки
LOCATION:11 к. Маштех
END:VEVENT
BEGIN:VEVENT
UID:s224@192.168.245.71:3006
SEQUENCE:0
DTSTAMP:20260425T192007Z
DTSTART:20251003T090000Z
DTEND:20251003T104000Z
SUMMARY:Компьютерное проектирование и дизайн ювелирных изделий
LOCATION:11 к. Маштех
END:VEVENT
BEGIN:VEVENT
UID:f3r2@192.168.245.71:3006
SEQUENCE:0
DTSTAMP:20260425T192007Z
DTSTART:20251003T110000Z
DTEND:20251003T124000Z
SUMMARY:Компьютерное проектирование и дизайн ювелирных изделий
LOCATION:11 к. Маштех
END:VEVENT
BEGIN:VEVENT
UID:rabk@192.168.245.71:3006
SEQUENCE:0
DTSTAMP:20260425T192007Z
DTSTART:20251003T133000Z
DTEND:20251003T151000Z
SUMMARY:Технологии виртуальной и дополненной реальности при производстве х
 удожественных изделий
LOCATION:ГЗ 346-5
END:VEVENT
BEGIN:VEVENT
UID:4txz@192.168.245.71:3006
SEQUENCE:0
DTSTAMP:20260425T192007Z
DTSTART:20251003T151000Z
DTEND:20251003T165000Z
SUMMARY:Технологии виртуальной и дополненной реальности при производстве х
 удожественных изделий
LOCATION:ГЗ 346-5
END:VEVENT
END:VCALENDAR