BEGIN:VCALENDAR
VERSION:2.0
PRODID:-//spbstu.ru//ical//RU
NAME:Расписание группы 3352301/50001
X-WR-CALNAME:Расписание группы 3352301/50001
TIMEZONE-ID:Europe/Moscow
X-WR-TIMEZONE:Europe/Moscow
BEGIN:VEVENT
UID:9m8h@192.168.245.71:3006
SEQUENCE:0
DTSTAMP:20260420T222042Z
DTSTART:20260511T050000Z
DTEND:20260511T064000Z
SUMMARY:Элективная физическая культура и спорт
LOCATION:СК Секции
END:VEVENT
BEGIN:VEVENT
UID:vy31@192.168.245.71:3006
SEQUENCE:0
DTSTAMP:20260420T222042Z
DTSTART:20260511T090000Z
DTEND:20260511T104000Z
SUMMARY:Теоретическая механика
LOCATION:1 к. 435
END:VEVENT
BEGIN:VEVENT
UID:msq7@192.168.245.71:3006
SEQUENCE:0
DTSTAMP:20260420T222042Z
DTSTART:20260511T130000Z
DTEND:20260511T144000Z
SUMMARY:Высшая математика повышенной сложности
LOCATION:ГЗ 305
END:VEVENT
BEGIN:VEVENT
UID:ztgg@192.168.245.71:3006
SEQUENCE:0
DTSTAMP:20260420T222042Z
DTSTART:20260512T070000Z
DTEND:20260512T084000Z
SUMMARY:Физика (доп.)
LOCATION:1 к. 425
END:VEVENT
BEGIN:VEVENT
UID:vw3k@192.168.245.71:3006
SEQUENCE:0
DTSTAMP:20260420T222042Z
DTSTART:20260512T090000Z
DTEND:20260512T104000Z
SUMMARY:История России
LOCATION:1 к. 422
END:VEVENT
BEGIN:VEVENT
UID:oasi@192.168.245.71:3006
SEQUENCE:0
DTSTAMP:20260420T222042Z
DTSTART:20260512T110000Z
DTEND:20260512T124000Z
SUMMARY:Инженерная графика
LOCATION:ГЗ 304
END:VEVENT
BEGIN:VEVENT
UID:arfa@192.168.245.71:3006
SEQUENCE:0
DTSTAMP:20260420T222042Z
DTSTART:20260512T130000Z
DTEND:20260512T144000Z
SUMMARY:Иностранный язык: Базовый курс
LOCATION:1 к. 417
END:VEVENT
BEGIN:VEVENT
UID:mjor@192.168.245.71:3006
SEQUENCE:0
DTSTAMP:20260420T222042Z
DTSTART:20260513T050000Z
DTEND:20260513T064000Z
SUMMARY:Высшая математика
LOCATION:1 к. 435
END:VEVENT
BEGIN:VEVENT
UID:ep9l@192.168.245.71:3006
SEQUENCE:0
DTSTAMP:20260420T222042Z
DTSTART:20260513T070000Z
DTEND:20260513T084000Z
SUMMARY:Введение в механику машин
LOCATION:1 к. 419
END:VEVENT
BEGIN:VEVENT
UID:c597@192.168.245.71:3006
SEQUENCE:0
DTSTAMP:20260420T222042Z
DTSTART:20260513T090000Z
DTEND:20260513T104000Z
SUMMARY:Введение в механику машин
LOCATION:ГЗ 305
END:VEVENT
BEGIN:VEVENT
UID:6rqd@192.168.245.71:3006
SEQUENCE:0
DTSTAMP:20260420T222042Z
DTSTART:20260513T110000Z
DTEND:20260513T133000Z
SUMMARY:Физика (доп.)
LOCATION:1 к. 413
END:VEVENT
BEGIN:VEVENT
UID:lj2v@192.168.245.71:3006
SEQUENCE:0
DTSTAMP:20260420T222042Z
DTSTART:20260513T133000Z
DTEND:20260513T151000Z
SUMMARY:Физика (доп.)
LOCATION:1 к. 413
END:VEVENT
BEGIN:VEVENT
UID:9vrr@192.168.245.71:3006
SEQUENCE:0
DTSTAMP:20260420T222042Z
DTSTART:20260514T070000Z
DTEND:20260514T084000Z
SUMMARY:Элективная физическая культура и спорт
LOCATION:СК Секции
END:VEVENT
BEGIN:VEVENT
UID:7he0@192.168.245.71:3006
SEQUENCE:0
DTSTAMP:20260420T222042Z
DTSTART:20260514T090000Z
DTEND:20260514T104000Z
SUMMARY:Физика
LOCATION:1 к. 41
END:VEVENT
BEGIN:VEVENT
UID:7qqd@192.168.245.71:3006
SEQUENCE:0
DTSTAMP:20260420T222042Z
DTSTART:20260514T110000Z
DTEND:20260514T124000Z
SUMMARY:Теоретическая механика
LOCATION:ГЗ 232
END:VEVENT
BEGIN:VEVENT
UID:sujc@192.168.245.71:3006
SEQUENCE:0
DTSTAMP:20260420T222042Z
DTSTART:20260515T110000Z
DTEND:20260515T124000Z
SUMMARY:Высшая математика
LOCATION:1 к. 41
END:VEVENT
BEGIN:VEVENT
UID:rubf@192.168.245.71:3006
SEQUENCE:0
DTSTAMP:20260420T222042Z
DTSTART:20260515T130000Z
DTEND:20260515T144000Z
SUMMARY:Физика
LOCATION:ГЗ 138
END:VEVENT
BEGIN:VEVENT
UID:ervh@192.168.245.71:3006
SEQUENCE:0
DTSTAMP:20260420T222042Z
DTSTART:20260515T150000Z
DTEND:20260515T164000Z
SUMMARY:Высшая математика повышенной сложности
LOCATION:1 к. 41
END:VEVENT
BEGIN:VEVENT
UID:6ldr@192.168.245.71:3006
SEQUENCE:0
DTSTAMP:20260420T222042Z
DTSTART:20260516T070000Z
DTEND:20260516T084000Z
SUMMARY:Информатика
LOCATION:ГЗ 153
END:VEVENT
BEGIN:VEVENT
UID:u4xi@192.168.245.71:3006
SEQUENCE:0
DTSTAMP:20260420T222042Z
DTSTART:20260516T090000Z
DTEND:20260516T104000Z
SUMMARY:Информатика
LOCATION:НИК В2.16
END:VEVENT
END:VCALENDAR