BEGIN:VCALENDAR
VERSION:2.0
PRODID:-//spbstu.ru//ical//RU
NAME:Расписание группы 3352301/50002
X-WR-CALNAME:Расписание группы 3352301/50002
TIMEZONE-ID:Europe/Moscow
X-WR-TIMEZONE:Europe/Moscow
BEGIN:VEVENT
UID:xalc@192.168.245.71:3006
SEQUENCE:0
DTSTAMP:20260423T000127Z
DTSTART:20251201T050000Z
DTEND:20251201T064000Z
SUMMARY:Элективная физическая культура и спорт
LOCATION:СК Секции
END:VEVENT
BEGIN:VEVENT
UID:nebh@192.168.245.71:3006
SEQUENCE:0
DTSTAMP:20260423T000127Z
DTSTART:20251201T070000Z
DTEND:20251201T084000Z
SUMMARY:Введение в профессиональную деятельность
LOCATION:ТВН 304ВШТ
END:VEVENT
BEGIN:VEVENT
UID:hbfk@192.168.245.71:3006
SEQUENCE:0
DTSTAMP:20260423T000127Z
DTSTART:20251201T090000Z
DTEND:20251201T104000Z
SUMMARY:Введение в профессиональную деятельность
LOCATION:ТВН 304ВШТ
END:VEVENT
BEGIN:VEVENT
UID:3ppd@192.168.245.71:3006
SEQUENCE:0
DTSTAMP:20260423T000127Z
DTSTART:20251201T144000Z
DTEND:20251201T154000Z
SUMMARY:Химия
LOCATION:Хим. к. 10
END:VEVENT
BEGIN:VEVENT
UID:9ft3@192.168.245.71:3006
SEQUENCE:0
DTSTAMP:20260423T000127Z
DTSTART:20251202T050000Z
DTEND:20251202T064000Z
SUMMARY:Основы российской государственности
LOCATION:1 к. 41
END:VEVENT
BEGIN:VEVENT
UID:24ic@192.168.245.71:3006
SEQUENCE:0
DTSTAMP:20260423T000127Z
DTSTART:20251202T070000Z
DTEND:20251202T084000Z
SUMMARY:Высшая математика
LOCATION:1 к. 420
END:VEVENT
BEGIN:VEVENT
UID:kank@192.168.245.71:3006
SEQUENCE:0
DTSTAMP:20260423T000127Z
DTSTART:20251202T090000Z
DTEND:20251202T104000Z
SUMMARY:Высшая математика
LOCATION:1 к. 420
END:VEVENT
BEGIN:VEVENT
UID:pyuf@192.168.245.71:3006
SEQUENCE:0
DTSTAMP:20260423T000127Z
DTSTART:20251202T130000Z
DTEND:20251202T144000Z
SUMMARY:Творческие семестры
LOCATION:ГЗ Белый зал
END:VEVENT
BEGIN:VEVENT
UID:zwbz@192.168.245.71:3006
SEQUENCE:0
DTSTAMP:20260423T000127Z
DTSTART:20251203T050000Z
DTEND:20251203T064000Z
SUMMARY:Иностранный язык: Базовый курс
LOCATION:1 к. 417
END:VEVENT
BEGIN:VEVENT
UID:c8hu@192.168.245.71:3006
SEQUENCE:0
DTSTAMP:20260423T000127Z
DTSTART:20251203T070000Z
DTEND:20251203T084000Z
SUMMARY:Инженерная графика
LOCATION:1 к. 422
END:VEVENT
BEGIN:VEVENT
UID:sthp@192.168.245.71:3006
SEQUENCE:0
DTSTAMP:20260423T000127Z
DTSTART:20251203T150000Z
DTEND:20251203T164000Z
SUMMARY:Факультатив по физике повышенной сложности
LOCATION:ГЗ 232
END:VEVENT
BEGIN:VEVENT
UID:13ks@192.168.245.71:3006
SEQUENCE:0
DTSTAMP:20260423T000127Z
DTSTART:20251204T110000Z
DTEND:20251204T133000Z
SUMMARY:Высшая математика
LOCATION:1 к. 41
END:VEVENT
BEGIN:VEVENT
UID:5e2l@192.168.245.71:3006
SEQUENCE:0
DTSTAMP:20260423T000127Z
DTSTART:20251204T150000Z
DTEND:20251204T170000Z
SUMMARY:Дополнительные занятия по физике
LOCATION:ГЗ 232
END:VEVENT
BEGIN:VEVENT
UID:3unn@192.168.245.71:3006
SEQUENCE:0
DTSTAMP:20260423T000127Z
DTSTART:20251205T130000Z
DTEND:20251205T144000Z
SUMMARY:Высшая математика повышенной сложности
LOCATION:ГЗ 221
END:VEVENT
BEGIN:VEVENT
UID:vj0f@192.168.245.71:3006
SEQUENCE:0
DTSTAMP:20260423T000127Z
DTSTART:20251205T150000Z
DTEND:20251205T164000Z
SUMMARY:Высшая математика повышенной сложности
LOCATION:ГЗ 221
END:VEVENT
BEGIN:VEVENT
UID:4hsl@192.168.245.71:3006
SEQUENCE:0
DTSTAMP:20260423T000127Z
DTSTART:20251206T050000Z
DTEND:20251206T064000Z
SUMMARY:История России
LOCATION:ГЗ 305
END:VEVENT
BEGIN:VEVENT
UID:avk8@192.168.245.71:3006
SEQUENCE:0
DTSTAMP:20260423T000127Z
DTSTART:20251206T070000Z
DTEND:20251206T084000Z
SUMMARY:Химия
LOCATION:Хим. к. 52
END:VEVENT
BEGIN:VEVENT
UID:qw82@192.168.245.71:3006
SEQUENCE:0
DTSTAMP:20260423T000127Z
DTSTART:20251206T090000Z
DTEND:20251206T104000Z
SUMMARY:История России
LOCATION:ЛабК 203
END:VEVENT
END:VCALENDAR