BEGIN:VCALENDAR
VERSION:2.0
PRODID:-//spbstu.ru//ical//RU
NAME:Расписание группы 3352301/50002
X-WR-CALNAME:Расписание группы 3352301/50002
TIMEZONE-ID:Europe/Moscow
X-WR-TIMEZONE:Europe/Moscow
BEGIN:VEVENT
UID:bkqh@192.168.245.71:3006
SEQUENCE:0
DTSTAMP:20260424T112805Z
DTSTART:20250929T050000Z
DTEND:20250929T064000Z
SUMMARY:Элективная физическая культура и спорт
LOCATION:СК Секции
END:VEVENT
BEGIN:VEVENT
UID:u1nm@192.168.245.71:3006
SEQUENCE:0
DTSTAMP:20260424T112805Z
DTSTART:20250929T070000Z
DTEND:20250929T084000Z
SUMMARY:Введение в профессиональную деятельность
LOCATION:ТВН 304ВШТ
END:VEVENT
BEGIN:VEVENT
UID:x1m6@192.168.245.71:3006
SEQUENCE:0
DTSTAMP:20260424T112805Z
DTSTART:20250929T090000Z
DTEND:20250929T104000Z
SUMMARY:Основы цифровых технологий
LOCATION:ТВН 301ВШТ
END:VEVENT
BEGIN:VEVENT
UID:5ruk@192.168.245.71:3006
SEQUENCE:0
DTSTAMP:20260424T112805Z
DTSTART:20250929T130000Z
DTEND:20250929T144000Z
SUMMARY:Химия
LOCATION:Хим. к. 10
END:VEVENT
BEGIN:VEVENT
UID:p090@192.168.245.71:3006
SEQUENCE:0
DTSTAMP:20260424T112805Z
DTSTART:20250929T144000Z
DTEND:20250929T154000Z
SUMMARY:Химия
LOCATION:Хим. к. 10
END:VEVENT
BEGIN:VEVENT
UID:xy29@192.168.245.71:3006
SEQUENCE:0
DTSTAMP:20260424T112805Z
DTSTART:20250930T050000Z
DTEND:20250930T064000Z
SUMMARY:Основы российской государственности
LOCATION:1 к. 41
END:VEVENT
BEGIN:VEVENT
UID:o5ze@192.168.245.71:3006
SEQUENCE:0
DTSTAMP:20260424T112805Z
DTSTART:20250930T070000Z
DTEND:20250930T084000Z
SUMMARY:Высшая математика
LOCATION:1 к. 420
END:VEVENT
BEGIN:VEVENT
UID:k6m9@192.168.245.71:3006
SEQUENCE:0
DTSTAMP:20260424T112805Z
DTSTART:20250930T090000Z
DTEND:20250930T104000Z
SUMMARY:Инженерная графика
LOCATION:1 к. 41
END:VEVENT
BEGIN:VEVENT
UID:0fj3@192.168.245.71:3006
SEQUENCE:0
DTSTAMP:20260424T112805Z
DTSTART:20250930T110000Z
DTEND:20250930T124000Z
SUMMARY:Тестирование по математике
LOCATION:ГЗ 325
END:VEVENT
BEGIN:VEVENT
UID:16up@192.168.245.71:3006
SEQUENCE:0
DTSTAMP:20260424T112805Z
DTSTART:20250930T110000Z
DTEND:20250930T124000Z
SUMMARY:Тестирование по физике
LOCATION:ГЗ 325
END:VEVENT
BEGIN:VEVENT
UID:xotg@192.168.245.71:3006
SEQUENCE:0
DTSTAMP:20260424T112805Z
DTSTART:20251001T050000Z
DTEND:20251001T064000Z
SUMMARY:Иностранный язык: Базовый курс
LOCATION:1 к. 417
END:VEVENT
BEGIN:VEVENT
UID:zwg3@192.168.245.71:3006
SEQUENCE:0
DTSTAMP:20260424T112805Z
DTSTART:20251001T070000Z
DTEND:20251001T084000Z
SUMMARY:Инженерная графика
LOCATION:1 к. 422
END:VEVENT
BEGIN:VEVENT
UID:2m4o@192.168.245.71:3006
SEQUENCE:0
DTSTAMP:20260424T112805Z
DTSTART:20251001T110000Z
DTEND:20251001T124000Z
SUMMARY:Основы цифровых технологий
LOCATION:ГЗ 253
END:VEVENT
BEGIN:VEVENT
UID:7880@192.168.245.71:3006
SEQUENCE:0
DTSTAMP:20260424T112805Z
DTSTART:20251002T070000Z
DTEND:20251002T084000Z
SUMMARY:Элективная физическая культура и спорт
LOCATION:СК Секции
END:VEVENT
BEGIN:VEVENT
UID:s8qa@192.168.245.71:3006
SEQUENCE:0
DTSTAMP:20260424T112805Z
DTSTART:20251002T110000Z
DTEND:20251002T134000Z
SUMMARY:Высшая математика
LOCATION:1 к. 41
END:VEVENT
BEGIN:VEVENT
UID:85sx@192.168.245.71:3006
SEQUENCE:0
DTSTAMP:20260424T112805Z
DTSTART:20251004T050000Z
DTEND:20251004T064000Z
SUMMARY:Основы российской государственности
LOCATION:ГЗ 257
END:VEVENT
BEGIN:VEVENT
UID:pdb8@192.168.245.71:3006
SEQUENCE:0
DTSTAMP:20260424T112805Z
DTSTART:20251004T070000Z
DTEND:20251004T084000Z
SUMMARY:Химия
LOCATION:Хим. к. 52
END:VEVENT
BEGIN:VEVENT
UID:9i63@192.168.245.71:3006
SEQUENCE:0
DTSTAMP:20260424T112805Z
DTSTART:20251004T090000Z
DTEND:20251004T104000Z
SUMMARY:История России
LOCATION:ЛабК 203
END:VEVENT
END:VCALENDAR