BEGIN:VCALENDAR
VERSION:2.0
PRODID:-//spbstu.ru//ical//RU
NAME:Расписание группы 3352301/50002
X-WR-CALNAME:Расписание группы 3352301/50002
TIMEZONE-ID:Europe/Moscow
X-WR-TIMEZONE:Europe/Moscow
BEGIN:VEVENT
UID:2e84@192.168.245.71:3006
SEQUENCE:0
DTSTAMP:20260422T014406Z
DTSTART:20260120T130000Z
DTEND:20260120T150000Z
SUMMARY:Творческие семестры
LOCATION:DL Дистанционно
END:VEVENT
BEGIN:VEVENT
UID:v1y4@192.168.245.71:3006
SEQUENCE:0
DTSTAMP:20260422T014406Z
DTSTART:20260122T070000Z
DTEND:20260122T110000Z
SUMMARY:Химия
LOCATION:Хим. к. 52
END:VEVENT
END:VCALENDAR