BEGIN:VCALENDAR
VERSION:2.0
PRODID:-//spbstu.ru//ical//RU
NAME:Расписание группы 3352301/50002
X-WR-CALNAME:Расписание группы 3352301/50002
TIMEZONE-ID:Europe/Moscow
X-WR-TIMEZONE:Europe/Moscow
BEGIN:VEVENT
UID:vj2s@192.168.245.71:3006
SEQUENCE:0
DTSTAMP:20260421T132621Z
DTSTART:20260209T050000Z
DTEND:20260209T064000Z
SUMMARY:Элективная физическая культура и спорт
LOCATION:СК Секции
END:VEVENT
BEGIN:VEVENT
UID:62aw@192.168.245.71:3006
SEQUENCE:0
DTSTAMP:20260421T132621Z
DTSTART:20260209T070000Z
DTEND:20260209T084000Z
SUMMARY:Теоретическая механика
LOCATION:1 к. 435
END:VEVENT
BEGIN:VEVENT
UID:6i7j@192.168.245.71:3006
SEQUENCE:0
DTSTAMP:20260421T132621Z
DTSTART:20260209T090000Z
DTEND:20260209T104000Z
SUMMARY:Введение в механику машин
LOCATION:1 к. 419
END:VEVENT
BEGIN:VEVENT
UID:5okx@192.168.245.71:3006
SEQUENCE:0
DTSTAMP:20260421T132621Z
DTSTART:20260209T110000Z
DTEND:20260209T124000Z
SUMMARY:Физика
LOCATION:1 к. 41
END:VEVENT
BEGIN:VEVENT
UID:he5q@192.168.245.71:3006
SEQUENCE:0
DTSTAMP:20260421T132621Z
DTSTART:20260209T130000Z
DTEND:20260209T144000Z
SUMMARY:Высшая математика повышенной сложности
LOCATION:ГЗ 305
END:VEVENT
BEGIN:VEVENT
UID:fyzb@192.168.245.71:3006
SEQUENCE:0
DTSTAMP:20260421T132621Z
DTSTART:20260210T070000Z
DTEND:20260210T084000Z
SUMMARY:Физика (доп.)
LOCATION:1 к. 425
END:VEVENT
BEGIN:VEVENT
UID:xrxt@192.168.245.71:3006
SEQUENCE:0
DTSTAMP:20260421T132621Z
DTSTART:20260210T070000Z
DTEND:20260210T084000Z
SUMMARY:Физика
LOCATION:ГЗ 184
END:VEVENT
BEGIN:VEVENT
UID:5z0t@192.168.245.71:3006
SEQUENCE:0
DTSTAMP:20260421T132621Z
DTSTART:20260210T090000Z
DTEND:20260210T104000Z
SUMMARY:Инженерная графика
LOCATION:ГЗ 304
END:VEVENT
BEGIN:VEVENT
UID:wvpd@192.168.245.71:3006
SEQUENCE:0
DTSTAMP:20260421T132621Z
DTSTART:20260210T110000Z
DTEND:20260210T124000Z
SUMMARY:История России
LOCATION:1 к. 435
END:VEVENT
BEGIN:VEVENT
UID:lsuj@192.168.245.71:3006
SEQUENCE:0
DTSTAMP:20260421T132621Z
DTSTART:20260211T090000Z
DTEND:20260211T104000Z
SUMMARY:Введение в механику машин
LOCATION:ГЗ 305
END:VEVENT
BEGIN:VEVENT
UID:7rkw@192.168.245.71:3006
SEQUENCE:0
DTSTAMP:20260421T132621Z
DTSTART:20260211T110000Z
DTEND:20260211T133000Z
SUMMARY:Физика (доп.)
LOCATION:1 к. 413
END:VEVENT
BEGIN:VEVENT
UID:wgk6@192.168.245.71:3006
SEQUENCE:0
DTSTAMP:20260421T132621Z
DTSTART:20260211T133000Z
DTEND:20260211T151000Z
SUMMARY:Физика (доп.)
LOCATION:1 к. 413
END:VEVENT
BEGIN:VEVENT
UID:1gdl@192.168.245.71:3006
SEQUENCE:0
DTSTAMP:20260421T132621Z
DTSTART:20260212T070000Z
DTEND:20260212T084000Z
SUMMARY:Элективная физическая культура и спорт
LOCATION:СК Секции
END:VEVENT
BEGIN:VEVENT
UID:krra@192.168.245.71:3006
SEQUENCE:0
DTSTAMP:20260421T132621Z
DTSTART:20260212T090000Z
DTEND:20260212T104000Z
SUMMARY:Физика
LOCATION:1 к. 41
END:VEVENT
BEGIN:VEVENT
UID:wctp@192.168.245.71:3006
SEQUENCE:0
DTSTAMP:20260421T132621Z
DTSTART:20260212T110000Z
DTEND:20260212T124000Z
SUMMARY:Теоретическая механика
LOCATION:ГЗ 232
END:VEVENT
BEGIN:VEVENT
UID:fyos@192.168.245.71:3006
SEQUENCE:0
DTSTAMP:20260421T132621Z
DTSTART:20260212T130000Z
DTEND:20260212T144000Z
SUMMARY:История России
LOCATION:Хим. к. 52
END:VEVENT
BEGIN:VEVENT
UID:vdso@192.168.245.71:3006
SEQUENCE:0
DTSTAMP:20260421T132621Z
DTSTART:20260213T070000Z
DTEND:20260213T084000Z
SUMMARY:Иностранный язык: Базовый курс
LOCATION:1 к. 418
END:VEVENT
BEGIN:VEVENT
UID:lxgm@192.168.245.71:3006
SEQUENCE:0
DTSTAMP:20260421T132621Z
DTSTART:20260213T090000Z
DTEND:20260213T104000Z
SUMMARY:Высшая математика
LOCATION:1 к. 420
END:VEVENT
BEGIN:VEVENT
UID:64fn@192.168.245.71:3006
SEQUENCE:0
DTSTAMP:20260421T132621Z
DTSTART:20260213T110000Z
DTEND:20260213T124000Z
SUMMARY:Высшая математика
LOCATION:1 к. 41
END:VEVENT
BEGIN:VEVENT
UID:xuwy@192.168.245.71:3006
SEQUENCE:0
DTSTAMP:20260421T132621Z
DTSTART:20260213T150000Z
DTEND:20260213T164000Z
SUMMARY:Высшая математика повышенной сложности
LOCATION:1 к. 41
END:VEVENT
BEGIN:VEVENT
UID:wvj2@192.168.245.71:3006
SEQUENCE:0
DTSTAMP:20260421T132621Z
DTSTART:20260214T070000Z
DTEND:20260214T084000Z
SUMMARY:Информатика
LOCATION:ГЗ 153
END:VEVENT
BEGIN:VEVENT
UID:b8k2@192.168.245.71:3006
SEQUENCE:0
DTSTAMP:20260421T132621Z
DTSTART:20260214T110000Z
DTEND:20260214T124000Z
SUMMARY:Информатика
LOCATION:НИК В2.16
END:VEVENT
BEGIN:VEVENT
UID:5jtc@192.168.245.71:3006
SEQUENCE:0
DTSTAMP:20260421T132621Z
DTSTART:20260214T130000Z
DTEND:20260214T144000Z
SUMMARY:Информатика
LOCATION:НИК В2.16
END:VEVENT
END:VCALENDAR