BEGIN:VCALENDAR
VERSION:2.0
PRODID:-//spbstu.ru//ical//RU
NAME:Расписание группы 3352301/50002
X-WR-CALNAME:Расписание группы 3352301/50002
TIMEZONE-ID:Europe/Moscow
X-WR-TIMEZONE:Europe/Moscow
BEGIN:VEVENT
UID:s446@192.168.245.71:3006
SEQUENCE:0
DTSTAMP:20260421T084757Z
DTSTART:20260302T050000Z
DTEND:20260302T064000Z
SUMMARY:Элективная физическая культура и спорт
LOCATION:СК Секции
END:VEVENT
BEGIN:VEVENT
UID:eeqb@192.168.245.71:3006
SEQUENCE:0
DTSTAMP:20260421T084757Z
DTSTART:20260302T070000Z
DTEND:20260302T084000Z
SUMMARY:Теоретическая механика
LOCATION:1 к. 435
END:VEVENT
BEGIN:VEVENT
UID:1nwv@192.168.245.71:3006
SEQUENCE:0
DTSTAMP:20260421T084757Z
DTSTART:20260302T090000Z
DTEND:20260302T104000Z
SUMMARY:Введение в механику машин
LOCATION:1 к. 413
END:VEVENT
BEGIN:VEVENT
UID:o340@192.168.245.71:3006
SEQUENCE:0
DTSTAMP:20260421T084757Z
DTSTART:20260302T110000Z
DTEND:20260302T124000Z
SUMMARY:Инженерная графика
LOCATION:ГЗ 232
END:VEVENT
BEGIN:VEVENT
UID:lomu@192.168.245.71:3006
SEQUENCE:0
DTSTAMP:20260421T084757Z
DTSTART:20260302T130000Z
DTEND:20260302T144000Z
SUMMARY:Высшая математика повышенной сложности
LOCATION:ГЗ 305
END:VEVENT
BEGIN:VEVENT
UID:rais@192.168.245.71:3006
SEQUENCE:0
DTSTAMP:20260421T084757Z
DTSTART:20260303T070000Z
DTEND:20260303T084000Z
SUMMARY:Физика
LOCATION:ГЗ 184
END:VEVENT
BEGIN:VEVENT
UID:92wg@192.168.245.71:3006
SEQUENCE:0
DTSTAMP:20260421T084757Z
DTSTART:20260303T070000Z
DTEND:20260303T084000Z
SUMMARY:Физика (доп.)
LOCATION:1 к. 425
END:VEVENT
BEGIN:VEVENT
UID:63w2@192.168.245.71:3006
SEQUENCE:0
DTSTAMP:20260421T084757Z
DTSTART:20260303T090000Z
DTEND:20260303T104000Z
SUMMARY:Инженерная графика
LOCATION:ГЗ 304
END:VEVENT
BEGIN:VEVENT
UID:b9bz@192.168.245.71:3006
SEQUENCE:0
DTSTAMP:20260421T084757Z
DTSTART:20260304T090000Z
DTEND:20260304T104000Z
SUMMARY:Введение в механику машин
LOCATION:ГЗ 305
END:VEVENT
BEGIN:VEVENT
UID:tk00@192.168.245.71:3006
SEQUENCE:0
DTSTAMP:20260421T084757Z
DTSTART:20260304T110000Z
DTEND:20260304T133000Z
SUMMARY:Физика (доп.)
LOCATION:1 к. 413
END:VEVENT
BEGIN:VEVENT
UID:xbsa@192.168.245.71:3006
SEQUENCE:0
DTSTAMP:20260421T084757Z
DTSTART:20260304T133000Z
DTEND:20260304T151000Z
SUMMARY:Физика (доп.)
LOCATION:1 к. 413
END:VEVENT
BEGIN:VEVENT
UID:gzre@192.168.245.71:3006
SEQUENCE:0
DTSTAMP:20260421T084757Z
DTSTART:20260305T070000Z
DTEND:20260305T084000Z
SUMMARY:Элективная физическая культура и спорт
LOCATION:СК Секции
END:VEVENT
BEGIN:VEVENT
UID:o9i6@192.168.245.71:3006
SEQUENCE:0
DTSTAMP:20260421T084757Z
DTSTART:20260305T090000Z
DTEND:20260305T104000Z
SUMMARY:Физика
LOCATION:1 к. 41
END:VEVENT
BEGIN:VEVENT
UID:25rr@192.168.245.71:3006
SEQUENCE:0
DTSTAMP:20260421T084757Z
DTSTART:20260305T110000Z
DTEND:20260305T124000Z
SUMMARY:Теоретическая механика
LOCATION:ГЗ 232
END:VEVENT
BEGIN:VEVENT
UID:iu8h@192.168.245.71:3006
SEQUENCE:0
DTSTAMP:20260421T084757Z
DTSTART:20260306T070000Z
DTEND:20260306T084000Z
SUMMARY:Иностранный язык: Базовый курс
LOCATION:1 к. 418
END:VEVENT
BEGIN:VEVENT
UID:k57k@192.168.245.71:3006
SEQUENCE:0
DTSTAMP:20260421T084757Z
DTSTART:20260306T090000Z
DTEND:20260306T104000Z
SUMMARY:Высшая математика
LOCATION:1 к. 420
END:VEVENT
BEGIN:VEVENT
UID:69t7@192.168.245.71:3006
SEQUENCE:0
DTSTAMP:20260421T084757Z
DTSTART:20260306T110000Z
DTEND:20260306T124000Z
SUMMARY:Высшая математика
LOCATION:1 к. 41
END:VEVENT
BEGIN:VEVENT
UID:rlqr@192.168.245.71:3006
SEQUENCE:0
DTSTAMP:20260421T084757Z
DTSTART:20260306T150000Z
DTEND:20260306T164000Z
SUMMARY:Высшая математика повышенной сложности
LOCATION:ГЗ 232
END:VEVENT
BEGIN:VEVENT
UID:84w5@192.168.245.71:3006
SEQUENCE:0
DTSTAMP:20260421T084757Z
DTSTART:20260307T070000Z
DTEND:20260307T084000Z
SUMMARY:Информатика
LOCATION:ГЗ 153
END:VEVENT
BEGIN:VEVENT
UID:lf6r@192.168.245.71:3006
SEQUENCE:0
DTSTAMP:20260421T084757Z
DTSTART:20260307T130000Z
DTEND:20260307T144000Z
SUMMARY:Информатика
LOCATION:НИК В2.16
END:VEVENT
END:VCALENDAR