BEGIN:VCALENDAR
VERSION:2.0
PRODID:-//spbstu.ru//ical//RU
NAME:Расписание группы 3331501/40003
X-WR-CALNAME:Расписание группы 3331501/40003
TIMEZONE-ID:Europe/Moscow
X-WR-TIMEZONE:Europe/Moscow
BEGIN:VEVENT
UID:r9w5@192.168.245.71:3006
SEQUENCE:0
DTSTAMP:20260421T051540Z
DTSTART:20260420T090000Z
DTEND:20260420T104000Z
SUMMARY:Элективная физическая культура и спорт
LOCATION:СК Секции
END:VEVENT
BEGIN:VEVENT
UID:66mv@192.168.245.71:3006
SEQUENCE:0
DTSTAMP:20260421T051540Z
DTSTART:20260420T110000Z
DTEND:20260420T124000Z
SUMMARY:Безопасность жизнедеятельности
LOCATION:ГК 106
END:VEVENT
BEGIN:VEVENT
UID:7ke8@192.168.245.71:3006
SEQUENCE:0
DTSTAMP:20260421T051540Z
DTSTART:20260420T130000Z
DTEND:20260420T144000Z
SUMMARY:Сопротивление материалов
LOCATION:1 к. 440
END:VEVENT
BEGIN:VEVENT
UID:kfoe@192.168.245.71:3006
SEQUENCE:0
DTSTAMP:20260421T051540Z
DTSTART:20260421T070000Z
DTEND:20260421T084000Z
SUMMARY:САПР в машиностроении
LOCATION:ГЗ 328
END:VEVENT
BEGIN:VEVENT
UID:l1ty@192.168.245.71:3006
SEQUENCE:0
DTSTAMP:20260421T051540Z
DTSTART:20260421T090000Z
DTEND:20260421T104000Z
SUMMARY:Детали машин и основы конструирования
LOCATION:ГЗ 327
END:VEVENT
BEGIN:VEVENT
UID:ytdt@192.168.245.71:3006
SEQUENCE:0
DTSTAMP:20260421T051540Z
DTSTART:20260421T110000Z
DTEND:20260421T124000Z
SUMMARY:Детали машин и основы конструирования
LOCATION:ГЗ 232
END:VEVENT
BEGIN:VEVENT
UID:apq4@192.168.245.71:3006
SEQUENCE:0
DTSTAMP:20260421T051540Z
DTSTART:20260422T070000Z
DTEND:20260422T084000Z
SUMMARY:Вычислительная математика
LOCATION:1 к. 438
END:VEVENT
BEGIN:VEVENT
UID:q8nl@192.168.245.71:3006
SEQUENCE:0
DTSTAMP:20260421T051540Z
DTSTART:20260422T090000Z
DTEND:20260422T104000Z
SUMMARY:Технология конструкционных материалов
LOCATION:ГЗ каф.ТКМ к.4
END:VEVENT
BEGIN:VEVENT
UID:7wlb@192.168.245.71:3006
SEQUENCE:0
DTSTAMP:20260421T051540Z
DTSTART:20260422T110000Z
DTEND:20260422T124000Z
SUMMARY:Технология конструкционных материалов
LOCATION:ГЗ 232
END:VEVENT
BEGIN:VEVENT
UID:r9gr@192.168.245.71:3006
SEQUENCE:0
DTSTAMP:20260421T051540Z
DTSTART:20260422T130000Z
DTEND:20260422T144000Z
SUMMARY:САПР в машиностроении
LOCATION:ГЗ 328
END:VEVENT
BEGIN:VEVENT
UID:37dx@192.168.245.71:3006
SEQUENCE:0
DTSTAMP:20260421T051540Z
DTSTART:20260423T070000Z
DTEND:20260423T084000Z
SUMMARY:САПР в машиностроении
LOCATION:ГЗ 232
END:VEVENT
BEGIN:VEVENT
UID:vavx@192.168.245.71:3006
SEQUENCE:0
DTSTAMP:20260421T051540Z
DTSTART:20260423T090000Z
DTEND:20260423T104000Z
SUMMARY:Теория механизмов и машин
LOCATION:Мех. к. каф.Т ММ
END:VEVENT
BEGIN:VEVENT
UID:iu3v@192.168.245.71:3006
SEQUENCE:0
DTSTAMP:20260421T051540Z
DTSTART:20260423T110000Z
DTEND:20260423T124000Z
SUMMARY:Элективная физическая культура и спорт
LOCATION:СК Секции
END:VEVENT
BEGIN:VEVENT
UID:41lh@192.168.245.71:3006
SEQUENCE:0
DTSTAMP:20260421T051540Z
DTSTART:20260425T070000Z
DTEND:20260425T084000Z
SUMMARY:Сопротивление материалов
LOCATION:Мех. к. БМ
END:VEVENT
END:VCALENDAR