BEGIN:VCALENDAR
VERSION:2.0
PRODID:-//spbstu.ru//ical//RU
NAME:Расписание группы 3331506/40003
X-WR-CALNAME:Расписание группы 3331506/40003
TIMEZONE-ID:Europe/Moscow
X-WR-TIMEZONE:Europe/Moscow
BEGIN:VEVENT
UID:88e4@192.168.245.71:3006
SEQUENCE:0
DTSTAMP:20260421T225006Z
DTSTART:20260224T070000Z
DTEND:20260224T084000Z
SUMMARY:Теория механизмов и машин
LOCATION:1 к. 413
END:VEVENT
BEGIN:VEVENT
UID:w5rt@192.168.245.71:3006
SEQUENCE:0
DTSTAMP:20260421T225006Z
DTSTART:20260224T090000Z
DTEND:20260224T104000Z
SUMMARY:Сопротивление материалов
LOCATION:1 к. 440
END:VEVENT
BEGIN:VEVENT
UID:3279@192.168.245.71:3006
SEQUENCE:0
DTSTAMP:20260421T225006Z
DTSTART:20260224T110000Z
DTEND:20260224T124000Z
SUMMARY:Технология конструкционных материалов
LOCATION:ГЗ 329
END:VEVENT
BEGIN:VEVENT
UID:usur@192.168.245.71:3006
SEQUENCE:0
DTSTAMP:20260421T225006Z
DTSTART:20260224T130000Z
DTEND:20260224T144000Z
SUMMARY:Детали машин и основы конструирования
LOCATION:ГЗ 232
END:VEVENT
BEGIN:VEVENT
UID:8g9g@192.168.245.71:3006
SEQUENCE:0
DTSTAMP:20260421T225006Z
DTSTART:20260224T130000Z
DTEND:20260224T150000Z
SUMMARY:Технология конструкционных материалов
LOCATION:ГЗ каф.ТКМ к.19
END:VEVENT
BEGIN:VEVENT
UID:xyth@192.168.245.71:3006
SEQUENCE:0
DTSTAMP:20260421T225006Z
DTSTART:20260224T150000Z
DTEND:20260224T170000Z
SUMMARY:Иностранный язык: Базовый курс
LOCATION:1 к. 41
END:VEVENT
BEGIN:VEVENT
UID:4zc4@192.168.245.71:3006
SEQUENCE:0
DTSTAMP:20260421T225006Z
DTSTART:20260225T050000Z
DTEND:20260225T070000Z
SUMMARY:Сопротивление материалов
LOCATION:1 к. 418
END:VEVENT
BEGIN:VEVENT
UID:mykb@192.168.245.71:3006
SEQUENCE:0
DTSTAMP:20260421T225006Z
DTSTART:20260225T090000Z
DTEND:20260225T104000Z
SUMMARY:Вычислительная математика
LOCATION:ГЗ 328
END:VEVENT
BEGIN:VEVENT
UID:1eqq@192.168.245.71:3006
SEQUENCE:0
DTSTAMP:20260421T225006Z
DTSTART:20260225T110000Z
DTEND:20260225T124000Z
SUMMARY:Детали машин и основы конструирования
LOCATION:ГЗ 327
END:VEVENT
BEGIN:VEVENT
UID:czve@192.168.245.71:3006
SEQUENCE:0
DTSTAMP:20260421T225006Z
DTSTART:20260225T130000Z
DTEND:20260225T144000Z
SUMMARY:Высшая математика (дополнительные разделы)
LOCATION:ГЗ 280
END:VEVENT
BEGIN:VEVENT
UID:pcyu@192.168.245.71:3006
SEQUENCE:0
DTSTAMP:20260421T225006Z
DTSTART:20260225T130000Z
DTEND:20260225T150000Z
SUMMARY:Технология конструкционных материалов
LOCATION:ГЗ каф.ТКМ к.17
END:VEVENT
BEGIN:VEVENT
UID:a6a5@192.168.245.71:3006
SEQUENCE:0
DTSTAMP:20260421T225006Z
DTSTART:20260226T070000Z
DTEND:20260226T084000Z
SUMMARY:Экологические вопросы направления
LOCATION:ГЗ 329
END:VEVENT
BEGIN:VEVENT
UID:kl2g@192.168.245.71:3006
SEQUENCE:0
DTSTAMP:20260421T225006Z
DTSTART:20260226T090000Z
DTEND:20260226T104000Z
SUMMARY:Вычислительная математика
LOCATION:ГЗ 232
END:VEVENT
BEGIN:VEVENT
UID:q243@192.168.245.71:3006
SEQUENCE:0
DTSTAMP:20260421T225006Z
DTSTART:20260226T110000Z
DTEND:20260226T124000Z
SUMMARY:Элективная физическая культура и спорт
LOCATION:СК Секции
END:VEVENT
BEGIN:VEVENT
UID:06xa@192.168.245.71:3006
SEQUENCE:0
DTSTAMP:20260421T225006Z
DTSTART:20260226T130000Z
DTEND:20260226T150000Z
SUMMARY:Теория механизмов и машин
LOCATION:Мех. к. каф.Т ММ
END:VEVENT
BEGIN:VEVENT
UID:sg32@192.168.245.71:3006
SEQUENCE:0
DTSTAMP:20260421T225006Z
DTSTART:20260226T130000Z
DTEND:20260226T144000Z
SUMMARY:Основы проектной деятельности
LOCATION:1 к. кафедра Автоматы
END:VEVENT
BEGIN:VEVENT
UID:w7iq@192.168.245.71:3006
SEQUENCE:0
DTSTAMP:20260421T225006Z
DTSTART:20260226T130000Z
DTEND:20260226T150000Z
SUMMARY:Материаловедение
LOCATION:ГЗ каф.ТКМ к.19
END:VEVENT
BEGIN:VEVENT
UID:s0eg@192.168.245.71:3006
SEQUENCE:0
DTSTAMP:20260421T225006Z
DTSTART:20260226T130000Z
DTEND:20260226T150000Z
SUMMARY:Высшая математика
LOCATION:1 к. 413
END:VEVENT
BEGIN:VEVENT
UID:19st@192.168.245.71:3006
SEQUENCE:0
DTSTAMP:20260421T225006Z
DTSTART:20260226T150000Z
DTEND:20260226T170000Z
SUMMARY:Вычислительная математика
LOCATION:1 к. 438
END:VEVENT
BEGIN:VEVENT
UID:z10f@192.168.245.71:3006
SEQUENCE:0
DTSTAMP:20260421T225006Z
DTSTART:20260227T110000Z
DTEND:20260227T130000Z
SUMMARY:Физика
LOCATION:1 к. 425
END:VEVENT
BEGIN:VEVENT
UID:hp59@192.168.245.71:3006
SEQUENCE:0
DTSTAMP:20260421T225006Z
DTSTART:20260227T110000Z
DTEND:20260227T124000Z
SUMMARY:Безопасность жизнедеятельности
LOCATION:ГК 104
END:VEVENT
BEGIN:VEVENT
UID:p3ay@192.168.245.71:3006
SEQUENCE:0
DTSTAMP:20260421T225006Z
DTSTART:20260227T130000Z
DTEND:20260227T150000Z
SUMMARY:Физика
LOCATION:1 к. 425
END:VEVENT
BEGIN:VEVENT
UID:93wy@192.168.245.71:3006
SEQUENCE:0
DTSTAMP:20260421T225006Z
DTSTART:20260228T090000Z
DTEND:20260228T104000Z
SUMMARY:Сопротивление материалов
LOCATION:Мех. к. БМ
END:VEVENT
END:VCALENDAR