BEGIN:VCALENDAR
VERSION:2.0
PRODID:-//spbstu.ru//ical//RU
NAME:Расписание группы 3331506/40003
X-WR-CALNAME:Расписание группы 3331506/40003
TIMEZONE-ID:Europe/Moscow
X-WR-TIMEZONE:Europe/Moscow
BEGIN:VEVENT
UID:vpn8@192.168.245.71:3006
SEQUENCE:0
DTSTAMP:20260421T051542Z
DTSTART:20260420T090000Z
DTEND:20260420T104000Z
SUMMARY:Элективная физическая культура и спорт
LOCATION:СК Секции
END:VEVENT
BEGIN:VEVENT
UID:rxhb@192.168.245.71:3006
SEQUENCE:0
DTSTAMP:20260421T051542Z
DTSTART:20260421T070000Z
DTEND:20260421T084000Z
SUMMARY:Теория механизмов и машин
LOCATION:1 к. 413
END:VEVENT
BEGIN:VEVENT
UID:1lje@192.168.245.71:3006
SEQUENCE:0
DTSTAMP:20260421T051542Z
DTSTART:20260421T090000Z
DTEND:20260421T104000Z
SUMMARY:Сопротивление материалов
LOCATION:1 к. 440
END:VEVENT
BEGIN:VEVENT
UID:bc4k@192.168.245.71:3006
SEQUENCE:0
DTSTAMP:20260421T051542Z
DTSTART:20260421T110000Z
DTEND:20260421T124000Z
SUMMARY:Технология конструкционных материалов
LOCATION:ГЗ 329
END:VEVENT
BEGIN:VEVENT
UID:dn8t@192.168.245.71:3006
SEQUENCE:0
DTSTAMP:20260421T051542Z
DTSTART:20260421T130000Z
DTEND:20260421T144000Z
SUMMARY:Детали машин и основы конструирования
LOCATION:ГЗ 232
END:VEVENT
BEGIN:VEVENT
UID:cn2a@192.168.245.71:3006
SEQUENCE:0
DTSTAMP:20260421T051542Z
DTSTART:20260422T090000Z
DTEND:20260422T104000Z
SUMMARY:Вычислительная математика
LOCATION:ГЗ 328
END:VEVENT
BEGIN:VEVENT
UID:4dah@192.168.245.71:3006
SEQUENCE:0
DTSTAMP:20260421T051542Z
DTSTART:20260422T110000Z
DTEND:20260422T124000Z
SUMMARY:Детали машин и основы конструирования
LOCATION:ГЗ 327
END:VEVENT
BEGIN:VEVENT
UID:l0vr@192.168.245.71:3006
SEQUENCE:0
DTSTAMP:20260421T051542Z
DTSTART:20260422T130000Z
DTEND:20260422T144000Z
SUMMARY:Высшая математика (дополнительные разделы)
LOCATION:ГЗ 280
END:VEVENT
BEGIN:VEVENT
UID:gj1q@192.168.245.71:3006
SEQUENCE:0
DTSTAMP:20260421T051542Z
DTSTART:20260423T070000Z
DTEND:20260423T084000Z
SUMMARY:Экологические вопросы направления
LOCATION:ГЗ 329
END:VEVENT
BEGIN:VEVENT
UID:z0fb@192.168.245.71:3006
SEQUENCE:0
DTSTAMP:20260421T051542Z
DTSTART:20260423T090000Z
DTEND:20260423T104000Z
SUMMARY:Вычислительная математика
LOCATION:ГЗ 232
END:VEVENT
BEGIN:VEVENT
UID:iuzg@192.168.245.71:3006
SEQUENCE:0
DTSTAMP:20260421T051542Z
DTSTART:20260423T110000Z
DTEND:20260423T124000Z
SUMMARY:Элективная физическая культура и спорт
LOCATION:СК Секции
END:VEVENT
BEGIN:VEVENT
UID:eqhd@192.168.245.71:3006
SEQUENCE:0
DTSTAMP:20260421T051542Z
DTSTART:20260424T090000Z
DTEND:20260424T104000Z
SUMMARY:Безопасность жизнедеятельности
LOCATION:ГК 119
END:VEVENT
BEGIN:VEVENT
UID:lgb9@192.168.245.71:3006
SEQUENCE:0
DTSTAMP:20260421T051542Z
DTSTART:20260424T110000Z
DTEND:20260424T124000Z
SUMMARY:Безопасность жизнедеятельности
LOCATION:ГК 104
END:VEVENT
BEGIN:VEVENT
UID:atx2@192.168.245.71:3006
SEQUENCE:0
DTSTAMP:20260421T051542Z
DTSTART:20260425T090000Z
DTEND:20260425T104000Z
SUMMARY:Сопротивление материалов
LOCATION:Мех. к. БМ
END:VEVENT
END:VCALENDAR