BEGIN:VCALENDAR
VERSION:2.0
PRODID:-//spbstu.ru//ical//RU
NAME:Расписание группы 3332202/40001
X-WR-CALNAME:Расписание группы 3332202/40001
TIMEZONE-ID:Europe/Moscow
X-WR-TIMEZONE:Europe/Moscow
BEGIN:VEVENT
UID:w0u2@192.168.245.71:3006
SEQUENCE:0
DTSTAMP:20260424T050620Z
DTSTART:20251208T070000Z
DTEND:20251208T084000Z
SUMMARY:Материаловедение
LOCATION:Хим. к. 24
END:VEVENT
BEGIN:VEVENT
UID:g8wa@192.168.245.71:3006
SEQUENCE:0
DTSTAMP:20260424T050620Z
DTSTART:20251208T090000Z
DTEND:20251208T104000Z
SUMMARY:Элективная физическая культура и спорт
LOCATION:СК Секции
END:VEVENT
BEGIN:VEVENT
UID:qq0a@192.168.245.71:3006
SEQUENCE:0
DTSTAMP:20260424T050620Z
DTSTART:20251208T110000Z
DTEND:20251208T124000Z
SUMMARY:Теоретическая механика
LOCATION:1 к. 41
END:VEVENT
BEGIN:VEVENT
UID:sh2s@192.168.245.71:3006
SEQUENCE:0
DTSTAMP:20260424T050620Z
DTSTART:20251208T130000Z
DTEND:20251208T144000Z
SUMMARY:Проектирование изделий с помощью САПР
LOCATION:Хим. к. 56
END:VEVENT
BEGIN:VEVENT
UID:biyg@192.168.245.71:3006
SEQUENCE:0
DTSTAMP:20260424T050620Z
DTSTART:20251209T070000Z
DTEND:20251209T084000Z
SUMMARY:Высшая математика
LOCATION:Хим. к. 52
END:VEVENT
BEGIN:VEVENT
UID:s4qp@192.168.245.71:3006
SEQUENCE:0
DTSTAMP:20260424T050620Z
DTSTART:20251209T090000Z
DTEND:20251209T104000Z
SUMMARY:Высшая математика
LOCATION:1 к. 421
END:VEVENT
BEGIN:VEVENT
UID:7sh1@192.168.245.71:3006
SEQUENCE:0
DTSTAMP:20260424T050620Z
DTSTART:20251209T110000Z
DTEND:20251209T124000Z
SUMMARY:Физика
LOCATION:Хим. к. 47
END:VEVENT
BEGIN:VEVENT
UID:hx3s@192.168.245.71:3006
SEQUENCE:0
DTSTAMP:20260424T050620Z
DTSTART:20251210T070000Z
DTEND:20251210T084000Z
SUMMARY:Материаловедение
LOCATION:Хим. к. 43
END:VEVENT
BEGIN:VEVENT
UID:kmwp@192.168.245.71:3006
SEQUENCE:0
DTSTAMP:20260424T050620Z
DTSTART:20251210T090000Z
DTEND:20251210T104000Z
SUMMARY:Физическая химия
LOCATION:Хим. к. 52
END:VEVENT
BEGIN:VEVENT
UID:ppxp@192.168.245.71:3006
SEQUENCE:0
DTSTAMP:20260424T050620Z
DTSTART:20251210T110000Z
DTEND:20251210T124000Z
SUMMARY:Иностранный язык: Базовый курс
LOCATION:1 к. 414
END:VEVENT
BEGIN:VEVENT
UID:90bv@192.168.245.71:3006
SEQUENCE:0
DTSTAMP:20260424T050620Z
DTSTART:20251211T070000Z
DTEND:20251211T084000Z
SUMMARY:Физика
LOCATION:Хим. к. 52
END:VEVENT
BEGIN:VEVENT
UID:wrve@192.168.245.71:3006
SEQUENCE:0
DTSTAMP:20260424T050620Z
DTSTART:20251211T090000Z
DTEND:20251211T104000Z
SUMMARY:Материаловедение
LOCATION:Хим. к. 51
END:VEVENT
BEGIN:VEVENT
UID:jcba@192.168.245.71:3006
SEQUENCE:0
DTSTAMP:20260424T050620Z
DTSTART:20251212T070000Z
DTEND:20251212T084000Z
SUMMARY:Материаловедение
LOCATION:Хим. к. 43
END:VEVENT
END:VCALENDAR