BEGIN:VCALENDAR
VERSION:2.0
PRODID:-//spbstu.ru//ical//RU
NAME:Расписание группы 3332202/40001
X-WR-CALNAME:Расписание группы 3332202/40001
TIMEZONE-ID:Europe/Moscow
X-WR-TIMEZONE:Europe/Moscow
BEGIN:VEVENT
UID:rco0@192.168.245.71:3006
SEQUENCE:0
DTSTAMP:20260423T214006Z
DTSTART:20260120T070000Z
DTEND:20260120T074500Z
SUMMARY:Физическая химия
LOCATION:Хим. к. 51
END:VEVENT
BEGIN:VEVENT
UID:9356@192.168.245.71:3006
SEQUENCE:0
DTSTAMP:20260423T214006Z
DTSTART:20260121T110000Z
DTEND:20260121T140000Z
SUMMARY:Физическая химия
LOCATION:Хим. к. 51
END:VEVENT
END:VCALENDAR