BEGIN:VCALENDAR
VERSION:2.0
PRODID:-//spbstu.ru//ical//RU
NAME:Расписание группы 3332301/40001
X-WR-CALNAME:Расписание группы 3332301/40001
TIMEZONE-ID:Europe/Moscow
X-WR-TIMEZONE:Europe/Moscow
BEGIN:VEVENT
UID:bigv@192.168.245.71:3006
SEQUENCE:0
DTSTAMP:20260424T164927Z
DTSTART:20251020T090000Z
DTEND:20251020T104000Z
SUMMARY:Элективная физическая культура и спорт
LOCATION:СК Секции
END:VEVENT
BEGIN:VEVENT
UID:u17x@192.168.245.71:3006
SEQUENCE:0
DTSTAMP:20260424T164927Z
DTSTART:20251020T110000Z
DTEND:20251020T124000Z
SUMMARY:Материаловедение
LOCATION:ГЗ 232
END:VEVENT
BEGIN:VEVENT
UID:s75u@192.168.245.71:3006
SEQUENCE:0
DTSTAMP:20260424T164927Z
DTSTART:20251021T070000Z
DTEND:20251021T084000Z
SUMMARY:Технология конструкционных материалов
LOCATION:ГЗ 232
END:VEVENT
BEGIN:VEVENT
UID:djmf@192.168.245.71:3006
SEQUENCE:0
DTSTAMP:20260424T164927Z
DTSTART:20251021T110000Z
DTEND:20251021T124000Z
SUMMARY:Сопротивление материалов
LOCATION:1 к. 418
END:VEVENT
BEGIN:VEVENT
UID:gg7t@192.168.245.71:3006
SEQUENCE:0
DTSTAMP:20260424T164927Z
DTSTART:20251022T070000Z
DTEND:20251022T084000Z
SUMMARY:Физика
LOCATION:ГЗ 257
END:VEVENT
BEGIN:VEVENT
UID:1jhn@192.168.245.71:3006
SEQUENCE:0
DTSTAMP:20260424T164927Z
DTSTART:20251022T090000Z
DTEND:20251022T104000Z
SUMMARY:Физика
LOCATION:1 к. 419
END:VEVENT
BEGIN:VEVENT
UID:i99o@192.168.245.71:3006
SEQUENCE:0
DTSTAMP:20260424T164927Z
DTSTART:20251022T110000Z
DTEND:20251022T124000Z
SUMMARY:Физика
LOCATION:ГЗ 155
END:VEVENT
BEGIN:VEVENT
UID:01xy@192.168.245.71:3006
SEQUENCE:0
DTSTAMP:20260424T164927Z
DTSTART:20251022T110000Z
DTEND:20251022T124000Z
SUMMARY:Физика
LOCATION:ГЗ 155
END:VEVENT
BEGIN:VEVENT
UID:gs4k@192.168.245.71:3006
SEQUENCE:0
DTSTAMP:20260424T164927Z
DTSTART:20251022T130000Z
DTEND:20251022T144000Z
SUMMARY:Физика
LOCATION:1 к. 41
END:VEVENT
BEGIN:VEVENT
UID:sg7s@192.168.245.71:3006
SEQUENCE:0
DTSTAMP:20260424T164927Z
DTSTART:20251023T070000Z
DTEND:20251023T084000Z
SUMMARY:Высшая математика
LOCATION:1 к. 436
END:VEVENT
BEGIN:VEVENT
UID:z3ij@192.168.245.71:3006
SEQUENCE:0
DTSTAMP:20260424T164927Z
DTSTART:20251023T110000Z
DTEND:20251023T124000Z
SUMMARY:Элективная физическая культура и спорт
LOCATION:СК Секции
END:VEVENT
BEGIN:VEVENT
UID:424f@192.168.245.71:3006
SEQUENCE:0
DTSTAMP:20260424T164927Z
DTSTART:20251024T070000Z
DTEND:20251024T084000Z
SUMMARY:Теория механизмов и машин
LOCATION:ГЗ 232
END:VEVENT
BEGIN:VEVENT
UID:i1oa@192.168.245.71:3006
SEQUENCE:0
DTSTAMP:20260424T164927Z
DTSTART:20251024T090000Z
DTEND:20251024T104000Z
SUMMARY:Теория механизмов и машин
LOCATION:Мех. к. каф.Т ММ
END:VEVENT
BEGIN:VEVENT
UID:yami@192.168.245.71:3006
SEQUENCE:0
DTSTAMP:20260424T164927Z
DTSTART:20251024T110000Z
DTEND:20251024T124000Z
SUMMARY:Технология конструкционных материалов
LOCATION:ГЗ каф.ТКМ к.4
END:VEVENT
BEGIN:VEVENT
UID:o502@192.168.245.71:3006
SEQUENCE:0
DTSTAMP:20260424T164927Z
DTSTART:20251025T090000Z
DTEND:20251025T104000Z
SUMMARY:Иностранный язык: Базовый курс
LOCATION:1 к. 417
END:VEVENT
END:VCALENDAR