BEGIN:VCALENDAR
VERSION:2.0
PRODID:-//spbstu.ru//ical//RU
NAME:Расписание группы 3332301/40001
X-WR-CALNAME:Расписание группы 3332301/40001
TIMEZONE-ID:Europe/Moscow
X-WR-TIMEZONE:Europe/Moscow
BEGIN:VEVENT
UID:dd15@192.168.245.71:3006
SEQUENCE:0
DTSTAMP:20260422T121449Z
DTSTART:20260202T070000Z
DTEND:20260202T084000Z
SUMMARY:Основы логистики
LOCATION:ЛабК 85 ВШТ
END:VEVENT
BEGIN:VEVENT
UID:bg0p@192.168.245.71:3006
SEQUENCE:0
DTSTAMP:20260422T121449Z
DTSTART:20260202T110000Z
DTEND:20260202T124000Z
SUMMARY:Городские транспортные системы
LOCATION:ЛабК 85 ВШТ
END:VEVENT
BEGIN:VEVENT
UID:4b1i@192.168.245.71:3006
SEQUENCE:0
DTSTAMP:20260422T121449Z
DTSTART:20260203T060000Z
DTEND:20260203T065000Z
SUMMARY:Грузоведение
LOCATION:ЛабК 85 ВШТ
END:VEVENT
BEGIN:VEVENT
UID:2fof@192.168.245.71:3006
SEQUENCE:0
DTSTAMP:20260422T121449Z
DTSTART:20260203T070000Z
DTEND:20260203T084000Z
SUMMARY:Грузоведение
LOCATION:ЛабК 85 ВШТ
END:VEVENT
BEGIN:VEVENT
UID:2544@192.168.245.71:3006
SEQUENCE:0
DTSTAMP:20260422T121449Z
DTSTART:20260203T090000Z
DTEND:20260203T104000Z
SUMMARY:Экологические вопросы транспорта
LOCATION:ЛабК 85 ВШТ
END:VEVENT
BEGIN:VEVENT
UID:5idq@192.168.245.71:3006
SEQUENCE:0
DTSTAMP:20260422T121449Z
DTSTART:20260203T110000Z
DTEND:20260203T124000Z
SUMMARY:Детали машин и основы конструирования
LOCATION:1 к. 412
END:VEVENT
BEGIN:VEVENT
UID:wcnk@192.168.245.71:3006
SEQUENCE:0
DTSTAMP:20260422T121449Z
DTSTART:20260204T060000Z
DTEND:20260204T070000Z
SUMMARY:Основы проектной деятельности
LOCATION:DL Дистанционно
END:VEVENT
BEGIN:VEVENT
UID:3ene@192.168.245.71:3006
SEQUENCE:0
DTSTAMP:20260422T121449Z
DTSTART:20260204T070000Z
DTEND:20260204T084000Z
SUMMARY:Безопасность жизнедеятельности
LOCATION:ГК 106
END:VEVENT
BEGIN:VEVENT
UID:ikvn@192.168.245.71:3006
SEQUENCE:0
DTSTAMP:20260422T121449Z
DTSTART:20260204T090000Z
DTEND:20260204T104000Z
SUMMARY:Математическое и имитационное моделирование логистических процессо
 в (на английском языке)
LOCATION:ЛабК комп.класс ВШТ
END:VEVENT
BEGIN:VEVENT
UID:oohc@192.168.245.71:3006
SEQUENCE:0
DTSTAMP:20260422T121449Z
DTSTART:20260206T090000Z
DTEND:20260206T104000Z
SUMMARY:Детали машин и основы конструирования
LOCATION:Мех. к. каф.Т ММ
END:VEVENT
BEGIN:VEVENT
UID:53yb@192.168.245.71:3006
SEQUENCE:0
DTSTAMP:20260422T121449Z
DTSTART:20260206T110000Z
DTEND:20260206T124000Z
SUMMARY:Математическое и имитационное моделирование логистических процессо
 в (на английском языке)
LOCATION:ЛабК 85 ВШТ
END:VEVENT
BEGIN:VEVENT
UID:t6kx@192.168.245.71:3006
SEQUENCE:0
DTSTAMP:20260422T121449Z
DTSTART:20260206T130000Z
DTEND:20260206T144000Z
SUMMARY:Математическое и имитационное моделирование логистических процессо
 в (на английском языке)
LOCATION:ЛабК комп.класс ВШТ
END:VEVENT
END:VCALENDAR