BEGIN:VCALENDAR
VERSION:2.0
PRODID:-//spbstu.ru//ical//RU
NAME:Расписание группы 3332301/40001
X-WR-CALNAME:Расписание группы 3332301/40001
TIMEZONE-ID:Europe/Moscow
X-WR-TIMEZONE:Europe/Moscow
BEGIN:VEVENT
UID:ioie@192.168.245.71:3006
SEQUENCE:0
DTSTAMP:20260422T060054Z
DTSTART:20260209T070000Z
DTEND:20260209T084000Z
SUMMARY:Основы логистики
LOCATION:ЛабК 85 ВШТ
END:VEVENT
BEGIN:VEVENT
UID:27ax@192.168.245.71:3006
SEQUENCE:0
DTSTAMP:20260422T060054Z
DTSTART:20260209T090000Z
DTEND:20260209T104000Z
SUMMARY:Элективная физическая культура и спорт
LOCATION:СК Секции
END:VEVENT
BEGIN:VEVENT
UID:87xi@192.168.245.71:3006
SEQUENCE:0
DTSTAMP:20260422T060054Z
DTSTART:20260209T110000Z
DTEND:20260209T124000Z
SUMMARY:Городские транспортные системы
LOCATION:ЛабК 85 ВШТ
END:VEVENT
BEGIN:VEVENT
UID:c505@192.168.245.71:3006
SEQUENCE:0
DTSTAMP:20260422T060054Z
DTSTART:20260209T130000Z
DTEND:20260209T144000Z
SUMMARY:Городские транспортные системы
LOCATION:ЛабК комп.класс ВШТ
END:VEVENT
BEGIN:VEVENT
UID:ih1q@192.168.245.71:3006
SEQUENCE:0
DTSTAMP:20260422T060054Z
DTSTART:20260210T060000Z
DTEND:20260210T065000Z
SUMMARY:Грузоведение
LOCATION:ЛабК 85 ВШТ
END:VEVENT
BEGIN:VEVENT
UID:xuh9@192.168.245.71:3006
SEQUENCE:0
DTSTAMP:20260422T060054Z
DTSTART:20260210T070000Z
DTEND:20260210T084000Z
SUMMARY:Грузоведение
LOCATION:ЛабК 85 ВШТ
END:VEVENT
BEGIN:VEVENT
UID:vho9@192.168.245.71:3006
SEQUENCE:0
DTSTAMP:20260422T060054Z
DTSTART:20260210T090000Z
DTEND:20260210T104000Z
SUMMARY:Экологические вопросы транспорта
LOCATION:ЛабК 85 ВШТ
END:VEVENT
BEGIN:VEVENT
UID:eaov@192.168.245.71:3006
SEQUENCE:0
DTSTAMP:20260422T060054Z
DTSTART:20260210T110000Z
DTEND:20260210T124000Z
SUMMARY:Детали машин и основы конструирования
LOCATION:1 к. 412
END:VEVENT
BEGIN:VEVENT
UID:wvvp@192.168.245.71:3006
SEQUENCE:0
DTSTAMP:20260422T060054Z
DTSTART:20260211T090000Z
DTEND:20260211T104000Z
SUMMARY:Математическое и имитационное моделирование логистических процессо
 в (на английском языке)
LOCATION:ЛабК комп.класс ВШТ
END:VEVENT
BEGIN:VEVENT
UID:6glv@192.168.245.71:3006
SEQUENCE:0
DTSTAMP:20260422T060054Z
DTSTART:20260212T110000Z
DTEND:20260212T124000Z
SUMMARY:Элективная физическая культура и спорт
LOCATION:СК Секции
END:VEVENT
BEGIN:VEVENT
UID:s3zp@192.168.245.71:3006
SEQUENCE:0
DTSTAMP:20260422T060054Z
DTSTART:20260212T130000Z
DTEND:20260212T144000Z
SUMMARY:Транспортные обследования
LOCATION:ЛабК комп.класс ВШТ
END:VEVENT
BEGIN:VEVENT
UID:ky3u@192.168.245.71:3006
SEQUENCE:0
DTSTAMP:20260422T060054Z
DTSTART:20260213T090000Z
DTEND:20260213T104000Z
SUMMARY:Детали машин и основы конструирования
LOCATION:Мех. к. каф.Т ММ
END:VEVENT
BEGIN:VEVENT
UID:lvk2@192.168.245.71:3006
SEQUENCE:0
DTSTAMP:20260422T060054Z
DTSTART:20260213T110000Z
DTEND:20260213T124000Z
SUMMARY:Транспортные обследования
LOCATION:ЛабК 85 ВШТ
END:VEVENT
BEGIN:VEVENT
UID:blip@192.168.245.71:3006
SEQUENCE:0
DTSTAMP:20260422T060054Z
DTSTART:20260213T130000Z
DTEND:20260213T144000Z
SUMMARY:Математическое и имитационное моделирование логистических процессо
 в (на английском языке)
LOCATION:ЛабК комп.класс ВШТ
END:VEVENT
END:VCALENDAR