BEGIN:VCALENDAR
VERSION:2.0
PRODID:-//spbstu.ru//ical//RU
NAME:Расписание группы 3332301/40001
X-WR-CALNAME:Расписание группы 3332301/40001
TIMEZONE-ID:Europe/Moscow
X-WR-TIMEZONE:Europe/Moscow
BEGIN:VEVENT
UID:yoor@192.168.245.71:3006
SEQUENCE:0
DTSTAMP:20260421T152542Z
DTSTART:20260316T070000Z
DTEND:20260316T084000Z
SUMMARY:Основы логистики
LOCATION:ЛабК 85 ВШТ
END:VEVENT
BEGIN:VEVENT
UID:xh6d@192.168.245.71:3006
SEQUENCE:0
DTSTAMP:20260421T152542Z
DTSTART:20260316T090000Z
DTEND:20260316T104000Z
SUMMARY:Элективная физическая культура и спорт
LOCATION:СК Секции
END:VEVENT
BEGIN:VEVENT
UID:mpdj@192.168.245.71:3006
SEQUENCE:0
DTSTAMP:20260421T152542Z
DTSTART:20260316T110000Z
DTEND:20260316T124000Z
SUMMARY:Городские транспортные системы
LOCATION:ЛабК 85 ВШТ
END:VEVENT
BEGIN:VEVENT
UID:lucv@192.168.245.71:3006
SEQUENCE:0
DTSTAMP:20260421T152542Z
DTSTART:20260316T130000Z
DTEND:20260316T144000Z
SUMMARY:Безопасность жизнедеятельности
LOCATION:1 к. 41
END:VEVENT
BEGIN:VEVENT
UID:bsgs@192.168.245.71:3006
SEQUENCE:0
DTSTAMP:20260421T152542Z
DTSTART:20260317T060000Z
DTEND:20260317T065000Z
SUMMARY:Грузоведение
LOCATION:ЛабК 85 ВШТ
END:VEVENT
BEGIN:VEVENT
UID:uea3@192.168.245.71:3006
SEQUENCE:0
DTSTAMP:20260421T152542Z
DTSTART:20260317T070000Z
DTEND:20260317T084000Z
SUMMARY:Грузоведение
LOCATION:ЛабК 85 ВШТ
END:VEVENT
BEGIN:VEVENT
UID:t4q2@192.168.245.71:3006
SEQUENCE:0
DTSTAMP:20260421T152542Z
DTSTART:20260317T090000Z
DTEND:20260317T104000Z
SUMMARY:Экологические вопросы транспорта
LOCATION:ЛабК 85 ВШТ
END:VEVENT
BEGIN:VEVENT
UID:jjx9@192.168.245.71:3006
SEQUENCE:0
DTSTAMP:20260421T152542Z
DTSTART:20260317T110000Z
DTEND:20260317T124000Z
SUMMARY:Детали машин и основы конструирования
LOCATION:1 к. 412
END:VEVENT
BEGIN:VEVENT
UID:yl0b@192.168.245.71:3006
SEQUENCE:0
DTSTAMP:20260421T152542Z
DTSTART:20260318T070000Z
DTEND:20260318T084000Z
SUMMARY:Безопасность жизнедеятельности
LOCATION:ГК 106
END:VEVENT
BEGIN:VEVENT
UID:2bvj@192.168.245.71:3006
SEQUENCE:0
DTSTAMP:20260421T152542Z
DTSTART:20260318T090000Z
DTEND:20260318T104000Z
SUMMARY:Математическое и имитационное моделирование логистических процессо
 в (на английском языке)
LOCATION:ЛабК комп.класс ВШТ
END:VEVENT
BEGIN:VEVENT
UID:rcpz@192.168.245.71:3006
SEQUENCE:0
DTSTAMP:20260421T152542Z
DTSTART:20260319T110000Z
DTEND:20260319T124000Z
SUMMARY:Элективная физическая культура и спорт
LOCATION:СК Секции
END:VEVENT
BEGIN:VEVENT
UID:1v3t@192.168.245.71:3006
SEQUENCE:0
DTSTAMP:20260421T152542Z
DTSTART:20260319T130000Z
DTEND:20260319T144000Z
SUMMARY:Транспортные обследования
LOCATION:ЛабК комп.класс ВШТ
END:VEVENT
BEGIN:VEVENT
UID:9eia@192.168.245.71:3006
SEQUENCE:0
DTSTAMP:20260421T152542Z
DTSTART:20260320T090000Z
DTEND:20260320T104000Z
SUMMARY:Детали машин и основы конструирования
LOCATION:Мех. к. каф.Т ММ
END:VEVENT
BEGIN:VEVENT
UID:n4g3@192.168.245.71:3006
SEQUENCE:0
DTSTAMP:20260421T152542Z
DTSTART:20260320T110000Z
DTEND:20260320T124000Z
SUMMARY:Математическое и имитационное моделирование логистических процессо
 в (на английском языке)
LOCATION:ЛабК 85 ВШТ
END:VEVENT
BEGIN:VEVENT
UID:5v46@192.168.245.71:3006
SEQUENCE:0
DTSTAMP:20260421T152542Z
DTSTART:20260320T130000Z
DTEND:20260320T144000Z
SUMMARY:Математическое и имитационное моделирование логистических процессо
 в (на английском языке)
LOCATION:ЛабК комп.класс ВШТ
END:VEVENT
END:VCALENDAR