BEGIN:VCALENDAR
VERSION:2.0
PRODID:-//spbstu.ru//ical//RU
NAME:Расписание группы 3332301/40001
X-WR-CALNAME:Расписание группы 3332301/40001
TIMEZONE-ID:Europe/Moscow
X-WR-TIMEZONE:Europe/Moscow
BEGIN:VEVENT
UID:idnu@192.168.245.71:3006
SEQUENCE:0
DTSTAMP:20260421T051606Z
DTSTART:20260413T070000Z
DTEND:20260413T084000Z
SUMMARY:Основы логистики
LOCATION:ЛабК 85 ВШТ
END:VEVENT
BEGIN:VEVENT
UID:x9vf@192.168.245.71:3006
SEQUENCE:0
DTSTAMP:20260421T051606Z
DTSTART:20260413T090000Z
DTEND:20260413T104000Z
SUMMARY:Элективная физическая культура и спорт
LOCATION:СК Секции
END:VEVENT
BEGIN:VEVENT
UID:c82w@192.168.245.71:3006
SEQUENCE:0
DTSTAMP:20260421T051606Z
DTSTART:20260413T110000Z
DTEND:20260413T124000Z
SUMMARY:Городские транспортные системы
LOCATION:ЛабК 85 ВШТ
END:VEVENT
BEGIN:VEVENT
UID:xao6@192.168.245.71:3006
SEQUENCE:0
DTSTAMP:20260421T051606Z
DTSTART:20260413T130000Z
DTEND:20260413T144000Z
SUMMARY:Городские транспортные системы
LOCATION:ЛабК комп.класс ВШТ
END:VEVENT
BEGIN:VEVENT
UID:q1ve@192.168.245.71:3006
SEQUENCE:0
DTSTAMP:20260421T051606Z
DTSTART:20260413T130000Z
DTEND:20260413T150000Z
SUMMARY:Физика
LOCATION:ГЗ 283
END:VEVENT
BEGIN:VEVENT
UID:ra96@192.168.245.71:3006
SEQUENCE:0
DTSTAMP:20260421T051606Z
DTSTART:20260414T060000Z
DTEND:20260414T065000Z
SUMMARY:Грузоведение
LOCATION:ЛабК 85 ВШТ
END:VEVENT
BEGIN:VEVENT
UID:drrh@192.168.245.71:3006
SEQUENCE:0
DTSTAMP:20260421T051606Z
DTSTART:20260414T070000Z
DTEND:20260414T084000Z
SUMMARY:Грузоведение
LOCATION:ЛабК 85 ВШТ
END:VEVENT
BEGIN:VEVENT
UID:1o91@192.168.245.71:3006
SEQUENCE:0
DTSTAMP:20260421T051606Z
DTSTART:20260414T090000Z
DTEND:20260414T104000Z
SUMMARY:Экологические вопросы транспорта
LOCATION:ЛабК 85 ВШТ
END:VEVENT
BEGIN:VEVENT
UID:ejqj@192.168.245.71:3006
SEQUENCE:0
DTSTAMP:20260421T051606Z
DTSTART:20260414T110000Z
DTEND:20260414T124000Z
SUMMARY:Детали машин и основы конструирования
LOCATION:1 к. 412
END:VEVENT
BEGIN:VEVENT
UID:dthn@192.168.245.71:3006
SEQUENCE:0
DTSTAMP:20260421T051606Z
DTSTART:20260415T070000Z
DTEND:20260415T084000Z
SUMMARY:Безопасность жизнедеятельности
LOCATION:ГК 106
END:VEVENT
BEGIN:VEVENT
UID:hfp5@192.168.245.71:3006
SEQUENCE:0
DTSTAMP:20260421T051606Z
DTSTART:20260415T090000Z
DTEND:20260415T104000Z
SUMMARY:Математическое и имитационное моделирование логистических процессо
 в (на английском языке)
LOCATION:ЛабК комп.класс ВШТ
END:VEVENT
BEGIN:VEVENT
UID:96ee@192.168.245.71:3006
SEQUENCE:0
DTSTAMP:20260421T051606Z
DTSTART:20260415T150000Z
DTEND:20260415T170000Z
SUMMARY:Иностранный язык: Базовый курс
LOCATION:1 к. 413
END:VEVENT
BEGIN:VEVENT
UID:g0wx@192.168.245.71:3006
SEQUENCE:0
DTSTAMP:20260421T051606Z
DTSTART:20260416T110000Z
DTEND:20260416T124000Z
SUMMARY:Элективная физическая культура и спорт
LOCATION:СК Секции
END:VEVENT
BEGIN:VEVENT
UID:76c4@192.168.245.71:3006
SEQUENCE:0
DTSTAMP:20260421T051606Z
DTSTART:20260416T130000Z
DTEND:20260416T144000Z
SUMMARY:Транспортные обследования
LOCATION:ЛабК комп.класс ВШТ
END:VEVENT
BEGIN:VEVENT
UID:eeji@192.168.245.71:3006
SEQUENCE:0
DTSTAMP:20260421T051606Z
DTSTART:20260417T090000Z
DTEND:20260417T104000Z
SUMMARY:Детали машин и основы конструирования
LOCATION:Мех. к. каф.Т ММ
END:VEVENT
BEGIN:VEVENT
UID:3g6l@192.168.245.71:3006
SEQUENCE:0
DTSTAMP:20260421T051606Z
DTSTART:20260417T110000Z
DTEND:20260417T124000Z
SUMMARY:Математическое и имитационное моделирование логистических процессо
 в (на английском языке)
LOCATION:ЛабК 85 ВШТ
END:VEVENT
BEGIN:VEVENT
UID:uh45@192.168.245.71:3006
SEQUENCE:0
DTSTAMP:20260421T051606Z
DTSTART:20260417T130000Z
DTEND:20260417T144000Z
SUMMARY:Математическое и имитационное моделирование логистических процессо
 в (на английском языке)
LOCATION:ЛабК комп.класс ВШТ
END:VEVENT
END:VCALENDAR