BEGIN:VCALENDAR
VERSION:2.0
PRODID:-//spbstu.ru//ical//RU
NAME:Расписание группы 3332301/40001
X-WR-CALNAME:Расписание группы 3332301/40001
TIMEZONE-ID:Europe/Moscow
X-WR-TIMEZONE:Europe/Moscow
BEGIN:VEVENT
UID:mzon@192.168.245.71:3006
SEQUENCE:0
DTSTAMP:20260421T051533Z
DTSTART:20260420T070000Z
DTEND:20260420T084000Z
SUMMARY:Основы логистики
LOCATION:ЛабК 85 ВШТ
END:VEVENT
BEGIN:VEVENT
UID:y377@192.168.245.71:3006
SEQUENCE:0
DTSTAMP:20260421T051533Z
DTSTART:20260420T090000Z
DTEND:20260420T104000Z
SUMMARY:Элективная физическая культура и спорт
LOCATION:СК Секции
END:VEVENT
BEGIN:VEVENT
UID:vcvz@192.168.245.71:3006
SEQUENCE:0
DTSTAMP:20260421T051533Z
DTSTART:20260420T110000Z
DTEND:20260420T124000Z
SUMMARY:Городские транспортные системы
LOCATION:ЛабК 85 ВШТ
END:VEVENT
BEGIN:VEVENT
UID:x91e@192.168.245.71:3006
SEQUENCE:0
DTSTAMP:20260421T051533Z
DTSTART:20260420T130000Z
DTEND:20260420T144000Z
SUMMARY:Городские транспортные системы
LOCATION:ЛабК комп.класс ВШТ
END:VEVENT
BEGIN:VEVENT
UID:q9ej@192.168.245.71:3006
SEQUENCE:0
DTSTAMP:20260421T051533Z
DTSTART:20260421T060000Z
DTEND:20260421T065000Z
SUMMARY:Грузоведение
LOCATION:ЛабК 85 ВШТ
END:VEVENT
BEGIN:VEVENT
UID:zmbu@192.168.245.71:3006
SEQUENCE:0
DTSTAMP:20260421T051533Z
DTSTART:20260421T070000Z
DTEND:20260421T084000Z
SUMMARY:Грузоведение
LOCATION:ЛабК 85 ВШТ
END:VEVENT
BEGIN:VEVENT
UID:99g8@192.168.245.71:3006
SEQUENCE:0
DTSTAMP:20260421T051533Z
DTSTART:20260421T090000Z
DTEND:20260421T104000Z
SUMMARY:Экологические вопросы транспорта
LOCATION:ЛабК 85 ВШТ
END:VEVENT
BEGIN:VEVENT
UID:iw89@192.168.245.71:3006
SEQUENCE:0
DTSTAMP:20260421T051533Z
DTSTART:20260421T110000Z
DTEND:20260421T124000Z
SUMMARY:Детали машин и основы конструирования
LOCATION:1 к. 412
END:VEVENT
BEGIN:VEVENT
UID:rxf7@192.168.245.71:3006
SEQUENCE:0
DTSTAMP:20260421T051533Z
DTSTART:20260422T090000Z
DTEND:20260422T104000Z
SUMMARY:Математическое и имитационное моделирование логистических процессо
 в (на английском языке)
LOCATION:ЛабК комп.класс ВШТ
END:VEVENT
BEGIN:VEVENT
UID:3wsv@192.168.245.71:3006
SEQUENCE:0
DTSTAMP:20260421T051533Z
DTSTART:20260423T110000Z
DTEND:20260423T124000Z
SUMMARY:Элективная физическая культура и спорт
LOCATION:СК Секции
END:VEVENT
BEGIN:VEVENT
UID:fx0h@192.168.245.71:3006
SEQUENCE:0
DTSTAMP:20260421T051533Z
DTSTART:20260423T130000Z
DTEND:20260423T144000Z
SUMMARY:Транспортные обследования
LOCATION:ЛабК комп.класс ВШТ
END:VEVENT
BEGIN:VEVENT
UID:8aee@192.168.245.71:3006
SEQUENCE:0
DTSTAMP:20260421T051533Z
DTSTART:20260424T090000Z
DTEND:20260424T104000Z
SUMMARY:Детали машин и основы конструирования
LOCATION:Мех. к. каф.Т ММ
END:VEVENT
BEGIN:VEVENT
UID:ao4q@192.168.245.71:3006
SEQUENCE:0
DTSTAMP:20260421T051533Z
DTSTART:20260424T110000Z
DTEND:20260424T124000Z
SUMMARY:Транспортные обследования
LOCATION:ЛабК 85 ВШТ
END:VEVENT
BEGIN:VEVENT
UID:xsks@192.168.245.71:3006
SEQUENCE:0
DTSTAMP:20260421T051533Z
DTSTART:20260424T130000Z
DTEND:20260424T144000Z
SUMMARY:Математическое и имитационное моделирование логистических процессо
 в (на английском языке)
LOCATION:ЛабК комп.класс ВШТ
END:VEVENT
END:VCALENDAR