BEGIN:VCALENDAR
VERSION:2.0
PRODID:-//spbstu.ru//ical//RU
NAME:Расписание группы 3332705/40001
X-WR-CALNAME:Расписание группы 3332705/40001
TIMEZONE-ID:Europe/Moscow
X-WR-TIMEZONE:Europe/Moscow
BEGIN:VEVENT
UID:kszu@192.168.245.71:3006
SEQUENCE:0
DTSTAMP:20260423T011547Z
DTSTART:20260216T050000Z
DTEND:20260216T054500Z
SUMMARY:Элективная физическая культура и спорт
LOCATION:СК Секции
END:VEVENT
BEGIN:VEVENT
UID:mswi@192.168.245.71:3006
SEQUENCE:0
DTSTAMP:20260423T011547Z
DTSTART:20260216T090000Z
DTEND:20260216T104000Z
SUMMARY:Элективная физическая культура и спорт
LOCATION:СК Секции
END:VEVENT
BEGIN:VEVENT
UID:f1u6@192.168.245.71:3006
SEQUENCE:0
DTSTAMP:20260423T011547Z
DTSTART:20260216T110000Z
DTEND:20260216T124000Z
SUMMARY:Теория вероятностей и математическая статистика
LOCATION:11 к. 344
END:VEVENT
BEGIN:VEVENT
UID:o62k@192.168.245.71:3006
SEQUENCE:0
DTSTAMP:20260423T011547Z
DTSTART:20260216T130000Z
DTEND:20260216T144000Z
SUMMARY:Безопасность жизнедеятельности
LOCATION:1 к. 41
END:VEVENT
BEGIN:VEVENT
UID:j2db@192.168.245.71:3006
SEQUENCE:0
DTSTAMP:20260423T011547Z
DTSTART:20260217T110000Z
DTEND:20260217T124000Z
SUMMARY:Теория вероятностей и математическая статистика
LOCATION:ГЗ 224
END:VEVENT
BEGIN:VEVENT
UID:lsoc@192.168.245.71:3006
SEQUENCE:0
DTSTAMP:20260423T011547Z
DTSTART:20260217T130000Z
DTEND:20260217T144000Z
SUMMARY:Теоретическая инноватика
LOCATION:11 к. 344
END:VEVENT
BEGIN:VEVENT
UID:lkp9@192.168.245.71:3006
SEQUENCE:0
DTSTAMP:20260423T011547Z
DTSTART:20260218T070000Z
DTEND:20260218T084000Z
SUMMARY:Системный анализ и принятие решений
LOCATION:ГЗ 224
END:VEVENT
BEGIN:VEVENT
UID:95re@192.168.245.71:3006
SEQUENCE:0
DTSTAMP:20260423T011547Z
DTSTART:20260218T110000Z
DTEND:20260218T124000Z
SUMMARY:Иностранный язык. Профессионально-ориентированный курс
LOCATION:1 к. 417
END:VEVENT
BEGIN:VEVENT
UID:jz2z@192.168.245.71:3006
SEQUENCE:0
DTSTAMP:20260423T011547Z
DTSTART:20260218T130000Z
DTEND:20260218T144000Z
SUMMARY:Проектирование баз данных и информационных систем
LOCATION:11 к. 344
END:VEVENT
BEGIN:VEVENT
UID:nwdt@192.168.245.71:3006
SEQUENCE:0
DTSTAMP:20260423T011547Z
DTSTART:20260218T150000Z
DTEND:20260218T170000Z
SUMMARY:Проектирование баз данных и информационных систем
LOCATION:11 к. 344
END:VEVENT
BEGIN:VEVENT
UID:xzhy@192.168.245.71:3006
SEQUENCE:0
DTSTAMP:20260423T011547Z
DTSTART:20260219T110000Z
DTEND:20260219T124000Z
SUMMARY:Элективная физическая культура и спорт
LOCATION:СК Секции
END:VEVENT
BEGIN:VEVENT
UID:qkhs@192.168.245.71:3006
SEQUENCE:0
DTSTAMP:20260423T011547Z
DTSTART:20260219T150000Z
DTEND:20260219T170000Z
SUMMARY:Проектирование экологической деятельности
LOCATION:11 к. 344
END:VEVENT
BEGIN:VEVENT
UID:4wwf@192.168.245.71:3006
SEQUENCE:0
DTSTAMP:20260423T011547Z
DTSTART:20260219T150000Z
DTEND:20260219T170000Z
SUMMARY:Проектирование экологической деятельности
LOCATION:11 к. 344
END:VEVENT
BEGIN:VEVENT
UID:a9jk@192.168.245.71:3006
SEQUENCE:0
DTSTAMP:20260423T011547Z
DTSTART:20260221T070000Z
DTEND:20260221T084000Z
SUMMARY:Системный анализ и принятие решений
LOCATION:11 к. 345
END:VEVENT
BEGIN:VEVENT
UID:f3j2@192.168.245.71:3006
SEQUENCE:0
DTSTAMP:20260423T011547Z
DTSTART:20260221T090000Z
DTEND:20260221T104000Z
SUMMARY:Управление инновационной деятельностью
LOCATION:ГЗ 232
END:VEVENT
END:VCALENDAR