BEGIN:VCALENDAR
VERSION:2.0
PRODID:-//spbstu.ru//ical//RU
NAME:Расписание группы 3332705/40001
X-WR-CALNAME:Расписание группы 3332705/40001
TIMEZONE-ID:Europe/Moscow
X-WR-TIMEZONE:Europe/Moscow
BEGIN:VEVENT
UID:j2jp@192.168.245.71:3006
SEQUENCE:0
DTSTAMP:20260422T191039Z
DTSTART:20260311T070000Z
DTEND:20260311T084000Z
SUMMARY:Системный анализ и принятие решений
LOCATION:ГЗ 224
END:VEVENT
BEGIN:VEVENT
UID:41mr@192.168.245.71:3006
SEQUENCE:0
DTSTAMP:20260422T191039Z
DTSTART:20260311T090000Z
DTEND:20260311T104000Z
SUMMARY:Основы управления организационными системами
LOCATION:ГЗ 284
END:VEVENT
BEGIN:VEVENT
UID:emwd@192.168.245.71:3006
SEQUENCE:0
DTSTAMP:20260422T191039Z
DTSTART:20260311T110000Z
DTEND:20260311T124000Z
SUMMARY:Иностранный язык. Профессионально-ориентированный курс
LOCATION:1 к. 414
END:VEVENT
BEGIN:VEVENT
UID:0i82@192.168.245.71:3006
SEQUENCE:0
DTSTAMP:20260422T191039Z
DTSTART:20260311T130000Z
DTEND:20260311T144000Z
SUMMARY:Проектирование баз данных и информационных систем
LOCATION:11 к. 344
END:VEVENT
BEGIN:VEVENT
UID:wrjf@192.168.245.71:3006
SEQUENCE:0
DTSTAMP:20260422T191039Z
DTSTART:20260312T110000Z
DTEND:20260312T124000Z
SUMMARY:Элективная физическая культура и спорт
LOCATION:СК Секции
END:VEVENT
BEGIN:VEVENT
UID:qbxa@192.168.245.71:3006
SEQUENCE:0
DTSTAMP:20260422T191039Z
DTSTART:20260313T070000Z
DTEND:20260313T084000Z
SUMMARY:Безопасность жизнедеятельности
LOCATION:ГК 106
END:VEVENT
BEGIN:VEVENT
UID:e9m1@192.168.245.71:3006
SEQUENCE:0
DTSTAMP:20260422T191039Z
DTSTART:20260314T090000Z
DTEND:20260314T104000Z
SUMMARY:Управление инновационной деятельностью
LOCATION:1 к. 41
END:VEVENT
END:VCALENDAR