BEGIN:VCALENDAR
VERSION:2.0
PRODID:-//spbstu.ru//ical//RU
NAME:Расписание группы 3332801/40001
X-WR-CALNAME:Расписание группы 3332801/40001
TIMEZONE-ID:Europe/Moscow
X-WR-TIMEZONE:Europe/Moscow
BEGIN:VEVENT
UID:t811@192.168.245.71:3006
SEQUENCE:0
DTSTAMP:20260424T164926Z
DTSTART:20251020T060000Z
DTEND:20251020T084000Z
SUMMARY:Иностранный язык: Русский язык как иностранный
LOCATION:1 к. 422
END:VEVENT
BEGIN:VEVENT
UID:z3t8@192.168.245.71:3006
SEQUENCE:0
DTSTAMP:20260424T164926Z
DTSTART:20251020T090000Z
DTEND:20251020T104000Z
SUMMARY:Элективная физическая культура и спорт
LOCATION:СК Секции
END:VEVENT
BEGIN:VEVENT
UID:au7l@192.168.245.71:3006
SEQUENCE:0
DTSTAMP:20260424T164926Z
DTSTART:20251020T110000Z
DTEND:20251020T124000Z
SUMMARY:Теоретическая механика
LOCATION:1 к. 41
END:VEVENT
BEGIN:VEVENT
UID:0vbl@192.168.245.71:3006
SEQUENCE:0
DTSTAMP:20260424T164926Z
DTSTART:20251020T130000Z
DTEND:20251020T144000Z
SUMMARY:Теоретическая механика
LOCATION:Хим. к. 47
END:VEVENT
BEGIN:VEVENT
UID:gmwo@192.168.245.71:3006
SEQUENCE:0
DTSTAMP:20260424T164926Z
DTSTART:20251021T050000Z
DTEND:20251021T084000Z
SUMMARY:Физическая химия
LOCATION:Хим. к. 3
END:VEVENT
BEGIN:VEVENT
UID:6qhi@192.168.245.71:3006
SEQUENCE:0
DTSTAMP:20260424T164926Z
DTSTART:20251021T050000Z
DTEND:20251021T084000Z
SUMMARY:Физическая химия
LOCATION:Хим. к. 3
END:VEVENT
BEGIN:VEVENT
UID:2eqs@192.168.245.71:3006
SEQUENCE:0
DTSTAMP:20260424T164926Z
DTSTART:20251021T050000Z
DTEND:20251021T064000Z
SUMMARY:Факультатив по основам методологии научных исследований
LOCATION:1 к. 413
END:VEVENT
BEGIN:VEVENT
UID:z1ry@192.168.245.71:3006
SEQUENCE:0
DTSTAMP:20260424T164926Z
DTSTART:20251021T090000Z
DTEND:20251021T104000Z
SUMMARY:Высшая математика
LOCATION:ЛабК 203
END:VEVENT
BEGIN:VEVENT
UID:dhfe@192.168.245.71:3006
SEQUENCE:0
DTSTAMP:20260424T164926Z
DTSTART:20251021T110000Z
DTEND:20251021T124000Z
SUMMARY:Иностранный язык: Базовый курс
LOCATION:1 к. 419
END:VEVENT
BEGIN:VEVENT
UID:k6i8@192.168.245.71:3006
SEQUENCE:0
DTSTAMP:20260424T164926Z
DTSTART:20251021T130000Z
DTEND:20251021T144000Z
SUMMARY:Компьютерная графика
LOCATION:Хим. к. 56
END:VEVENT
BEGIN:VEVENT
UID:986p@192.168.245.71:3006
SEQUENCE:0
DTSTAMP:20260424T164926Z
DTSTART:20251021T150000Z
DTEND:20251021T173000Z
SUMMARY:Факультатив по физике
LOCATION:1 к. 412
END:VEVENT
BEGIN:VEVENT
UID:k6hi@192.168.245.71:3006
SEQUENCE:0
DTSTAMP:20260424T164926Z
DTSTART:20251022T050000Z
DTEND:20251022T084000Z
SUMMARY:Физическая химия
LOCATION:Хим. к. 3
END:VEVENT
BEGIN:VEVENT
UID:y02t@192.168.245.71:3006
SEQUENCE:0
DTSTAMP:20260424T164926Z
DTSTART:20251022T050000Z
DTEND:20251022T064000Z
SUMMARY:Факультатив по физике
LOCATION:1 к. 412
END:VEVENT
BEGIN:VEVENT
UID:2ntw@192.168.245.71:3006
SEQUENCE:0
DTSTAMP:20260424T164926Z
DTSTART:20251022T090000Z
DTEND:20251022T104000Z
SUMMARY:Физическая химия
LOCATION:ГЗ 101
END:VEVENT
BEGIN:VEVENT
UID:5xqw@192.168.245.71:3006
SEQUENCE:0
DTSTAMP:20260424T164926Z
DTSTART:20251022T110000Z
DTEND:20251022T124000Z
SUMMARY:Физическая химия
LOCATION:Хим. к. 3
END:VEVENT
BEGIN:VEVENT
UID:jr9i@192.168.245.71:3006
SEQUENCE:0
DTSTAMP:20260424T164926Z
DTSTART:20251022T130000Z
DTEND:20251022T151500Z
SUMMARY:Русский язык как иностранный. Язык специальности
LOCATION:15 к. 330
END:VEVENT
BEGIN:VEVENT
UID:i4ix@192.168.245.71:3006
SEQUENCE:0
DTSTAMP:20260424T164926Z
DTSTART:20251023T050000Z
DTEND:20251023T064000Z
SUMMARY:Факультатив по физике
LOCATION:1 к. 412
END:VEVENT
BEGIN:VEVENT
UID:83et@192.168.245.71:3006
SEQUENCE:0
DTSTAMP:20260424T164926Z
DTSTART:20251023T060000Z
DTEND:20251023T083000Z
SUMMARY:Физика
LOCATION:3 к. 201
END:VEVENT
BEGIN:VEVENT
UID:vzq4@192.168.245.71:3006
SEQUENCE:0
DTSTAMP:20260424T164926Z
DTSTART:20251023T090000Z
DTEND:20251023T104000Z
SUMMARY:Физика
LOCATION:1 к. 440
END:VEVENT
BEGIN:VEVENT
UID:rhyh@192.168.245.71:3006
SEQUENCE:0
DTSTAMP:20260424T164926Z
DTSTART:20251023T110000Z
DTEND:20251023T124000Z
SUMMARY:Элективная физическая культура и спорт
LOCATION:СК Секции
END:VEVENT
BEGIN:VEVENT
UID:6445@192.168.245.71:3006
SEQUENCE:0
DTSTAMP:20260424T164926Z
DTSTART:20251023T130000Z
DTEND:20251023T144000Z
SUMMARY:Факультатив по математике
LOCATION:ГЗ 153
END:VEVENT
BEGIN:VEVENT
UID:it44@192.168.245.71:3006
SEQUENCE:0
DTSTAMP:20260424T164926Z
DTSTART:20251024T090000Z
DTEND:20251024T104000Z
SUMMARY:Органическая химия
LOCATION:Хим. к. 47
END:VEVENT
BEGIN:VEVENT
UID:z4z5@192.168.245.71:3006
SEQUENCE:0
DTSTAMP:20260424T164926Z
DTSTART:20251024T110000Z
DTEND:20251024T124000Z
SUMMARY:Компьютерная графика
LOCATION:Хим. к. 56
END:VEVENT
BEGIN:VEVENT
UID:o5o2@192.168.245.71:3006
SEQUENCE:0
DTSTAMP:20260424T164926Z
DTSTART:20251025T060000Z
DTEND:20251025T074000Z
SUMMARY:Кристаллография и кристаллохимия
LOCATION:Хим. к. 51
END:VEVENT
BEGIN:VEVENT
UID:3wvz@192.168.245.71:3006
SEQUENCE:0
DTSTAMP:20260424T164926Z
DTSTART:20251025T080000Z
DTEND:20251025T104000Z
SUMMARY:Кристаллография и кристаллохимия
LOCATION:Хим. к. 51
END:VEVENT
BEGIN:VEVENT
UID:j0le@192.168.245.71:3006
SEQUENCE:0
DTSTAMP:20260424T164926Z
DTSTART:20251025T110000Z
DTEND:20251025T124000Z
SUMMARY:Кристаллография и кристаллохимия
LOCATION:Хим. к. 51
END:VEVENT
BEGIN:VEVENT
UID:crck@192.168.245.71:3006
SEQUENCE:0
DTSTAMP:20260424T164926Z
DTSTART:20251025T130000Z
DTEND:20251025T144000Z
SUMMARY:Кристаллография и кристаллохимия
LOCATION:Хим. к. 51
END:VEVENT
END:VCALENDAR