BEGIN:VCALENDAR
VERSION:2.0
PRODID:-//spbstu.ru//ical//RU
NAME:Расписание группы 3332801/40001
X-WR-CALNAME:Расписание группы 3332801/40001
TIMEZONE-ID:Europe/Moscow
X-WR-TIMEZONE:Europe/Moscow
BEGIN:VEVENT
UID:zttq@192.168.245.71:3006
SEQUENCE:0
DTSTAMP:20260424T021625Z
DTSTART:20251117T060000Z
DTEND:20251117T084000Z
SUMMARY:Иностранный язык: Русский язык как иностранный
LOCATION:1 к. 422
END:VEVENT
BEGIN:VEVENT
UID:08ra@192.168.245.71:3006
SEQUENCE:0
DTSTAMP:20260424T021625Z
DTSTART:20251117T090000Z
DTEND:20251117T104000Z
SUMMARY:Элективная физическая культура и спорт
LOCATION:СК Секции
END:VEVENT
BEGIN:VEVENT
UID:imva@192.168.245.71:3006
SEQUENCE:0
DTSTAMP:20260424T021625Z
DTSTART:20251117T110000Z
DTEND:20251117T124000Z
SUMMARY:Теоретическая механика
LOCATION:Хим. к. 52
END:VEVENT
BEGIN:VEVENT
UID:tlnf@192.168.245.71:3006
SEQUENCE:0
DTSTAMP:20260424T021625Z
DTSTART:20251117T130000Z
DTEND:20251117T144000Z
SUMMARY:Теоретическая механика
LOCATION:Хим. к. 47
END:VEVENT
BEGIN:VEVENT
UID:4icr@192.168.245.71:3006
SEQUENCE:0
DTSTAMP:20260424T021625Z
DTSTART:20251118T050000Z
DTEND:20251118T064000Z
SUMMARY:Факультатив по основам методологии научных исследований
LOCATION:1 к. 413
END:VEVENT
BEGIN:VEVENT
UID:3e6o@192.168.245.71:3006
SEQUENCE:0
DTSTAMP:20260424T021625Z
DTSTART:20251118T050000Z
DTEND:20251118T084000Z
SUMMARY:Физическая химия
LOCATION:Хим. к. 3
END:VEVENT
BEGIN:VEVENT
UID:lwv9@192.168.245.71:3006
SEQUENCE:0
DTSTAMP:20260424T021625Z
DTSTART:20251118T050000Z
DTEND:20251118T084000Z
SUMMARY:Физическая химия
LOCATION:Хим. к. 3
END:VEVENT
BEGIN:VEVENT
UID:l6ta@192.168.245.71:3006
SEQUENCE:0
DTSTAMP:20260424T021625Z
DTSTART:20251118T090000Z
DTEND:20251118T104000Z
SUMMARY:Высшая математика
LOCATION:ЛабК 203
END:VEVENT
BEGIN:VEVENT
UID:8puw@192.168.245.71:3006
SEQUENCE:0
DTSTAMP:20260424T021625Z
DTSTART:20251118T110000Z
DTEND:20251118T124000Z
SUMMARY:Иностранный язык: Базовый курс
LOCATION:1 к. 419
END:VEVENT
BEGIN:VEVENT
UID:dl7s@192.168.245.71:3006
SEQUENCE:0
DTSTAMP:20260424T021625Z
DTSTART:20251118T130000Z
DTEND:20251118T144000Z
SUMMARY:Компьютерная графика
LOCATION:Хим. к. 56
END:VEVENT
BEGIN:VEVENT
UID:m15b@192.168.245.71:3006
SEQUENCE:0
DTSTAMP:20260424T021625Z
DTSTART:20251118T150000Z
DTEND:20251118T173000Z
SUMMARY:Факультатив по физике
LOCATION:1 к. 412
END:VEVENT
BEGIN:VEVENT
UID:w5yu@192.168.245.71:3006
SEQUENCE:0
DTSTAMP:20260424T021625Z
DTSTART:20251119T050000Z
DTEND:20251119T064000Z
SUMMARY:Факультатив по физике
LOCATION:1 к. 412
END:VEVENT
BEGIN:VEVENT
UID:za9j@192.168.245.71:3006
SEQUENCE:0
DTSTAMP:20260424T021625Z
DTSTART:20251119T050000Z
DTEND:20251119T084000Z
SUMMARY:Физическая химия
LOCATION:Хим. к. 3
END:VEVENT
BEGIN:VEVENT
UID:7xq3@192.168.245.71:3006
SEQUENCE:0
DTSTAMP:20260424T021625Z
DTSTART:20251119T090000Z
DTEND:20251119T104000Z
SUMMARY:Физическая химия
LOCATION:Хим. к. 52
END:VEVENT
BEGIN:VEVENT
UID:pxiz@192.168.245.71:3006
SEQUENCE:0
DTSTAMP:20260424T021625Z
DTSTART:20251119T110000Z
DTEND:20251119T124000Z
SUMMARY:Физическая химия
LOCATION:Хим. к. 3
END:VEVENT
BEGIN:VEVENT
UID:7xfv@192.168.245.71:3006
SEQUENCE:0
DTSTAMP:20260424T021625Z
DTSTART:20251119T130000Z
DTEND:20251119T151500Z
SUMMARY:Русский язык как иностранный. Язык специальности
LOCATION:15 к. 330
END:VEVENT
BEGIN:VEVENT
UID:qsnc@192.168.245.71:3006
SEQUENCE:0
DTSTAMP:20260424T021625Z
DTSTART:20251120T050000Z
DTEND:20251120T064000Z
SUMMARY:Факультатив по физике
LOCATION:1 к. 412
END:VEVENT
BEGIN:VEVENT
UID:379p@192.168.245.71:3006
SEQUENCE:0
DTSTAMP:20260424T021625Z
DTSTART:20251120T060000Z
DTEND:20251120T083000Z
SUMMARY:Физика
LOCATION:ГЗ 153
END:VEVENT
BEGIN:VEVENT
UID:6y2d@192.168.245.71:3006
SEQUENCE:0
DTSTAMP:20260424T021625Z
DTSTART:20251120T090000Z
DTEND:20251120T104000Z
SUMMARY:Физика
LOCATION:1 к. 440
END:VEVENT
BEGIN:VEVENT
UID:r34x@192.168.245.71:3006
SEQUENCE:0
DTSTAMP:20260424T021625Z
DTSTART:20251120T110000Z
DTEND:20251120T124000Z
SUMMARY:Элективная физическая культура и спорт
LOCATION:СК Секции
END:VEVENT
BEGIN:VEVENT
UID:uvx5@192.168.245.71:3006
SEQUENCE:0
DTSTAMP:20260424T021625Z
DTSTART:20251120T130000Z
DTEND:20251120T144000Z
SUMMARY:Факультатив по математике
LOCATION:ГЗ 153
END:VEVENT
BEGIN:VEVENT
UID:mzk4@192.168.245.71:3006
SEQUENCE:0
DTSTAMP:20260424T021625Z
DTSTART:20251121T090000Z
DTEND:20251121T104000Z
SUMMARY:Органическая химия
LOCATION:Хим. к. 47
END:VEVENT
BEGIN:VEVENT
UID:6iji@192.168.245.71:3006
SEQUENCE:0
DTSTAMP:20260424T021625Z
DTSTART:20251121T110000Z
DTEND:20251121T124000Z
SUMMARY:Компьютерная графика
LOCATION:Хим. к. 56
END:VEVENT
BEGIN:VEVENT
UID:11i2@192.168.245.71:3006
SEQUENCE:0
DTSTAMP:20260424T021625Z
DTSTART:20251122T060000Z
DTEND:20251122T074000Z
SUMMARY:Кристаллография и кристаллохимия
LOCATION:Хим. к. 51
END:VEVENT
BEGIN:VEVENT
UID:p7tv@192.168.245.71:3006
SEQUENCE:0
DTSTAMP:20260424T021625Z
DTSTART:20251122T080000Z
DTEND:20251122T104000Z
SUMMARY:Кристаллография и кристаллохимия
LOCATION:Хим. к. 51
END:VEVENT
BEGIN:VEVENT
UID:z362@192.168.245.71:3006
SEQUENCE:0
DTSTAMP:20260424T021625Z
DTSTART:20251122T110000Z
DTEND:20251122T124000Z
SUMMARY:Кристаллография и кристаллохимия
LOCATION:Хим. к. 51
END:VEVENT
BEGIN:VEVENT
UID:2h9r@192.168.245.71:3006
SEQUENCE:0
DTSTAMP:20260424T021625Z
DTSTART:20251122T130000Z
DTEND:20251122T144000Z
SUMMARY:Кристаллография и кристаллохимия
LOCATION:Хим. к. 51
END:VEVENT
END:VCALENDAR