BEGIN:VCALENDAR
VERSION:2.0
PRODID:-//spbstu.ru//ical//RU
NAME:Расписание группы 3332801/40001
X-WR-CALNAME:Расписание группы 3332801/40001
TIMEZONE-ID:Europe/Moscow
X-WR-TIMEZONE:Europe/Moscow
BEGIN:VEVENT
UID:guj9@192.168.245.71:3006
SEQUENCE:0
DTSTAMP:20260422T121448Z
DTSTART:20260202T070000Z
DTEND:20260202T084000Z
SUMMARY:Физика конденсированного состояния
LOCATION:2 к. 214
END:VEVENT
BEGIN:VEVENT
UID:y9xr@192.168.245.71:3006
SEQUENCE:0
DTSTAMP:20260422T121448Z
DTSTART:20260202T070000Z
DTEND:20260202T084000Z
SUMMARY:Физика конденсированного состояния
LOCATION:2 к. 214
END:VEVENT
BEGIN:VEVENT
UID:whiq@192.168.245.71:3006
SEQUENCE:0
DTSTAMP:20260422T121448Z
DTSTART:20260202T110000Z
DTEND:20260202T133000Z
SUMMARY:Электротехника
LOCATION:Хим. к. 52
END:VEVENT
BEGIN:VEVENT
UID:wowg@192.168.245.71:3006
SEQUENCE:0
DTSTAMP:20260422T121448Z
DTSTART:20260203T050000Z
DTEND:20260203T064000Z
SUMMARY:Безопасность жизнедеятельности
LOCATION:Хим. к. 52
END:VEVENT
BEGIN:VEVENT
UID:w8mt@192.168.245.71:3006
SEQUENCE:0
DTSTAMP:20260422T121448Z
DTSTART:20260203T070000Z
DTEND:20260203T084000Z
SUMMARY:Высшая математика (продвинутый уровень)
LOCATION:Хим. к. 52
END:VEVENT
BEGIN:VEVENT
UID:faxs@192.168.245.71:3006
SEQUENCE:0
DTSTAMP:20260422T121448Z
DTSTART:20260203T090000Z
DTEND:20260203T104000Z
SUMMARY:Физическая химия
LOCATION:Хим. к. 3
END:VEVENT
BEGIN:VEVENT
UID:04fc@192.168.245.71:3006
SEQUENCE:0
DTSTAMP:20260422T121448Z
DTSTART:20260203T110000Z
DTEND:20260203T140000Z
SUMMARY:Физическая химия
LOCATION:Хим. к. 3
END:VEVENT
BEGIN:VEVENT
UID:any6@192.168.245.71:3006
SEQUENCE:0
DTSTAMP:20260422T121448Z
DTSTART:20260203T110000Z
DTEND:20260203T140000Z
SUMMARY:Физическая химия
LOCATION:Хим. к. 3
END:VEVENT
BEGIN:VEVENT
UID:d6e6@192.168.245.71:3006
SEQUENCE:0
DTSTAMP:20260422T121448Z
DTSTART:20260204T060000Z
DTEND:20260204T070000Z
SUMMARY:Основы проектной деятельности
LOCATION:DL Дистанционно
END:VEVENT
BEGIN:VEVENT
UID:sd8v@192.168.245.71:3006
SEQUENCE:0
DTSTAMP:20260422T121448Z
DTSTART:20260204T070000Z
DTEND:20260204T084000Z
SUMMARY:Измерение электрических и неэлектрических величин
LOCATION:3 к. 507
END:VEVENT
BEGIN:VEVENT
UID:4fzt@192.168.245.71:3006
SEQUENCE:0
DTSTAMP:20260422T121448Z
DTSTART:20260204T090000Z
DTEND:20260204T104000Z
SUMMARY:Измерение электрических и неэлектрических величин
LOCATION:3 к. 506
END:VEVENT
BEGIN:VEVENT
UID:wkha@192.168.245.71:3006
SEQUENCE:0
DTSTAMP:20260422T121448Z
DTSTART:20260204T110000Z
DTEND:20260204T124000Z
SUMMARY:Измерение электрических и неэлектрических величин
LOCATION:3 к. 507
END:VEVENT
BEGIN:VEVENT
UID:7zgm@192.168.245.71:3006
SEQUENCE:0
DTSTAMP:20260422T121448Z
DTSTART:20260204T130000Z
DTEND:20260204T144000Z
SUMMARY:Электротехника
LOCATION:17 уч.к. 314
END:VEVENT
BEGIN:VEVENT
UID:8hka@192.168.245.71:3006
SEQUENCE:0
DTSTAMP:20260422T121448Z
DTSTART:20260204T130000Z
DTEND:20260204T144000Z
SUMMARY:Электротехника
LOCATION:17 уч.к. 310
END:VEVENT
BEGIN:VEVENT
UID:639y@192.168.245.71:3006
SEQUENCE:0
DTSTAMP:20260422T121448Z
DTSTART:20260205T070000Z
DTEND:20260205T084000Z
SUMMARY:Физика конденсированного состояния
LOCATION:2 к. 209
END:VEVENT
BEGIN:VEVENT
UID:nxcc@192.168.245.71:3006
SEQUENCE:0
DTSTAMP:20260422T121448Z
DTSTART:20260205T090000Z
DTEND:20260205T104000Z
SUMMARY:Физика конденсированного состояния
LOCATION:2 к. 209
END:VEVENT
BEGIN:VEVENT
UID:hyk8@192.168.245.71:3006
SEQUENCE:0
DTSTAMP:20260422T121448Z
DTSTART:20260205T130000Z
DTEND:20260205T144000Z
SUMMARY:Основы проектной деятельности
LOCATION:Хим. к. 51
END:VEVENT
BEGIN:VEVENT
UID:bx6z@192.168.245.71:3006
SEQUENCE:0
DTSTAMP:20260422T121448Z
DTSTART:20260206T060000Z
DTEND:20260206T065000Z
SUMMARY:Сопротивление материалов
LOCATION:ЛабК 203
END:VEVENT
BEGIN:VEVENT
UID:gbbg@192.168.245.71:3006
SEQUENCE:0
DTSTAMP:20260422T121448Z
DTSTART:20260206T070000Z
DTEND:20260206T084000Z
SUMMARY:Сопротивление материалов
LOCATION:ЛабК 203
END:VEVENT
BEGIN:VEVENT
UID:vqzj@192.168.245.71:3006
SEQUENCE:0
DTSTAMP:20260422T121448Z
DTSTART:20260206T090000Z
DTEND:20260206T104000Z
SUMMARY:Сопротивление материалов
LOCATION:Хим. к. 51
END:VEVENT
BEGIN:VEVENT
UID:l58v@192.168.245.71:3006
SEQUENCE:0
DTSTAMP:20260422T121448Z
DTSTART:20260206T110000Z
DTEND:20260206T124000Z
SUMMARY:Безопасность жизнедеятельности
LOCATION:ГК 106
END:VEVENT
END:VCALENDAR