BEGIN:VCALENDAR
VERSION:2.0
PRODID:-//spbstu.ru//ical//RU
NAME:Расписание группы 3332801/40001
X-WR-CALNAME:Расписание группы 3332801/40001
TIMEZONE-ID:Europe/Moscow
X-WR-TIMEZONE:Europe/Moscow
BEGIN:VEVENT
UID:keft@192.168.245.71:3006
SEQUENCE:0
DTSTAMP:20260421T084927Z
DTSTART:20260511T070000Z
DTEND:20260511T084000Z
SUMMARY:Физика конденсированного состояния
LOCATION:2 к. 214
END:VEVENT
BEGIN:VEVENT
UID:c65w@192.168.245.71:3006
SEQUENCE:0
DTSTAMP:20260421T084927Z
DTSTART:20260511T070000Z
DTEND:20260511T084000Z
SUMMARY:Физика конденсированного состояния
LOCATION:2 к. 214
END:VEVENT
BEGIN:VEVENT
UID:23bm@192.168.245.71:3006
SEQUENCE:0
DTSTAMP:20260421T084927Z
DTSTART:20260511T090000Z
DTEND:20260511T104000Z
SUMMARY:Элективная физическая культура и спорт
LOCATION:СК Секции
END:VEVENT
BEGIN:VEVENT
UID:usqh@192.168.245.71:3006
SEQUENCE:0
DTSTAMP:20260421T084927Z
DTSTART:20260511T110000Z
DTEND:20260511T133000Z
SUMMARY:Электротехника
LOCATION:Хим. к. 52
END:VEVENT
BEGIN:VEVENT
UID:jyee@192.168.245.71:3006
SEQUENCE:0
DTSTAMP:20260421T084927Z
DTSTART:20260512T070000Z
DTEND:20260512T084000Z
SUMMARY:Высшая математика (продвинутый уровень)
LOCATION:Хим. к. 52
END:VEVENT
BEGIN:VEVENT
UID:2m46@192.168.245.71:3006
SEQUENCE:0
DTSTAMP:20260421T084927Z
DTSTART:20260512T090000Z
DTEND:20260512T104000Z
SUMMARY:Физическая химия
LOCATION:Хим. к. 3
END:VEVENT
BEGIN:VEVENT
UID:2s59@192.168.245.71:3006
SEQUENCE:0
DTSTAMP:20260421T084927Z
DTSTART:20260512T110000Z
DTEND:20260512T140000Z
SUMMARY:Физическая химия
LOCATION:Хим. к. 3
END:VEVENT
BEGIN:VEVENT
UID:zfl9@192.168.245.71:3006
SEQUENCE:0
DTSTAMP:20260421T084927Z
DTSTART:20260512T110000Z
DTEND:20260512T140000Z
SUMMARY:Физическая химия
LOCATION:Хим. к. 3
END:VEVENT
BEGIN:VEVENT
UID:zvgo@192.168.245.71:3006
SEQUENCE:0
DTSTAMP:20260421T084927Z
DTSTART:20260513T070000Z
DTEND:20260513T084000Z
SUMMARY:Измерение электрических и неэлектрических величин
LOCATION:3 к. 507
END:VEVENT
BEGIN:VEVENT
UID:57u4@192.168.245.71:3006
SEQUENCE:0
DTSTAMP:20260421T084927Z
DTSTART:20260513T090000Z
DTEND:20260513T104000Z
SUMMARY:Измерение электрических и неэлектрических величин
LOCATION:3 к. 506
END:VEVENT
BEGIN:VEVENT
UID:jono@192.168.245.71:3006
SEQUENCE:0
DTSTAMP:20260421T084927Z
DTSTART:20260513T110000Z
DTEND:20260513T124000Z
SUMMARY:Измерение электрических и неэлектрических величин
LOCATION:3 к. 507
END:VEVENT
BEGIN:VEVENT
UID:oyc4@192.168.245.71:3006
SEQUENCE:0
DTSTAMP:20260421T084927Z
DTSTART:20260513T130000Z
DTEND:20260513T144000Z
SUMMARY:Электротехника
LOCATION:17 уч.к. 310
END:VEVENT
BEGIN:VEVENT
UID:a7jw@192.168.245.71:3006
SEQUENCE:0
DTSTAMP:20260421T084927Z
DTSTART:20260513T130000Z
DTEND:20260513T144000Z
SUMMARY:Электротехника
LOCATION:17 уч.к. 314
END:VEVENT
BEGIN:VEVENT
UID:evre@192.168.245.71:3006
SEQUENCE:0
DTSTAMP:20260421T084927Z
DTSTART:20260514T070000Z
DTEND:20260514T084000Z
SUMMARY:Физика конденсированного состояния
LOCATION:2 к. 209
END:VEVENT
BEGIN:VEVENT
UID:z3gj@192.168.245.71:3006
SEQUENCE:0
DTSTAMP:20260421T084927Z
DTSTART:20260514T090000Z
DTEND:20260514T104000Z
SUMMARY:Физика конденсированного состояния
LOCATION:2 к. 209
END:VEVENT
BEGIN:VEVENT
UID:65v1@192.168.245.71:3006
SEQUENCE:0
DTSTAMP:20260421T084927Z
DTSTART:20260514T110000Z
DTEND:20260514T124000Z
SUMMARY:Элективная физическая культура и спорт
LOCATION:СК Секции
END:VEVENT
BEGIN:VEVENT
UID:ea19@192.168.245.71:3006
SEQUENCE:0
DTSTAMP:20260421T084927Z
DTSTART:20260515T060000Z
DTEND:20260515T065000Z
SUMMARY:Сопротивление материалов
LOCATION:ЛабК 203
END:VEVENT
BEGIN:VEVENT
UID:ikx3@192.168.245.71:3006
SEQUENCE:0
DTSTAMP:20260421T084927Z
DTSTART:20260515T070000Z
DTEND:20260515T084000Z
SUMMARY:Сопротивление материалов
LOCATION:ЛабК 203
END:VEVENT
BEGIN:VEVENT
UID:bsax@192.168.245.71:3006
SEQUENCE:0
DTSTAMP:20260421T084927Z
DTSTART:20260515T090000Z
DTEND:20260515T104000Z
SUMMARY:Сопротивление материалов
LOCATION:ГЗ 153
END:VEVENT
BEGIN:VEVENT
UID:l6oz@192.168.245.71:3006
SEQUENCE:0
DTSTAMP:20260421T084927Z
DTSTART:20260515T110000Z
DTEND:20260515T124000Z
SUMMARY:Безопасность жизнедеятельности
LOCATION:ГК 106
END:VEVENT
END:VCALENDAR